BEGIN:VCALENDAR
VERSION:2.0
PRODID:-//Building Hope Summit -&nbsp; - ECPv6.15.20//NONSGML v1.0//EN
CALSCALE:GREGORIAN
METHOD:PUBLISH
X-ORIGINAL-URL:https://buildinghopesummit.org
X-WR-CALDESC:Events for Building Hope Summit -&nbsp;
REFRESH-INTERVAL;VALUE=DURATION:PT1H
X-Robots-Tag:noindex
X-PUBLISHED-TTL:PT1H
BEGIN:VTIMEZONE
TZID:America/Denver
BEGIN:DAYLIGHT
TZOFFSETFROM:-0700
TZOFFSETTO:-0600
TZNAME:MDT
DTSTART:20230312T090000
END:DAYLIGHT
BEGIN:STANDARD
TZOFFSETFROM:-0600
TZOFFSETTO:-0700
TZNAME:MST
DTSTART:20231105T080000
END:STANDARD
BEGIN:DAYLIGHT
TZOFFSETFROM:-0700
TZOFFSETTO:-0600
TZNAME:MDT
DTSTART:20240310T090000
END:DAYLIGHT
BEGIN:STANDARD
TZOFFSETFROM:-0600
TZOFFSETTO:-0700
TZNAME:MST
DTSTART:20241103T080000
END:STANDARD
BEGIN:DAYLIGHT
TZOFFSETFROM:-0700
TZOFFSETTO:-0600
TZNAME:MDT
DTSTART:20250309T090000
END:DAYLIGHT
BEGIN:STANDARD
TZOFFSETFROM:-0600
TZOFFSETTO:-0700
TZNAME:MST
DTSTART:20251102T080000
END:STANDARD
END:VTIMEZONE
BEGIN:VEVENT
DTSTART;TZID=America/Denver:20240304T180000
DTEND;TZID=America/Denver:20240304T193000
DTSTAMP:20260423T034021
CREATED:20240129T223726Z
LAST-MODIFIED:20240129T223726Z
UID:13526-1709575200-1709580600@buildinghopesummit.org
SUMMARY:Modern Love: a group to support the unique challenges of dating and relationships in Summit County
DESCRIPTION:Do you find yourself constantly dating the “wrong” people or struggling to find someone you’re truly interested in?\nDo you jump in quickly or having trouble committing?\nLong nights swiping on the apps or are you newly single and experiencing the dating world again?\nWhatever your dating struggle is – this group can help you:\n-Understand your patterns around intimacy and connection\n-Learn why dating is so. damn. hard\n-Gain Clarity around desires\, needs\, and dating experiences\n-Learn healthy communication skills to improve your romantic connections
URL:https://buildinghopesummit.org/calendar_default/modern-love-a-group-to-support-the-unique-challenges-of-dating-and-relationships-in-summit-county/
LOCATION:CO
ATTACH;FMTTYPE=image/png:https://buildinghopesummit.org/wp-content/uploads/2024/01/unnamed-2-Hannah-Buzzo.png
END:VEVENT
END:VCALENDAR