BEGIN:VCALENDAR
VERSION:2.0
PRODID:-//Building Hope Summit -&nbsp; - ECPv6.15.18//NONSGML v1.0//EN
CALSCALE:GREGORIAN
METHOD:PUBLISH
X-ORIGINAL-URL:https://buildinghopesummit.org
X-WR-CALDESC:Events for Building Hope Summit -&nbsp;
REFRESH-INTERVAL;VALUE=DURATION:PT1H
X-Robots-Tag:noindex
X-PUBLISHED-TTL:PT1H
BEGIN:VTIMEZONE
TZID:America/Denver
BEGIN:DAYLIGHT
TZOFFSETFROM:-0700
TZOFFSETTO:-0600
TZNAME:MDT
DTSTART:20230312T090000
END:DAYLIGHT
BEGIN:STANDARD
TZOFFSETFROM:-0600
TZOFFSETTO:-0700
TZNAME:MST
DTSTART:20231105T080000
END:STANDARD
BEGIN:DAYLIGHT
TZOFFSETFROM:-0700
TZOFFSETTO:-0600
TZNAME:MDT
DTSTART:20240310T090000
END:DAYLIGHT
BEGIN:STANDARD
TZOFFSETFROM:-0600
TZOFFSETTO:-0700
TZNAME:MST
DTSTART:20241103T080000
END:STANDARD
BEGIN:DAYLIGHT
TZOFFSETFROM:-0700
TZOFFSETTO:-0600
TZNAME:MDT
DTSTART:20250309T090000
END:DAYLIGHT
BEGIN:STANDARD
TZOFFSETFROM:-0600
TZOFFSETTO:-0700
TZNAME:MST
DTSTART:20251102T080000
END:STANDARD
END:VTIMEZONE
BEGIN:VEVENT
DTSTART;TZID=America/Denver:20241003T180000
DTEND;TZID=America/Denver:20241003T200000
DTSTAMP:20260423T144021
CREATED:20240916T232309Z
LAST-MODIFIED:20240916T232309Z
UID:15750-1727978400-1727985600@buildinghopesummit.org
SUMMARY:My Sister Liv - Movie and panel discussion
DESCRIPTION:MY SISTER LIV is a rare and riveting journey into the life of a young girl and her loved ones. As Tess and her family learn to cope with unthinkable loss\, they begin the heartbreaking journey to understand the circumstances that led to Liv’s death and learn from experts who give real solutions and hope.  \nThe film has been approved by mental health professionals for youth ages 14 and up..
URL:https://buildinghopesummit.org/calendar_default/my-sister-liv-movie-and-panel-discussion-3/
LOCATION:Summit County Community and Senior Center\, 83 Nancy's Place\, Frisco\, CO\, 80443\, United States
CATEGORIES:Connecting Events
END:VEVENT
BEGIN:VEVENT
DTSTART;TZID=America/Denver:20241003T180000
DTEND;TZID=America/Denver:20241003T200000
DTSTAMP:20260423T144021
CREATED:20241003T120814Z
LAST-MODIFIED:20240916T231715Z
UID:15742-1727978400-1727985600@buildinghopesummit.org
SUMMARY:My Sister Liv -Movie and panel discussion
DESCRIPTION:MY SISTER LIV is a rare and riveting journey into the life of a young girl and her loved ones. As Tess and her family learn to cope with unthinkable loss\, they begin the heartbreaking journey to understand the circumstances that led to Liv’s death and learn from experts who give real solutions and hope.  \nThe film has been approved by mental health professionals for youth ages 14 and up.. 
URL:https://buildinghopesummit.org/calendar_default/my-sister-liv-movie-and-panel-discussion-2/
LOCATION:Frisco Senior and Community Center\, 83 Nancy's Place\, Frisco\, CO\, 80443\, United States
CATEGORIES:Connecting Events
END:VEVENT
END:VCALENDAR