BEGIN:VCALENDAR
VERSION:2.0
PRODID:-//Building Hope Summit -&nbsp; - ECPv6.15.20//NONSGML v1.0//EN
CALSCALE:GREGORIAN
METHOD:PUBLISH
X-WR-CALNAME:Building Hope Summit -&nbsp;
X-ORIGINAL-URL:https://buildinghopesummit.org
X-WR-CALDESC:Events for Building Hope Summit -&nbsp;
REFRESH-INTERVAL;VALUE=DURATION:PT1H
X-Robots-Tag:noindex
X-PUBLISHED-TTL:PT1H
BEGIN:VTIMEZONE
TZID:America/Denver
BEGIN:DAYLIGHT
TZOFFSETFROM:-0700
TZOFFSETTO:-0600
TZNAME:MDT
DTSTART:20240310T090000
END:DAYLIGHT
BEGIN:STANDARD
TZOFFSETFROM:-0600
TZOFFSETTO:-0700
TZNAME:MST
DTSTART:20241103T080000
END:STANDARD
BEGIN:DAYLIGHT
TZOFFSETFROM:-0700
TZOFFSETTO:-0600
TZNAME:MDT
DTSTART:20250309T090000
END:DAYLIGHT
BEGIN:STANDARD
TZOFFSETFROM:-0600
TZOFFSETTO:-0700
TZNAME:MST
DTSTART:20251102T080000
END:STANDARD
BEGIN:DAYLIGHT
TZOFFSETFROM:-0700
TZOFFSETTO:-0600
TZNAME:MDT
DTSTART:20260308T090000
END:DAYLIGHT
BEGIN:STANDARD
TZOFFSETFROM:-0600
TZOFFSETTO:-0700
TZNAME:MST
DTSTART:20261101T080000
END:STANDARD
END:VTIMEZONE
BEGIN:VEVENT
DTSTART;TZID=America/Denver:20250113T090000
DTEND;TZID=America/Denver:20250113T120000
DTSTAMP:20260422T191333
CREATED:20241104T224941Z
LAST-MODIFIED:20241104T224941Z
UID:16074-1736758800-1736769600@buildinghopesummit.org
SUMMARY:FIRC Open Enrollment Walk-ins
DESCRIPTION:
URL:https://buildinghopesummit.org/calendar_default/firc-open-enrollment-walk-ins-26/
LOCATION:CO
ATTACH;FMTTYPE=image/png:https://buildinghopesummit.org/wp-content/uploads/2024/10/OE-November-2.png
END:VEVENT
BEGIN:VEVENT
DTSTART;TZID=America/Denver:20250113T140000
DTEND;TZID=America/Denver:20250113T160000
DTSTAMP:20260422T191333
CREATED:20241104T225011Z
LAST-MODIFIED:20241104T225011Z
UID:16075-1736776800-1736784000@buildinghopesummit.org
SUMMARY:FIRC Open Enrollment Walk-ins
DESCRIPTION:
URL:https://buildinghopesummit.org/calendar_default/firc-open-enrollment-walk-ins-27/
LOCATION:CO
ATTACH;FMTTYPE=image/png:https://buildinghopesummit.org/wp-content/uploads/2024/10/OE-November-2.png
END:VEVENT
END:VCALENDAR