BEGIN:VCALENDAR
VERSION:2.0
PRODID:-//Building Hope Summit -&nbsp; - ECPv6.15.20//NONSGML v1.0//EN
CALSCALE:GREGORIAN
METHOD:PUBLISH
X-WR-CALNAME:Building Hope Summit -&nbsp;
X-ORIGINAL-URL:https://buildinghopesummit.org
X-WR-CALDESC:Events for Building Hope Summit -&nbsp;
REFRESH-INTERVAL;VALUE=DURATION:PT1H
X-Robots-Tag:noindex
X-PUBLISHED-TTL:PT1H
BEGIN:VTIMEZONE
TZID:America/Denver
BEGIN:DAYLIGHT
TZOFFSETFROM:-0700
TZOFFSETTO:-0600
TZNAME:MDT
DTSTART:20230312T090000
END:DAYLIGHT
BEGIN:STANDARD
TZOFFSETFROM:-0600
TZOFFSETTO:-0700
TZNAME:MST
DTSTART:20231105T080000
END:STANDARD
BEGIN:DAYLIGHT
TZOFFSETFROM:-0700
TZOFFSETTO:-0600
TZNAME:MDT
DTSTART:20240310T090000
END:DAYLIGHT
BEGIN:STANDARD
TZOFFSETFROM:-0600
TZOFFSETTO:-0700
TZNAME:MST
DTSTART:20241103T080000
END:STANDARD
BEGIN:DAYLIGHT
TZOFFSETFROM:-0700
TZOFFSETTO:-0600
TZNAME:MDT
DTSTART:20250309T090000
END:DAYLIGHT
BEGIN:STANDARD
TZOFFSETFROM:-0600
TZOFFSETTO:-0700
TZNAME:MST
DTSTART:20251102T080000
END:STANDARD
END:VTIMEZONE
BEGIN:VEVENT
DTSTART;TZID=America/Denver:20240907T100000
DTEND;TZID=America/Denver:20240907T120000
DTSTAMP:20260423T084700
CREATED:20240820T131955Z
LAST-MODIFIED:20240820T131955Z
UID:15479-1725703200-1725710400@buildinghopesummit.org
SUMMARY:HYPE: Skateboarding at the Silverthorne Rec Center | Ages 12 -18
DESCRIPTION:Come and join the HYPE for a Skateboarding class at the Silverthorne Skate Park! All levels are welcome.
URL:https://buildinghopesummit.org/calendar_default/hype-skateboarding-at-the-silverthorne-rec-center-ages-12-18-2/
LOCATION:Silverthorne Recreation Center\, 430 Rainbow Drive\, Silverthorne\, CO\, 80498\, United States
CATEGORIES:Hype
END:VEVENT
BEGIN:VEVENT
DTSTART;TZID=America/Denver:20240917T173000
DTEND;TZID=America/Denver:20240917T193000
DTSTAMP:20260423T084700
CREATED:20240820T133402Z
LAST-MODIFIED:20240820T133402Z
UID:15488-1726594200-1726601400@buildinghopesummit.org
SUMMARY:HYPE Indoor Rock Climbing AGES 12-18
DESCRIPTION:Join the HYPE at the Breckenridge and get on the wall with your friends! Ages 12-18
URL:https://buildinghopesummit.org/calendar_default/hype-indoor-rock-climbing-ages-12-18/
LOCATION:Breckenridge Rec. Center\, 880 Airport Rd\, Breckenridge\, CO\, 80424\, United States
CATEGORIES:Hype
END:VEVENT
BEGIN:VEVENT
DTSTART;TZID=America/Denver:20240927T183000
DTEND;TZID=America/Denver:20240927T203000
DTSTAMP:20260423T084700
CREATED:20240820T133839Z
LAST-MODIFIED:20240820T133839Z
UID:15491-1727461800-1727469000@buildinghopesummit.org
SUMMARY:HYPE  Movie Night Ages 12-18
DESCRIPTION:Enjoy a free night at the movies with your friends!
URL:https://buildinghopesummit.org/calendar_default/hype-movie-night-ages-12-18/
LOCATION:Skyline Cinema 8\, 312 Dillon Ridge Road\, Dillon\, CO\, 80435\, United States
CATEGORIES:Hype
END:VEVENT
END:VCALENDAR