BEGIN:VCALENDAR
VERSION:2.0
PRODID:-//Building Hope Summit -&nbsp; - ECPv6.15.20//NONSGML v1.0//EN
CALSCALE:GREGORIAN
METHOD:PUBLISH
X-WR-CALNAME:Building Hope Summit -&nbsp;
X-ORIGINAL-URL:https://buildinghopesummit.org
X-WR-CALDESC:Events for Building Hope Summit -&nbsp;
REFRESH-INTERVAL;VALUE=DURATION:PT1H
X-Robots-Tag:noindex
X-PUBLISHED-TTL:PT1H
BEGIN:VTIMEZONE
TZID:America/Denver
BEGIN:DAYLIGHT
TZOFFSETFROM:-0700
TZOFFSETTO:-0600
TZNAME:MDT
DTSTART:20240310T090000
END:DAYLIGHT
BEGIN:STANDARD
TZOFFSETFROM:-0600
TZOFFSETTO:-0700
TZNAME:MST
DTSTART:20241103T080000
END:STANDARD
BEGIN:DAYLIGHT
TZOFFSETFROM:-0700
TZOFFSETTO:-0600
TZNAME:MDT
DTSTART:20250309T090000
END:DAYLIGHT
BEGIN:STANDARD
TZOFFSETFROM:-0600
TZOFFSETTO:-0700
TZNAME:MST
DTSTART:20251102T080000
END:STANDARD
BEGIN:DAYLIGHT
TZOFFSETFROM:-0700
TZOFFSETTO:-0600
TZNAME:MDT
DTSTART:20260308T090000
END:DAYLIGHT
BEGIN:STANDARD
TZOFFSETFROM:-0600
TZOFFSETTO:-0700
TZNAME:MST
DTSTART:20261101T080000
END:STANDARD
END:VTIMEZONE
BEGIN:VEVENT
DTSTART;TZID=America/Denver:20250711T180000
DTEND;TZID=America/Denver:20250711T210000
DTSTAMP:20260422T200238
CREATED:20250621T123314Z
LAST-MODIFIED:20250621T123314Z
UID:19608-1752256800-1752267600@buildinghopesummit.org
SUMMARY:Beginner Screen Printing Ages 12-18
DESCRIPTION:Join Building Hope and the HYPE at the Breck Create to learn how to create a silkscreen design of your very own and experiment with printing. \nJoin Building Hope and the HYPE at the Breck Create to learn how to create a silkscreen design of your very own and experiment with printing your first one-color images. \n“Have an awesome print design you Love? \nJoin us to learn how to create a silkscreen design of your very own and experiment with printing your first one color images. Paper is provided for printing and students can bring an item from home such as a T-shirt\, bandana\, tote\, tea towel\, with which they can experiment printing on. \nTemplate images and designs will be provided or participants can bring a printed or sketched design from home. If bringing a design\, please note the below specifications to maximize successful printing. If you have a special design in mind\, it is requested that the image you’d like to work with be emailed to “printmakingdesign@gmail.com by 3:00pm the day of class.” \nDesign Specifications: Images should be Solid Black and White with Strong Bold Line Work. \nNote: Avoid very small detailed or complex line work. \nDesign size: 4”x5” \nThis event is limited to Summit County youth ages 12-18. \nBRECK CREATE : Randall Barn \nEvent Facilitated in English.
URL:https://buildinghopesummit.org/calendar_default/beginner-screen-printing-ages-12-18/
LOCATION:BRECK CREATE\, 136 South Main Street\, Breckenridge\, CO\, 80424\, United States
CATEGORIES:Hype
END:VEVENT
BEGIN:VEVENT
DTSTART;TZID=America/Denver:20250717T080000
DTEND;TZID=America/Denver:20250717T170000
DTSTAMP:20260422T200238
CREATED:20250621T124108Z
LAST-MODIFIED:20250621T124108Z
UID:19614-1752739200-1752771600@buildinghopesummit.org
SUMMARY:Aerial Adventure Park  Ages 12-18
DESCRIPTION:Challenge yourself and build confidence with an Aerial Adventure! Participation is limited to Summit County Residents ages 12-18
URL:https://buildinghopesummit.org/calendar_default/aerial-adventure-park-ages-12-18/
LOCATION:Arapahoe Basin Dillon\, Dillon\, Dillon\, CO\, 80435\, United States
CATEGORIES:Hype
END:VEVENT
BEGIN:VEVENT
DTSTART;TZID=America/Denver:20250722T180000
DTEND;TZID=America/Denver:20250722T200000
DTSTAMP:20260422T200238
CREATED:20250621T124627Z
LAST-MODIFIED:20250621T124627Z
UID:19617-1753207200-1753214400@buildinghopesummit.org
SUMMARY:Teen Expressive Art
DESCRIPTION:Join Expressive Artist Kathye Conti to explore the role art plays in promoting personal well-being and connectedness. \nIt is important to send Love to ourselves through self-care. \, How do you care for yourself? \nWe need be honest with ourselves\, take a chance and uncertain of where that may lead us is the opportunity to step into a world of self discovery\, Self Love. \nBy creating a piece of artwork focusing on the process in color\, shape\, form\, and meaningful words\, and letting go of the result\, we may discover something new about ourselves. \nShow up being present and honest with yourself by trusting your intuition and a willingness to create. \nCreating art is as simple as following shape\, form\, and colors. \nHeart\, Pathway and or a river\, Rolling hills and or Mountains\, Clouds\, and a tree. \nParticipants can come up with whatever shaped objects they would like to add…… Example flowers\, leaves\, etc.
URL:https://buildinghopesummit.org/calendar_default/teen-expressive-art/
LOCATION:Silverthorne Library\, SILVERTHORNE\, Silverthorne\, CO\, 80498\, United States
CATEGORIES:Hype
END:VEVENT
BEGIN:VEVENT
DTSTART;TZID=America/Denver:20250724T100000
DTEND;TZID=America/Denver:20250724T113000
DTSTAMP:20260422T200238
CREATED:20250621T125546Z
LAST-MODIFIED:20250621T125546Z
UID:19621-1753351200-1753356600@buildinghopesummit.org
SUMMARY:Outdoor Teen Yoga  with Yess
DESCRIPTION:Join Building Hope and Jess for a chill outdoors session – move your body\, breathe deep\, and feel the flow together in the fresh air. \nBuilding Hope te invita a una clase de Yoga. \nBeneficios: \nFortalecer el corazón\, fortalecer tu cuerpo\, limpiar las impurezas del cuerpo\, regular el metabolismo y el sistema inmunológico. \n¿Qué necesitas? \nRopa ligera (shorts\, licras\, tops\, camiseta) \nAgua para hidratación \nColchoneta de yoga \nEste evento está destinado únicamente a los residentes del condado de Summit. \n—————————————- English ————————— \nBuilding Hope invites you to a Yoga class. \nBenefits of yoga: \nStrengthen the heart\, strengthen your body\, cleanse the body of impurities\, regulate metabolism and the immune system \nWhat do you need? \nLight clothing (shorts\, leggings\, tops\, t-shirt) \nwater for hydration \nYoga mat. \nThis event is intended for Summit County residents only
URL:https://buildinghopesummit.org/calendar_default/outdoor-teen-yoga-with-yess/
LOCATION:Rainbow Park\, 430 Rainbow Drive\, Silverthorne\, CO\, 80498\, United States
CATEGORIES:Hype
END:VEVENT
END:VCALENDAR