BEGIN:VCALENDAR
VERSION:2.0
PRODID:-//Building Hope Summit -&nbsp; - ECPv6.15.18//NONSGML v1.0//EN
CALSCALE:GREGORIAN
METHOD:PUBLISH
X-WR-CALNAME:Building Hope Summit -&nbsp;
X-ORIGINAL-URL:https://buildinghopesummit.org
X-WR-CALDESC:Events for Building Hope Summit -&nbsp;
REFRESH-INTERVAL;VALUE=DURATION:PT1H
X-Robots-Tag:noindex
X-PUBLISHED-TTL:PT1H
BEGIN:VTIMEZONE
TZID:America/Denver
BEGIN:DAYLIGHT
TZOFFSETFROM:-0700
TZOFFSETTO:-0600
TZNAME:MDT
DTSTART:20230312T090000
END:DAYLIGHT
BEGIN:STANDARD
TZOFFSETFROM:-0600
TZOFFSETTO:-0700
TZNAME:MST
DTSTART:20231105T080000
END:STANDARD
BEGIN:DAYLIGHT
TZOFFSETFROM:-0700
TZOFFSETTO:-0600
TZNAME:MDT
DTSTART:20240310T090000
END:DAYLIGHT
BEGIN:STANDARD
TZOFFSETFROM:-0600
TZOFFSETTO:-0700
TZNAME:MST
DTSTART:20241103T080000
END:STANDARD
BEGIN:DAYLIGHT
TZOFFSETFROM:-0700
TZOFFSETTO:-0600
TZNAME:MDT
DTSTART:20250309T090000
END:DAYLIGHT
BEGIN:STANDARD
TZOFFSETFROM:-0600
TZOFFSETTO:-0700
TZNAME:MST
DTSTART:20251102T080000
END:STANDARD
END:VTIMEZONE
BEGIN:VEVENT
DTSTART;TZID=America/Denver:20240402T183000
DTEND;TZID=America/Denver:20240402T193000
DTSTAMP:20260420T050138
CREATED:20240314T181808Z
LAST-MODIFIED:20240314T181808Z
UID:14098-1712082600-1712086200@buildinghopesummit.org
SUMMARY:Tuesday Men's Meet
DESCRIPTION:Peer-led by Summit County locals\, join this bi-monthly in-person meeting and discuss the challenges men face in our community and beyond.\n\nMeetings are every other tuesday\, 6:30-7:30pm\, and the Summit County Library South Branch in Breckenridge\n\nCall Dylan at 720-608-8912 or email dylan@buildinghopesummit.org
URL:https://buildinghopesummit.org/calendar_default/tuesday-mens-meet-2/
CATEGORIES:Community
ATTACH;FMTTYPE=image/jpeg:https://buildinghopesummit.org/wp-content/uploads/2024/02/hot-air-balloons-building-hope.jpg
END:VEVENT
BEGIN:VEVENT
DTSTART;TZID=America/Denver:20240403T180000
DTEND;TZID=America/Denver:20240403T193000
DTSTAMP:20260420T050138
CREATED:20240302T153315Z
LAST-MODIFIED:20240302T154134Z
UID:13962-1712167200-1712172600@buildinghopesummit.org
SUMMARY:Rock To Recover: Community and Senior Center
DESCRIPTION:Come play music in a sober environment that promotes positive mental health. Use our instruments or bring your own. Perform covers or originals\, solo or with other participants.
URL:https://buildinghopesummit.org/calendar_default/rock-to-recover-community-and-senior-center-5/
CATEGORIES:Community
ATTACH;FMTTYPE=image/png:https://buildinghopesummit.org/wp-content/uploads/2024/01/Flyer-12-15-23-Eric-Turner.png
END:VEVENT
BEGIN:VEVENT
DTSTART;TZID=America/Denver:20240407T171500
DTEND;TZID=America/Denver:20240407T181500
DTSTAMP:20260420T050138
CREATED:20240206T005705Z
LAST-MODIFIED:20240206T005705Z
UID:13653-1712510100-1712513700@buildinghopesummit.org
SUMMARY:Alcoholics Anonymous Open Meeting
DESCRIPTION:Location: Summit County Church of Christ\, Frisco\n\n\nFor more meetings in Summit County\, go to district17coloradoaa.org/meetings.
URL:https://buildinghopesummit.org/calendar_default/alcoholics-anonymous-open-meeting-2/
CATEGORIES:Community
END:VEVENT
BEGIN:VEVENT
DTSTART;TZID=America/Denver:20240409T173000
DTEND;TZID=America/Denver:20240409T190000
DTSTAMP:20260420T050138
CREATED:20240302T153617Z
LAST-MODIFIED:20240302T153617Z
UID:13967-1712683800-1712689200@buildinghopesummit.org
SUMMARY:Rock To Recover: Silverthorne Pavilion
DESCRIPTION:Come play music in a sober environment that promotes positive mental health. Use our instruments or bring your own. Perform covers or originals\, solo or with other participants.
URL:https://buildinghopesummit.org/calendar_default/rock-to-recover-silverthorne-pavilion-5/
CATEGORIES:Community
ATTACH;FMTTYPE=image/png:https://buildinghopesummit.org/wp-content/uploads/2024/01/RTR-Flyer-March.png
END:VEVENT
BEGIN:VEVENT
DTSTART;TZID=America/Denver:20240409T190000
DTEND;TZID=America/Denver:20240409T203000
DTSTAMP:20260420T050138
CREATED:20240304T204714Z
LAST-MODIFIED:20240304T204714Z
UID:13983-1712689200-1712694600@buildinghopesummit.org
SUMMARY:Family Support Group in Person and Zoom
DESCRIPTION:We are pleased to announce that we will once again meet in-person for our Family Support Group!  The meetings are on the 2nd and 4th Tuesdays at the Summit County Community and Senior Center in Frisco at 83 Nancy’s Place (7-8:30pm)
URL:https://buildinghopesummit.org/calendar_default/family-support-group-in-person-and-zoom-3/
CATEGORIES:Community
ATTACH;FMTTYPE=image/jpeg:https://buildinghopesummit.org/wp-content/uploads/2023/12/debby-hudson-jcc8sxK2Adw-unsplash-1000px.jpeg
END:VEVENT
BEGIN:VEVENT
DTSTART;TZID=America/Denver:20240410T173000
DTEND;TZID=America/Denver:20240410T193000
DTSTAMP:20260420T050138
CREATED:20240402T201323Z
LAST-MODIFIED:20240402T201323Z
UID:14213-1712770200-1712777400@buildinghopesummit.org
SUMMARY:Learn How to Connect with Your Teen
DESCRIPTION:Building a community that supports local youth training \nChild care\, interpretation and dinner provided!
URL:https://buildinghopesummit.org/calendar_default/learn-how-to-connect-with-your-teen/
CATEGORIES:Community
ATTACH;FMTTYPE=image/jpeg:https://buildinghopesummit.org/wp-content/uploads/2024/04/Picture1.jpg
END:VEVENT
BEGIN:VEVENT
DTSTART;TZID=America/Denver:20240410T180000
DTEND;TZID=America/Denver:20240410T200000
DTSTAMP:20260420T050138
CREATED:20240229T191226Z
LAST-MODIFIED:20240229T191226Z
UID:13948-1712772000-1712779200@buildinghopesummit.org
SUMMARY:Tough Guy Sessions with Michael Brand\, NBC-HWC
DESCRIPTION:Join the guys as we gather for conversations about what it means to be a man in 2024
URL:https://buildinghopesummit.org/calendar_default/tough-guy-sessions-with-michael-brand-nbc-hwc-3/
CATEGORIES:Community
ATTACH;FMTTYPE=image/jpeg:https://buildinghopesummit.org/wp-content/uploads/2024/02/hot-air-balloons-building-hope.jpg
END:VEVENT
BEGIN:VEVENT
DTSTART;TZID=America/Denver:20240416T053000
DTEND;TZID=America/Denver:20240416T203000
DTSTAMP:20260420T050138
CREATED:20240307T161833Z
LAST-MODIFIED:20240307T161833Z
UID:14001-1713245400-1713299400@buildinghopesummit.org
SUMMARY:Paradise Paradox Screening @ The Eclipse in Breckenridge
DESCRIPTION:This event is FREE. \nIsolation\, inadequate resources\, substance abuse\, and social stigmas. \nThe Paradise Paradox sheds light on the root causes of the mental health challenges that are plaguing America’s mountain resort towns and how they’re banding together to create innovative solutions that break the cycle. \nBreck Film and Building Hope are partnering together to host a special screening of The Paradise Paradox on April 16th. Please join us for a Wellness Fair featuring local organizations at 5:30pm followed by the film at 6:30pm. After the film\, Building Hope and Vail Health will share a presentation of mental health resources in Summit County.
URL:https://buildinghopesummit.org/calendar_default/paradise-paradox-screening-the-eclipse-in-breckenridge/
CATEGORIES:Community
ATTACH;FMTTYPE=image/png:https://buildinghopesummit.org/wp-content/uploads/2024/03/BF-ParadiseParadox-1080x1080-1.png
END:VEVENT
BEGIN:VEVENT
DTSTART;TZID=America/Denver:20240416T173000
DTEND;TZID=America/Denver:20240416T183000
DTSTAMP:20260420T050138
CREATED:20240328T171001Z
LAST-MODIFIED:20240328T171001Z
UID:14171-1713288600-1713292200@buildinghopesummit.org
SUMMARY:Parenting Workshop: Understanding Rules\, Rewards\, and Discipline
DESCRIPTION:A presentation and Q&A by experts at Summit County’s Strengthening Families
URL:https://buildinghopesummit.org/calendar_default/parenting-workshop-understanding-rules-rewards-and-discipline/
CATEGORIES:Community
ATTACH;FMTTYPE=image/png:https://buildinghopesummit.org/wp-content/uploads/2024/03/Screenshot-2024-03-28-110922.png
END:VEVENT
BEGIN:VEVENT
DTSTART;TZID=America/Denver:20240416T183000
DTEND;TZID=America/Denver:20240416T193000
DTSTAMP:20260420T050138
CREATED:20240314T181901Z
LAST-MODIFIED:20240314T181901Z
UID:14100-1713292200-1713295800@buildinghopesummit.org
SUMMARY:Tuesday Men's Meet
DESCRIPTION:Peer-led by Summit County locals\, join this bi-monthly in-person meeting and discuss the challenges men face in our community and beyond.\n\nMeetings are every other tuesday\, 6:30-7:30pm\, and the Summit County Library South Branch in Breckenridge\n\nCall Dylan at 720-608-8912 or email dylan@buildinghopesummit.org
URL:https://buildinghopesummit.org/calendar_default/tuesday-mens-meet-3/
CATEGORIES:Community
ATTACH;FMTTYPE=image/jpeg:https://buildinghopesummit.org/wp-content/uploads/2024/02/hot-air-balloons-building-hope.jpg
END:VEVENT
BEGIN:VEVENT
DTSTART;TZID=America/Denver:20240417T173000
DTEND;TZID=America/Denver:20240417T190000
DTSTAMP:20260420T050138
CREATED:20240302T153455Z
LAST-MODIFIED:20240302T153927Z
UID:13964-1713375000-1713380400@buildinghopesummit.org
SUMMARY:Rock To Recover: Community and Senior Center
DESCRIPTION:Come play music in a sober environment that promotes positive mental health. Use our instruments or bring your own. Perform covers or originals\, solo or with other participants.
URL:https://buildinghopesummit.org/calendar_default/rock-to-recover-community-and-senior-center-6/
CATEGORIES:Community
ATTACH;FMTTYPE=image/png:https://buildinghopesummit.org/wp-content/uploads/2024/01/Flyer-12-15-23-Eric-Turner.png
END:VEVENT
BEGIN:VEVENT
DTSTART;TZID=America/Denver:20240419T100000
DTEND;TZID=America/Denver:20240419T110000
DTSTAMP:20260420T050138
CREATED:20240415T184423Z
LAST-MODIFIED:20240415T184824Z
UID:14294-1713520800-1713524400@buildinghopesummit.org
SUMMARY:Pregnancy & Parenthood Support Group
DESCRIPTION:
URL:https://buildinghopesummit.org/calendar_default/pregnancy-parenthood-support-group/
CATEGORIES:Community
ATTACH;FMTTYPE=image/png:https://buildinghopesummit.org/wp-content/uploads/2024/04/Pregnancy-Parenthood-Support-Group.png
END:VEVENT
BEGIN:VEVENT
DTSTART;TZID=America/Denver:20240423T173000
DTEND;TZID=America/Denver:20240423T190000
DTSTAMP:20260420T050138
CREATED:20240302T153731Z
LAST-MODIFIED:20240302T153731Z
UID:13969-1713893400-1713898800@buildinghopesummit.org
SUMMARY:Rock To Recover: Silverthorne Pavilion
DESCRIPTION:Come play music in a sober environment that promotes positive mental health. Use our instruments or bring your own. Perform covers or originals\, solo or with other participants.
URL:https://buildinghopesummit.org/calendar_default/rock-to-recover-silverthorne-pavilion-6/
CATEGORIES:Community
ATTACH;FMTTYPE=image/png:https://buildinghopesummit.org/wp-content/uploads/2024/01/RTR-Flyer-March.png
END:VEVENT
BEGIN:VEVENT
DTSTART;TZID=America/Denver:20240423T190000
DTEND;TZID=America/Denver:20240423T203000
DTSTAMP:20260420T050138
CREATED:20240304T204750Z
LAST-MODIFIED:20240304T204750Z
UID:13985-1713898800-1713904200@buildinghopesummit.org
SUMMARY:Family Support Group in Person and Zoom
DESCRIPTION:We are pleased to announce that we will once again meet in-person for our Family Support Group!  The meetings are on the 2nd and 4th Tuesdays at the Summit County Community and Senior Center in Frisco at 83 Nancy’s Place (7-8:30pm)
URL:https://buildinghopesummit.org/calendar_default/family-support-group-in-person-and-zoom-4/
CATEGORIES:Community
ATTACH;FMTTYPE=image/jpeg:https://buildinghopesummit.org/wp-content/uploads/2023/12/debby-hudson-jcc8sxK2Adw-unsplash-1000px.jpeg
END:VEVENT
BEGIN:VEVENT
DTSTART;TZID=America/Denver:20240424T170000
DTEND;TZID=America/Denver:20240424T190000
DTSTAMP:20260420T050138
CREATED:20231227T232825Z
LAST-MODIFIED:20240318T183820Z
UID:13252-1713978000-1713985200@buildinghopesummit.org
SUMMARY:MHBHC Free Community Dinner
DESCRIPTION:A free meal for anyone in the community to come together to eat good food\, connect with others\, and have sober fun!!
URL:https://buildinghopesummit.org/calendar_default/mhbhc-free-community-dinner-4/
CATEGORIES:Community
ATTACH;FMTTYPE=image/png:https://buildinghopesummit.org/wp-content/uploads/2023/12/New-Community-Dinner-Flyer-1.png
END:VEVENT
BEGIN:VEVENT
DTSTART;TZID=America/Denver:20240424T180000
DTEND;TZID=America/Denver:20240424T200000
DTSTAMP:20260420T050138
CREATED:20240229T191257Z
LAST-MODIFIED:20240229T191257Z
UID:13950-1713981600-1713988800@buildinghopesummit.org
SUMMARY:Tough Guy Sessions with Michael Brand\, NBC-HWC
DESCRIPTION:Join the guys as we gather for conversations about what it means to be a man in 2024
URL:https://buildinghopesummit.org/calendar_default/tough-guy-sessions-with-michael-brand-nbc-hwc-4/
CATEGORIES:Community
ATTACH;FMTTYPE=image/jpeg:https://buildinghopesummit.org/wp-content/uploads/2024/02/hot-air-balloons-building-hope.jpg
END:VEVENT
BEGIN:VEVENT
DTSTART;TZID=America/Denver:20240425T183000
DTEND;TZID=America/Denver:20240425T193000
DTSTAMP:20260420T050138
CREATED:20240417T232544Z
LAST-MODIFIED:20240417T232544Z
UID:14359-1714069800-1714073400@buildinghopesummit.org
SUMMARY:Adult Recovery Group
DESCRIPTION:
URL:https://buildinghopesummit.org/calendar_default/adult-recovery-group/
CATEGORIES:Community
ATTACH;FMTTYPE=image/jpeg:https://buildinghopesummit.org/wp-content/uploads/2024/04/Recovery-Group-MHBHC.jpg
END:VEVENT
BEGIN:VEVENT
DTSTART;TZID=America/Denver:20240426T100000
DTEND;TZID=America/Denver:20240426T110000
DTSTAMP:20260420T050138
CREATED:20240415T184857Z
LAST-MODIFIED:20240415T184857Z
UID:14299-1714125600-1714129200@buildinghopesummit.org
SUMMARY:Pregnancy & Parenthood Support Group
DESCRIPTION:
URL:https://buildinghopesummit.org/calendar_default/pregnancy-parenthood-support-group-3/
CATEGORIES:Community
ATTACH;FMTTYPE=image/png:https://buildinghopesummit.org/wp-content/uploads/2024/04/Pregnancy-Parenthood-Support-Group.png
END:VEVENT
BEGIN:VEVENT
DTSTART;TZID=America/Denver:20240426T120000
DTEND;TZID=America/Denver:20240426T140000
DTSTAMP:20260420T050138
CREATED:20240418T203830Z
LAST-MODIFIED:20240418T203830Z
UID:14387-1714132800-1714140000@buildinghopesummit.org
SUMMARY:Breckenridge Harm Reduction Pop-Up
DESCRIPTION:
URL:https://buildinghopesummit.org/calendar_default/breckenridge-harm-reduction-pop-up/
CATEGORIES:Community
ATTACH;FMTTYPE=image/jpeg:https://buildinghopesummit.org/wp-content/uploads/2024/04/Breckenridge-2024-Schedule.jpg
END:VEVENT
BEGIN:VEVENT
DTSTART;TZID=America/Denver:20240426T160000
DTEND;TZID=America/Denver:20240426T180000
DTSTAMP:20260420T050138
CREATED:20240418T204208Z
LAST-MODIFIED:20240418T204208Z
UID:14396-1714147200-1714154400@buildinghopesummit.org
SUMMARY:Frisco Harm Reduction Pop-Up
DESCRIPTION:
URL:https://buildinghopesummit.org/calendar_default/frisco-harm-reduction-pop-up/
CATEGORIES:Community
ATTACH;FMTTYPE=image/jpeg:https://buildinghopesummit.org/wp-content/uploads/2024/04/Frisco-2024-Sched.jpg
END:VEVENT
BEGIN:VEVENT
DTSTART;TZID=America/Denver:20240428T150000
DTEND;TZID=America/Denver:20240428T170000
DTSTAMP:20260420T050138
CREATED:20240415T222305Z
LAST-MODIFIED:20240415T222305Z
UID:14319-1714316400-1714323600@buildinghopesummit.org
SUMMARY:A Finer Future is Possible: An Earth Day Commemoration
DESCRIPTION:As an internatiinall y known and award-winning practitioner for the environment and a sustainable future\, Hunter will discuss how needed economic reforms can lead us towards a regenerative economy and a circular economy which can enhance\, rather than destroy\, our threatened life support systems.
URL:https://buildinghopesummit.org/calendar_default/a-finer-future-is-possible-an-earth-day-commemoration/
CATEGORIES:Community
ATTACH;FMTTYPE=image/png:https://buildinghopesummit.org/wp-content/uploads/2024/04/Hunter-Lovins-Earth-Day-Commemoration-PNG-flyer.png
END:VEVENT
END:VCALENDAR