BEGIN:VCALENDAR
VERSION:2.0
PRODID:-//Building Hope Summit -&nbsp; - ECPv6.15.18//NONSGML v1.0//EN
CALSCALE:GREGORIAN
METHOD:PUBLISH
X-WR-CALNAME:Building Hope Summit -&nbsp;
X-ORIGINAL-URL:https://buildinghopesummit.org
X-WR-CALDESC:Events for Building Hope Summit -&nbsp;
REFRESH-INTERVAL;VALUE=DURATION:PT1H
X-Robots-Tag:noindex
X-PUBLISHED-TTL:PT1H
BEGIN:VTIMEZONE
TZID:America/Denver
BEGIN:DAYLIGHT
TZOFFSETFROM:-0700
TZOFFSETTO:-0600
TZNAME:MDT
DTSTART:20230312T090000
END:DAYLIGHT
BEGIN:STANDARD
TZOFFSETFROM:-0600
TZOFFSETTO:-0700
TZNAME:MST
DTSTART:20231105T080000
END:STANDARD
BEGIN:DAYLIGHT
TZOFFSETFROM:-0700
TZOFFSETTO:-0600
TZNAME:MDT
DTSTART:20240310T090000
END:DAYLIGHT
BEGIN:STANDARD
TZOFFSETFROM:-0600
TZOFFSETTO:-0700
TZNAME:MST
DTSTART:20241103T080000
END:STANDARD
BEGIN:DAYLIGHT
TZOFFSETFROM:-0700
TZOFFSETTO:-0600
TZNAME:MDT
DTSTART:20250309T090000
END:DAYLIGHT
BEGIN:STANDARD
TZOFFSETFROM:-0600
TZOFFSETTO:-0700
TZNAME:MST
DTSTART:20251102T080000
END:STANDARD
END:VTIMEZONE
BEGIN:VEVENT
DTSTART;TZID=America/Denver:20240503T100000
DTEND;TZID=America/Denver:20240503T110000
DTSTAMP:20260420T060654
CREATED:20240415T185729Z
LAST-MODIFIED:20240415T185729Z
UID:14317-1714730400-1714734000@buildinghopesummit.org
SUMMARY:Pregnancy & Parenthood Support Group
DESCRIPTION:
URL:https://buildinghopesummit.org/calendar_default/pregnancy-parenthood-support-group-11/
CATEGORIES:Community
ATTACH;FMTTYPE=image/png:https://buildinghopesummit.org/wp-content/uploads/2024/04/Pregnancy-Parenthood-Support-Group.png
END:VEVENT
BEGIN:VEVENT
DTSTART;TZID=America/Denver:20240503T123000
DTEND;TZID=America/Denver:20240503T134500
DTSTAMP:20260420T060654
CREATED:20240416T170717Z
LAST-MODIFIED:20240416T170717Z
UID:14327-1714739400-1714743900@buildinghopesummit.org
SUMMARY:Couples Code: Cracking The Communication Challenge (Live Class)
DESCRIPTION:
URL:https://buildinghopesummit.org/calendar_default/couples-code-cracking-the-communication-challenge-live-class/
CATEGORIES:Community
ATTACH;FMTTYPE=image/png:https://buildinghopesummit.org/wp-content/uploads/2024/04/Couples-Code.png
END:VEVENT
END:VCALENDAR