BEGIN:VCALENDAR
VERSION:2.0
PRODID:-//Building Hope Summit -&nbsp; - ECPv6.15.18//NONSGML v1.0//EN
CALSCALE:GREGORIAN
METHOD:PUBLISH
X-ORIGINAL-URL:https://buildinghopesummit.org
X-WR-CALDESC:Events for Building Hope Summit -&nbsp;
REFRESH-INTERVAL;VALUE=DURATION:PT1H
X-Robots-Tag:noindex
X-PUBLISHED-TTL:PT1H
BEGIN:VTIMEZONE
TZID:America/Denver
BEGIN:DAYLIGHT
TZOFFSETFROM:-0700
TZOFFSETTO:-0600
TZNAME:MDT
DTSTART:20240310T090000
END:DAYLIGHT
BEGIN:STANDARD
TZOFFSETFROM:-0600
TZOFFSETTO:-0700
TZNAME:MST
DTSTART:20241103T080000
END:STANDARD
BEGIN:DAYLIGHT
TZOFFSETFROM:-0700
TZOFFSETTO:-0600
TZNAME:MDT
DTSTART:20250309T090000
END:DAYLIGHT
BEGIN:STANDARD
TZOFFSETFROM:-0600
TZOFFSETTO:-0700
TZNAME:MST
DTSTART:20251102T080000
END:STANDARD
BEGIN:DAYLIGHT
TZOFFSETFROM:-0700
TZOFFSETTO:-0600
TZNAME:MDT
DTSTART:20260308T090000
END:DAYLIGHT
BEGIN:STANDARD
TZOFFSETFROM:-0600
TZOFFSETTO:-0700
TZNAME:MST
DTSTART:20261101T080000
END:STANDARD
END:VTIMEZONE
BEGIN:VEVENT
DTSTART;TZID=America/Denver:20250804T170000
DTEND;TZID=America/Denver:20250804T183000
DTSTAMP:20260421T045236
CREATED:20250626T193800Z
LAST-MODIFIED:20250626T193800Z
UID:19752-1754326800-1754332200@buildinghopesummit.org
SUMMARY:Sober & Sober Curious Support Group
DESCRIPTION:With clinician Michelle Marzo LPC\, LAC\nEvery Monday for 12 weeks starting June 2nd\n5pm to 6:30pm\n610 E. Main St.\, Suite 14A Frisco\, CO\nCall 970.406.8830 for more info!\nEducation on Brain & Substances\nSkills to Avoid Emotional Escapism\nModeration Vs. Abstinence\nNon-12-step and 12-step interventions discussed
URL:https://buildinghopesummit.org/calendar_default/sober-sober-curious-support-group-6/
CATEGORIES:Community
ATTACH;FMTTYPE=image/jpeg:https://buildinghopesummit.org/wp-content/uploads/2025/06/Sober-Curious-Group-Flyer.jpg
END:VEVENT
END:VCALENDAR