BEGIN:VCALENDAR
VERSION:2.0
PRODID:-//Building Hope Summit -&nbsp; - ECPv6.15.18//NONSGML v1.0//EN
CALSCALE:GREGORIAN
METHOD:PUBLISH
X-ORIGINAL-URL:https://buildinghopesummit.org
X-WR-CALDESC:Events for Building Hope Summit -&nbsp;
REFRESH-INTERVAL;VALUE=DURATION:PT1H
X-Robots-Tag:noindex
X-PUBLISHED-TTL:PT1H
BEGIN:VTIMEZONE
TZID:America/Denver
BEGIN:DAYLIGHT
TZOFFSETFROM:-0700
TZOFFSETTO:-0600
TZNAME:MDT
DTSTART:20210314T090000
END:DAYLIGHT
BEGIN:STANDARD
TZOFFSETFROM:-0600
TZOFFSETTO:-0700
TZNAME:MST
DTSTART:20211107T080000
END:STANDARD
BEGIN:DAYLIGHT
TZOFFSETFROM:-0700
TZOFFSETTO:-0600
TZNAME:MDT
DTSTART:20220313T090000
END:DAYLIGHT
BEGIN:STANDARD
TZOFFSETFROM:-0600
TZOFFSETTO:-0700
TZNAME:MST
DTSTART:20221106T080000
END:STANDARD
BEGIN:DAYLIGHT
TZOFFSETFROM:-0700
TZOFFSETTO:-0600
TZNAME:MDT
DTSTART:20230312T090000
END:DAYLIGHT
BEGIN:STANDARD
TZOFFSETFROM:-0600
TZOFFSETTO:-0700
TZNAME:MST
DTSTART:20231105T080000
END:STANDARD
END:VTIMEZONE
BEGIN:VEVENT
DTSTART;TZID=America/Denver:20220708T100000
DTEND;TZID=America/Denver:20220708T130000
DTSTAMP:20260423T174011
CREATED:20220615T213209Z
LAST-MODIFIED:20220707T224639Z
UID:8418-1657274400-1657285200@buildinghopesummit.org
SUMMARY:The HYPE: Paddleboarding /  Surf de remo
DESCRIPTION:The HYPE: BOEC  Paddleboarding Ages 12-18 / BOEC  Surf de Remo  Edades 12-18\n\n\nThe HYPE\, Building Hope’s Youth Connection Program\, and Breckenridge Outdoor Education Center (BOEC) present an opportunity to get out on the water and connect with your friends. Following a short orientation we will head out on the water for a relaxing beautiful and fun paddle. Everyone will have their own paddleboard. \nAdvance registration is required with a waiver signed by an adult/legal guardian.  Before proceeding with registration\, please complete the BOEC/Move United Release of Risk and Liability \nLook for the big BOEC flag!  \nWhat to bring: \n•	Comfortable and sporty clothes \n•	Raincoat \n•	Sunblock \n•	Personal water bottle \n•	Snacks \n•	Your own hand sanitizer (we will provide it too but we would love if you had your own bottle) \n•	Shade hat and sunglasses \nThis event is limited to 12  participants. Please contact us if you cannot attend the event. \n———————————————————————————————– \nEl programa HYPE\, Building Hope’s Youth Connection y el Centro de educación al aire libre de Breckenridge (BOEC) presentan una oportunidad para salir al agua y conectarse con sus amigos. Después de una breve orientación saldremos al agua para disfrutar de un relajante y divertido remo. Todos tendrán su propia tabla de remo. \nSe requiere inscripción previa con una renuncia firmada por un adulto/tutor legal. Antes de continuar con el registro\, complete la Liberación de riesgo y responsabilidad de BOEC/Move United \n¡Busque la gran bandera BOEC! \nQue traer: \n•Ropa cómoda y deportiva \n• Impermeable \n• Bloqueador solar \n• Botella de agua personal \n• Aperitivos \n• Su propio desinfectante de manos (también se lo proporcionaremos\, pero nos encantaría que tuviera su propia botella) \n• Sombrero de sombra y gafas de sol \nEste evento está limitado a 12 participantes. Por favor comuníquese con nosotros si no puede atender el evento.
URL:https://buildinghopesummit.org/calendar_default/the-hype-lake-dillon-paddleboarding-surf-de-remo-en-el-lago-dillon/
LOCATION:Breckenridge Outdoor Education Center – Scott Griffith Lodge\, 300 Snowy Ridge Drive\, Breckenridge\, CO\, 80424\, United States
CATEGORIES:Hype
ATTACH;FMTTYPE=image/jpeg:https://buildinghopesummit.org/wp-content/uploads/2022/06/00c00c32df5f761644061a47ddfbad51.jpg
END:VEVENT
END:VCALENDAR