BEGIN:VCALENDAR
VERSION:2.0
PRODID:-//Building Hope Summit -&nbsp; - ECPv6.15.18//NONSGML v1.0//EN
CALSCALE:GREGORIAN
METHOD:PUBLISH
X-WR-CALNAME:Building Hope Summit -&nbsp;
X-ORIGINAL-URL:https://buildinghopesummit.org
X-WR-CALDESC:Events for Building Hope Summit -&nbsp;
REFRESH-INTERVAL;VALUE=DURATION:PT1H
X-Robots-Tag:noindex
X-PUBLISHED-TTL:PT1H
BEGIN:VTIMEZONE
TZID:America/Denver
BEGIN:DAYLIGHT
TZOFFSETFROM:-0700
TZOFFSETTO:-0600
TZNAME:MDT
DTSTART:20240310T090000
END:DAYLIGHT
BEGIN:STANDARD
TZOFFSETFROM:-0600
TZOFFSETTO:-0700
TZNAME:MST
DTSTART:20241103T080000
END:STANDARD
BEGIN:DAYLIGHT
TZOFFSETFROM:-0700
TZOFFSETTO:-0600
TZNAME:MDT
DTSTART:20250309T090000
END:DAYLIGHT
BEGIN:STANDARD
TZOFFSETFROM:-0600
TZOFFSETTO:-0700
TZNAME:MST
DTSTART:20251102T080000
END:STANDARD
BEGIN:DAYLIGHT
TZOFFSETFROM:-0700
TZOFFSETTO:-0600
TZNAME:MDT
DTSTART:20260308T090000
END:DAYLIGHT
BEGIN:STANDARD
TZOFFSETFROM:-0600
TZOFFSETTO:-0700
TZNAME:MST
DTSTART:20261101T080000
END:STANDARD
END:VTIMEZONE
BEGIN:VEVENT
DTSTART;TZID=America/Denver:20251214T100000
DTEND;TZID=America/Denver:20251214T120000
DTSTAMP:20260422T104910
CREATED:20251122T142322Z
LAST-MODIFIED:20251122T142322Z
UID:21654-1765706400-1765713600@buildinghopesummit.org
SUMMARY:Family Day at Summit Valley Horse Center
DESCRIPTION:Bring your family to the Summit Valley Horse Center and learn about the connection between humans and horses! \nThis event is intended for Summit County residents only\, Ages 12-18. \nEvent Facilitated in English.
URL:https://buildinghopesummit.org/calendar_default/family-day-at-summit-valley-horse-center/
LOCATION:Summit Valley Horse Center\, 35405\, Silverthorne\, CO\, 80498\, United States
CATEGORIES:Family Connectedness
END:VEVENT
BEGIN:VEVENT
DTSTART;TZID=America/Denver:20251213T100000
DTEND;TZID=America/Denver:20251213T120000
DTSTAMP:20260422T104910
CREATED:20251122T141925Z
LAST-MODIFIED:20251122T141925Z
UID:21650-1765620000-1765627200@buildinghopesummit.org
SUMMARY:Merry Hoop Ornaments |  Ages 12-18  (Bilingual)
DESCRIPTION:Join the HYPE and create a beautiful Christmas ornament with upcycled materials and an embroidered wooden hoop. \nThis event is intended for Summit County residents only. Ages 12-18. \nEvent Facilitated in English and Spanish.
URL:https://buildinghopesummit.org/calendar_default/merry-hoop-ornaments-ages-12-18-bilingual/
LOCATION:Art Spot Silverthorne Makerspace\, 401 Blue River Parkway\, Silverthorne\, CO\, 80498\, United States
CATEGORIES:Hype
END:VEVENT
BEGIN:VEVENT
DTSTART;TZID=America/Denver:20251211T180000
DTEND;TZID=America/Denver:20251211T193000
DTSTAMP:20260422T104910
CREATED:20251122T141601Z
LAST-MODIFIED:20251122T141601Z
UID:21646-1765476000-1765481400@buildinghopesummit.org
SUMMARY:Insanity Fitness Training & Nutrition (Bilingual)
DESCRIPTION:Join us to learn how exercise and eating healthy help with both physical and mental health. \nThis event is intended for Summit County residents only. \nEvent Facilitated in English and Spanish.
URL:https://buildinghopesummit.org/calendar_default/insanity-fitness-training-nutrition-bilingual-2/
LOCATION:The Block\, 491 Rainbow Drive\, Silverthorne\, CO\, 80498\, United States
CATEGORIES:Connecting Events
END:VEVENT
BEGIN:VEVENT
DTSTART;TZID=America/Denver:20251210T180000
DTEND;TZID=America/Denver:20251210T193000
DTSTAMP:20260422T104910
CREATED:20250626T182751Z
LAST-MODIFIED:20250626T182751Z
UID:19735-1765389600-1765395000@buildinghopesummit.org
SUMMARY:Silverthorne Library Meditation Group
DESCRIPTION:Experienced meditators sit for two 25 minute silent unguided sessions\, with optional sharing of experience after each session. “In Silence” cards provided for those choosing to remain silent for the evening.
URL:https://buildinghopesummit.org/calendar_default/silverthorne-library-meditation-group-12/
LOCATION:CO
ATTACH;FMTTYPE=image/jpeg:https://buildinghopesummit.org/wp-content/uploads/2025/06/Silverthorne-Meditation-Group.jpg
END:VEVENT
BEGIN:VEVENT
DTSTART;TZID=America/Denver:20251209T183000
DTEND;TZID=America/Denver:20251209T200000
DTSTAMP:20260422T104910
CREATED:20250927T231927Z
LAST-MODIFIED:20250927T231927Z
UID:20783-1765305000-1765310400@buildinghopesummit.org
SUMMARY:Capacitación para voluntarios de embajadores de eventos
DESCRIPTION:Los embajadores de Building Hope reciben capacitación para representar a Building Hope en nuestra comunidad. \nApoyan nuestros Eventos de Conexión y promueven a Building Hope en eventos comunitarios presentando nuestra misión y objetivos. Pueden servir como parte del equipo de bienvenida\, un recurso o un oído amigable durante nuestros eventos\, asegurándose de que todos los invitados se sientan bienvenidos e incluidos. \nLa capacitación para embajadores voluntarios se lleva a cabo mensualmente. Seleccione la fecha y hora que prefiere.
URL:https://buildinghopesummit.org/calendar_default/capacitacion-para-voluntarios-de-embajadores-de-eventos-18/
LOCATION:CO
CATEGORIES:Trainings
END:VEVENT
BEGIN:VEVENT
DTSTART;TZID=America/Denver:20251209T173000
DTEND;TZID=America/Denver:20251209T193000
DTSTAMP:20260422T104910
CREATED:20250818T202044Z
LAST-MODIFIED:20250818T202404Z
UID:20260-1765301400-1765308600@buildinghopesummit.org
SUMMARY:Facing the Mourning - Session 2 of 4
DESCRIPTION:FREE Grief Support Group \nAN INTIMATE & INTERACTIVE SUPPORT GROUP DESIGNED TO HELP WITH THE GRIEVING\nPROCESS BY USING VISUAL AND THOUGHT-PROVOKING TOOLS. DURING THESE FOUR\nSESSIONS\, THE PARTICIPANTS SHARE THEIR STORY\, BUILD MEMORIALS\, COMPOSE LETTERS\,\nWRITE IN JOURNALS\, AND DEVELOP GOALS WITH MILESTONES.\nGROUP IS LIMITED TO 8-10 PARTICIPANTS.\nFACILITATED BY DEP. CORONER BRITT LEA & CHIEF DEP. JILL RATLIFF\nSUMMIT COUNTY CORONER’S OFFICE \nDecember 2nd\, 9th\, 16th\, 23rd 5:30pm- 7:30pm\nMedical Office Building\, Suite 200\, 360 Peak One Drive\, Frisco\, CO\nRSVP REQUIRED- britt.lea@summitcountyco.gov
URL:https://buildinghopesummit.org/calendar_default/facing-the-mourning-session-2-of-4-4/
LOCATION:CO
END:VEVENT
BEGIN:VEVENT
DTSTART;TZID=America/Denver:20251209T163000
DTEND;TZID=America/Denver:20251209T180000
DTSTAMP:20260422T104910
CREATED:20250927T230842Z
LAST-MODIFIED:20250927T230842Z
UID:20775-1765297800-1765303200@buildinghopesummit.org
SUMMARY:Event Ambassador Volunteer Training
DESCRIPTION:Building Hope Ambassadors are trained to represent Building Hope in our community. \nThey support (and participate in!) our Connectedness Events and also promote Building Hope at Community Events . They can serve as greeters\, a resource\, or friendly ear during our events and seek to make all guests feel welcome and included. \nEvent Ambassadors are expected to support 3-4 events a year. \nEvents typically last 1-3 hours. \nEvent Ambassador Volunteer Training is offered monthly. Select your preferred date and time.\nIf the available times do not work for you\, please reach out to us at jeng@buildinghopesummit.org
URL:https://buildinghopesummit.org/calendar_default/event-ambassador-volunteer-training-25/
LOCATION:CO
CATEGORIES:Trainings
END:VEVENT
BEGIN:VEVENT
DTSTART;TZID=America/Denver:20251208T180000
DTEND;TZID=America/Denver:20251208T190000
DTSTAMP:20260422T104910
CREATED:20251028T220624Z
LAST-MODIFIED:20251028T220624Z
UID:21264-1765216800-1765220400@buildinghopesummit.org
SUMMARY:Fortaleza en Comunidad: Grupo de Apoyo para Inmigrantes
DESCRIPTION:
URL:https://buildinghopesummit.org/calendar_default/fortaleza-en-comunidad-grupo-de-apoyo-para-inmigrantes-6/
LOCATION:CO
END:VEVENT
BEGIN:VEVENT
DTSTART;TZID=America/Denver:20251208T170000
DTEND;TZID=America/Denver:20251208T190000
DTSTAMP:20260422T104910
CREATED:20251122T141347Z
LAST-MODIFIED:20251122T141347Z
UID:21642-1765213200-1765220400@buildinghopesummit.org
SUMMARY:Wheel Throwing |  Ages 12-18
DESCRIPTION:In this 2-hour class\, students will learn the fundamentals of throwing on the potter’s wheel\, the multi-step process of pottery making\, and will be enabled to work and practice on their own. \nThis event is intended for Summit County residents only. Ages 12-18. \nEvent Facilitated in English and Spanish.
URL:https://buildinghopesummit.org/calendar_default/wheel-throwing-ages-12-18/
LOCATION:BRECK CREATE\, 136 South Main Street\, Breckenridge\, CO\, 80424\, United States
CATEGORIES:Hype
END:VEVENT
BEGIN:VEVENT
DTSTART;TZID=America/Denver:20251208T170000
DTEND;TZID=America/Denver:20251208T183000
DTSTAMP:20260422T104910
CREATED:20250420T194857Z
LAST-MODIFIED:20250420T194857Z
UID:19027-1765213200-1765218600@buildinghopesummit.org
SUMMARY:Healing For Healers
DESCRIPTION:Introducing Healing for Healers—a program for mental health providers to prioritize their own mental health and wellness. \nWe know that this work lives inside of us— so we created a program designed specifically for you\, the people answering the call in Summit County. Healing for Healers offers a safe\, confidential space to connect with peers\, engage in deeper healing practices\, relieve workforce fatigue\, and build a generative community of support. \nNamasport is so proud to have partnered with Building Hope to bring this free program to the Building Hope practitioner network! We will offer a complimentary program every month through the end of 2025. Each 90-minute session will include a somatic ritual\, an evidence-based tool\, and space for individual and group processing. \nCome for one\, or come for all\, the sessions are designed so you can participate whenever it serves you. If you are interested\, please follow the QR code on the flyer to our Eventbrite page so we can add you to our registration list—we would love to have you join us! \nFor those who hold space for others\, this is your space to drop-in\, breathe\, and receive. Healing for Healers was created to help you reset\, restore\, and reconnect—because this is time for you.
URL:https://buildinghopesummit.org/calendar_default/healing-for-healers-9/
LOCATION:CO
END:VEVENT
BEGIN:VEVENT
DTSTART;TZID=America/Denver:20251208T120000
DTEND;TZID=America/Denver:20251208T125000
DTSTAMP:20260422T104910
CREATED:20250826T235223Z
LAST-MODIFIED:20250903T212848Z
UID:20351-1765195200-1765198200@buildinghopesummit.org
SUMMARY:Growing Us: Skills for Improved Communication & Connection for Couples
DESCRIPTION:Biweekly couples group designed to help partners strengthen their relationship through practical\, research-based tools. \nConnection & Emotional Closeness \nConflict & Problem-Solving \nRelationship Skills & Communication \nEvery Other Monday starting September 15th\, 12pm to 12:50pm \nVirtual Zoom: Scan QR Code for Link or click here.
URL:https://buildinghopesummit.org/calendar_default/growing-us-skills-for-improved-communication-connection-for-couples-7/
LOCATION:CO
END:VEVENT
BEGIN:VEVENT
DTSTART;TZID=America/Denver:20251207T120000
DTEND;TZID=America/Denver:20251207T130000
DTSTAMP:20260422T104910
CREATED:20251122T141102Z
LAST-MODIFIED:20251122T141102Z
UID:21638-1765108800-1765112400@buildinghopesummit.org
SUMMARY:Youth Skates |  Ages 12-18
DESCRIPTION:Join Building Hope and the HYPE for ice skating! Whether you’re a beginner or looking to sharpen your skills\, instructors will offer short lessons throughout the event. Come enjoy a chilly\, cheerful evening of gliding\, learning\, and laughter with friends. \nThis event is intended for Summit County residents only. Ages 12-18. \nEvent Facilitated in English.
URL:https://buildinghopesummit.org/calendar_default/youth-skates-ages-12-18/
LOCATION:Stephen C West Ice Arena\, 189 Boreas Pass Rd.\, Breckenridge\, CO\, 80424\, United States
CATEGORIES:Hype
END:VEVENT
BEGIN:VEVENT
DTSTART;TZID=America/Denver:20251204T170000
DTEND;TZID=America/Denver:20251204T190000
DTSTAMP:20260422T104910
CREATED:20251122T140821Z
LAST-MODIFIED:20251122T140821Z
UID:21634-1764867600-1764874800@buildinghopesummit.org
SUMMARY:Family Game Night
DESCRIPTION:Join us for a fun-filled game night packed with laughter\, friendly competition\, and games for the whole family!  \nNo childcare or supervision of children is being provided. \nThis event is intended for Summit County residents only. \nEvent Facilitated in English.
URL:https://buildinghopesummit.org/calendar_default/family-game-night/
LOCATION:Hidden Table Games\, 246 RAINBOW DRIVE SILVERTHORNE\, Silverthorne\, CO\, 80498\, United States
CATEGORIES:Family Connectedness
END:VEVENT
BEGIN:VEVENT
DTSTART;TZID=America/Denver:20251203T180000
DTEND;TZID=America/Denver:20251203T193000
DTSTAMP:20260422T104910
CREATED:20250626T181047Z
LAST-MODIFIED:20250626T181047Z
UID:19708-1764784800-1764790200@buildinghopesummit.org
SUMMARY:Breckenridge Library Silent Meditation Group
DESCRIPTION:Experienced meditators sit for two 25 minute silent unguided sessions\, with optional sharing of experience after each session. “In Silence” cards provided for those choosing to remain silent for the evening.
URL:https://buildinghopesummit.org/calendar_default/breckenridge-library-silent-meditation-group-15/
LOCATION:CO
END:VEVENT
BEGIN:VEVENT
DTSTART;TZID=America/Denver:20251202T173000
DTEND;TZID=America/Denver:20251202T193000
DTSTAMP:20260422T104910
CREATED:20250818T201934Z
LAST-MODIFIED:20250818T202442Z
UID:20257-1764696600-1764703800@buildinghopesummit.org
SUMMARY:Facing the Mourning - Session 1 of 4
DESCRIPTION:FREE Grief Support Group \nAN INTIMATE & INTERACTIVE SUPPORT GROUP DESIGNED TO HELP WITH THE GRIEVING\nPROCESS BY USING VISUAL AND THOUGHT-PROVOKING TOOLS. DURING THESE FOUR\nSESSIONS\, THE PARTICIPANTS SHARE THEIR STORY\, BUILD MEMORIALS\, COMPOSE LETTERS\,\nWRITE IN JOURNALS\, AND DEVELOP GOALS WITH MILESTONES.\nGROUP IS LIMITED TO 8-10 PARTICIPANTS.\nFACILITATED BY DEP. CORONER BRITT LEA & CHIEF DEP. JILL RATLIFF\nSUMMIT COUNTY CORONER’S OFFICE \nDecember 2nd\, 9th\, 16th\, 23rd 5:30pm- 7:30pm\nMedical Office Building\, Suite 200\, 360 Peak One Drive\, Frisco\, CO\nRSVP REQUIRED- britt.lea@summitcountyco.gov
URL:https://buildinghopesummit.org/calendar_default/facing-the-mourning-session-1-of-4-3/
LOCATION:CO
END:VEVENT
BEGIN:VEVENT
DTSTART;TZID=America/Denver:20251202T170000
DTEND;TZID=America/Denver:20251202T183000
DTSTAMP:20260422T104910
CREATED:20251029T180847Z
LAST-MODIFIED:20251029T180847Z
UID:21278-1764694800-1764700200@buildinghopesummit.org
SUMMARY:Renovacion Para Sanadores: Cuidando De Quienes Cuidan
DESCRIPTION:
URL:https://buildinghopesummit.org/calendar_default/renovacion-para-sanadores-cuidando-de-quienes-cuidan-2/
LOCATION:CO
ATTACH;FMTTYPE=image/png:https://buildinghopesummit.org/wp-content/uploads/2025/10/Renovacion-Para-Sanadores.png
END:VEVENT
BEGIN:VEVENT
DTSTART;TZID=America/Denver:20251201T180000
DTEND;TZID=America/Denver:20251201T190000
DTSTAMP:20260422T104910
CREATED:20251028T220544Z
LAST-MODIFIED:20251028T220544Z
UID:21262-1764612000-1764615600@buildinghopesummit.org
SUMMARY:Fortaleza en Comunidad: Grupo de Apoyo para Inmigrantes
DESCRIPTION:
URL:https://buildinghopesummit.org/calendar_default/fortaleza-en-comunidad-grupo-de-apoyo-para-inmigrantes-5/
LOCATION:CO
END:VEVENT
BEGIN:VEVENT
DTSTART;TZID=America/Denver:20251126T180000
DTEND;TZID=America/Denver:20251126T193000
DTSTAMP:20260422T104910
CREATED:20250626T182705Z
LAST-MODIFIED:20250626T182705Z
UID:19733-1764180000-1764185400@buildinghopesummit.org
SUMMARY:Silverthorne Library Meditation Group
DESCRIPTION:Experienced meditators sit for two 25 minute silent unguided sessions\, with optional sharing of experience after each session. “In Silence” cards provided for those choosing to remain silent for the evening.
URL:https://buildinghopesummit.org/calendar_default/silverthorne-library-meditation-group-11/
LOCATION:CO
ATTACH;FMTTYPE=image/jpeg:https://buildinghopesummit.org/wp-content/uploads/2025/06/Silverthorne-Meditation-Group.jpg
END:VEVENT
BEGIN:VEVENT
DTSTART;TZID=America/Denver:20251126T173000
DTEND;TZID=America/Denver:20251126T183000
DTSTAMP:20260422T104910
CREATED:20251028T221239Z
LAST-MODIFIED:20251028T221239Z
UID:21270-1764178200-1764181800@buildinghopesummit.org
SUMMARY:Mind In Motion
DESCRIPTION:
URL:https://buildinghopesummit.org/calendar_default/mind-in-motion-3/
LOCATION:CO
ATTACH;FMTTYPE=image/png:https://buildinghopesummit.org/wp-content/uploads/2025/10/Mind-in-Motion.png
END:VEVENT
BEGIN:VEVENT
DTSTART;TZID=America/Denver:20251124T180000
DTEND;TZID=America/Denver:20251124T190000
DTSTAMP:20260422T104910
CREATED:20251028T220507Z
LAST-MODIFIED:20251028T220507Z
UID:21260-1764007200-1764010800@buildinghopesummit.org
SUMMARY:Fortaleza en Comunidad: Grupo de Apoyo para Inmigrantes
DESCRIPTION:
URL:https://buildinghopesummit.org/calendar_default/fortaleza-en-comunidad-grupo-de-apoyo-para-inmigrantes-4/
LOCATION:CO
END:VEVENT
BEGIN:VEVENT
DTSTART;TZID=America/Denver:20251124T120000
DTEND;TZID=America/Denver:20251124T125000
DTSTAMP:20260422T104910
CREATED:20250826T235127Z
LAST-MODIFIED:20250903T212732Z
UID:20349-1763985600-1763988600@buildinghopesummit.org
SUMMARY:Growing Us: Skills for Improved Communication & Connection for Couples
DESCRIPTION:Biweekly couples group designed to help partners strengthen their relationship through practical\, research-based tools. \nConnection & Emotional Closeness \nConflict & Problem-Solving \nRelationship Skills & Communication \nEvery Other Monday starting September 15th\, 12pm to 12:50pm \nVirtual Zoom: Scan QR Code for Link or click here.
URL:https://buildinghopesummit.org/calendar_default/growing-us-skills-for-improved-communication-connection-for-couples-6/
LOCATION:CO
END:VEVENT
BEGIN:VEVENT
DTSTART;TZID=America/Denver:20251121T163000
DTEND;TZID=America/Denver:20251121T183000
DTSTAMP:20260422T104910
CREATED:20251030T031311Z
LAST-MODIFIED:20251030T031311Z
UID:21324-1763742600-1763749800@buildinghopesummit.org
SUMMARY:Muddy Buddies: Ceramics for Teens
DESCRIPTION:Join the HYPE for a hands-on adventure where you can shape\, create\, and let your imagination\nrun wild in a supportive environment. Working with clay is not only super fun\, but it also calms\nthe mind and boosts creativity.\nThis event is intended for Summit County residents only. Ages 12-18.\nEvent Facilitated in English.
URL:https://buildinghopesummit.org/calendar_default/muddy-buddies-ceramics-for-teens/
LOCATION:BRECK CREATE\, 136 South Main Street\, Breckenridge\, CO\, 80424\, United States
CATEGORIES:Hype
END:VEVENT
BEGIN:VEVENT
DTSTART;TZID=America/Denver:20251119T190000
DTEND;TZID=America/Denver:20251119T203000
DTSTAMP:20260422T104910
CREATED:20251030T022124Z
LAST-MODIFIED:20251030T022804Z
UID:21318-1763578800-1763584200@buildinghopesummit.org
SUMMARY:Thanksgiving Gratitude Mural (Bilingual)
DESCRIPTION:Join us for a special Gratitude Mural Family Event — a joyful gathering where families come\ntogether to reflect\, connect\, and express what they’re thankful for.\nNo childcare or supervision of children is being provided.\nThis event is intended for Summit County residents only.\nEvent Facilitated in English and Spanish.
URL:https://buildinghopesummit.org/calendar_default/thanksgiving-gratitude-mural-bilingual-2/
LOCATION:Thrive Yoga Summit\, 101 3rd Ave\, Unit C\, Frisco\, CO\, 80443\, United States
CATEGORIES:Family Connectedness
END:VEVENT
BEGIN:VEVENT
DTSTART;TZID=America/Denver:20251119T180000
DTEND;TZID=America/Denver:20251119T193000
DTSTAMP:20260422T104910
CREATED:20250626T180948Z
LAST-MODIFIED:20250626T180948Z
UID:19706-1763575200-1763580600@buildinghopesummit.org
SUMMARY:Breckenridge Library Silent Meditation Group
DESCRIPTION:Experienced meditators sit for two 25 minute silent unguided sessions\, with optional sharing of experience after each session. “In Silence” cards provided for those choosing to remain silent for the evening.
URL:https://buildinghopesummit.org/calendar_default/breckenridge-library-silent-meditation-group-14/
LOCATION:CO
END:VEVENT
BEGIN:VEVENT
DTSTART;TZID=America/Denver:20251118T183000
DTEND;TZID=America/Denver:20251118T200000
DTSTAMP:20260422T104910
CREATED:20250927T231656Z
LAST-MODIFIED:20250927T231656Z
UID:20781-1763490600-1763496000@buildinghopesummit.org
SUMMARY:Capacitación para voluntarios de embajadores de eventos
DESCRIPTION:Los embajadores de Building Hope reciben capacitación para representar a Building Hope en nuestra comunidad. \nApoyan nuestros Eventos de Conexión y promueven a Building Hope en eventos comunitarios presentando nuestra misión y objetivos. Pueden servir como parte del equipo de bienvenida\, un recurso o un oído amigable durante nuestros eventos\, asegurándose de que todos los invitados se sientan bienvenidos e incluidos. \nLa capacitación para embajadores voluntarios se lleva a cabo mensualmente. Seleccione la fecha y hora que prefiere.
URL:https://buildinghopesummit.org/calendar_default/capacitacion-para-voluntarios-de-embajadores-de-eventos-17/
LOCATION:CO
CATEGORIES:Trainings
END:VEVENT
BEGIN:VEVENT
DTSTART;TZID=America/Denver:20251118T173000
DTEND;TZID=America/Denver:20251118T193000
DTSTAMP:20260422T104910
CREATED:20250321T164750Z
LAST-MODIFIED:20250321T164750Z
UID:17954-1763487000-1763494200@buildinghopesummit.org
SUMMARY:Ducks in a Row: End of Life Planning
DESCRIPTION:Join us as we continue to explore how to have meaningful conversations with loved ones about end-of-life planning. Whether you attended the first session or are just jumping in\, this event is for you.\n\n\n What to Expect:\n• Guidance on making thoughtful\, stress-free arrangements\n• Insights on navigating tough conversations with loved ones\n• Lessons learned about important paperwork\n• Real-life stories & professional advice\n• Open Q&A to help you get your Ducks in a Row\n\n\n November 18\n 5:30–7:30 p.m.\n Community & Senior Center\, Frisco\n Panel Discussion + Light Refreshments\n\n\nLet’s make hard conversations a little easier—together.\nRSVP through the link below. We hope to see you there!\nbit.ly/summitducks
URL:https://buildinghopesummit.org/calendar_default/ducks-in-a-row-end-of-life-planning-11/
LOCATION:CO
END:VEVENT
BEGIN:VEVENT
DTSTART;TZID=America/Denver:20251118T163000
DTEND;TZID=America/Denver:20251118T180000
DTSTAMP:20260422T104910
CREATED:20250927T230620Z
LAST-MODIFIED:20250927T230620Z
UID:20770-1763483400-1763488800@buildinghopesummit.org
SUMMARY:Event Ambassador Volunteer Training
DESCRIPTION:Building Hope Ambassadors are trained to represent Building Hope in our community. \nThey support (and participate in!) our Connectedness Events and also promote Building Hope at Community Events . They can serve as greeters\, a resource\, or friendly ear during our events and seek to make all guests feel welcome and included. \nEvent Ambassadors are expected to support 3-4 events a year. \nEvents typically last 1-3 hours. \nEvent Ambassador Volunteer Training is offered monthly. Select your preferred date and time.\nIf the available times do not work for you\, please reach out to us at jeng@buildinghopesummit.org
URL:https://buildinghopesummit.org/calendar_default/event-ambassador-volunteer-training-24/
LOCATION:CO
CATEGORIES:Trainings
END:VEVENT
BEGIN:VEVENT
DTSTART;TZID=America/Denver:20251118T100000
DTEND;TZID=America/Denver:20251118T233000
DTSTAMP:20260422T104910
CREATED:20251030T020438Z
LAST-MODIFIED:20251030T020438Z
UID:21311-1763460000-1763508600@buildinghopesummit.org
SUMMARY:Yoga + Mindfulness Gratitude Practice
DESCRIPTION:Join Leslie Glenn for a special yoga and meditation experience designed to strengthen\nawareness\, presence\, and connection both on and off the yoga mat.\nThis event is intended for Summit County residents only.\nEvent Facilitated in English.
URL:https://buildinghopesummit.org/calendar_default/yoga-mindfulness-gratitude-practice/
LOCATION:Frisco Senior and Community Center\, 83 Nancy's Place\, Frisco\, CO\, 80443\, United States
CATEGORIES:Connecting Events
END:VEVENT
BEGIN:VEVENT
DTSTART;TZID=America/Denver:20251117T180000
DTEND;TZID=America/Denver:20251117T190000
DTSTAMP:20260422T104910
CREATED:20251028T220433Z
LAST-MODIFIED:20251028T220433Z
UID:21258-1763402400-1763406000@buildinghopesummit.org
SUMMARY:Fortaleza en Comunidad: Grupo de Apoyo para Inmigrantes
DESCRIPTION:
URL:https://buildinghopesummit.org/calendar_default/fortaleza-en-comunidad-grupo-de-apoyo-para-inmigrantes-3/
LOCATION:CO
END:VEVENT
BEGIN:VEVENT
DTSTART;TZID=America/Denver:20251117T170000
DTEND;TZID=America/Denver:20251117T183000
DTSTAMP:20260422T104910
CREATED:20250420T194609Z
LAST-MODIFIED:20250420T194609Z
UID:19024-1763398800-1763404200@buildinghopesummit.org
SUMMARY:Healing For Healers
DESCRIPTION:Introducing Healing for Healers—a program for mental health providers to prioritize their own mental health and wellness. \nWe know that this work lives inside of us— so we created a program designed specifically for you\, the people answering the call in Summit County. Healing for Healers offers a safe\, confidential space to connect with peers\, engage in deeper healing practices\, relieve workforce fatigue\, and build a generative community of support. \nNamasport is so proud to have partnered with Building Hope to bring this free program to the Building Hope practitioner network! We will offer a complimentary program every month through the end of 2025. Each 90-minute session will include a somatic ritual\, an evidence-based tool\, and space for individual and group processing. \nCome for one\, or come for all\, the sessions are designed so you can participate whenever it serves you. If you are interested\, please follow the QR code on the flyer to our Eventbrite page so we can add you to our registration list—we would love to have you join us! \nFor those who hold space for others\, this is your space to drop-in\, breathe\, and receive. Healing for Healers was created to help you reset\, restore\, and reconnect—because this is time for you.
URL:https://buildinghopesummit.org/calendar_default/healing-for-healers-8/
LOCATION:CO
END:VEVENT
END:VCALENDAR