BEGIN:VCALENDAR
VERSION:2.0
PRODID:-//Building Hope Summit -&nbsp; - ECPv6.15.20//NONSGML v1.0//EN
CALSCALE:GREGORIAN
METHOD:PUBLISH
X-WR-CALNAME:Building Hope Summit -&nbsp;
X-ORIGINAL-URL:https://buildinghopesummit.org
X-WR-CALDESC:Events for Building Hope Summit -&nbsp;
REFRESH-INTERVAL;VALUE=DURATION:PT1H
X-Robots-Tag:noindex
X-PUBLISHED-TTL:PT1H
BEGIN:VTIMEZONE
TZID:America/Denver
BEGIN:DAYLIGHT
TZOFFSETFROM:-0700
TZOFFSETTO:-0600
TZNAME:MDT
DTSTART:20230312T090000
END:DAYLIGHT
BEGIN:STANDARD
TZOFFSETFROM:-0600
TZOFFSETTO:-0700
TZNAME:MST
DTSTART:20231105T080000
END:STANDARD
BEGIN:DAYLIGHT
TZOFFSETFROM:-0700
TZOFFSETTO:-0600
TZNAME:MDT
DTSTART:20240310T090000
END:DAYLIGHT
BEGIN:STANDARD
TZOFFSETFROM:-0600
TZOFFSETTO:-0700
TZNAME:MST
DTSTART:20241103T080000
END:STANDARD
BEGIN:DAYLIGHT
TZOFFSETFROM:-0700
TZOFFSETTO:-0600
TZNAME:MDT
DTSTART:20250309T090000
END:DAYLIGHT
BEGIN:STANDARD
TZOFFSETFROM:-0600
TZOFFSETTO:-0700
TZNAME:MST
DTSTART:20251102T080000
END:STANDARD
END:VTIMEZONE
BEGIN:VEVENT
DTSTART;TZID=America/Denver:20241028T170000
DTEND;TZID=America/Denver:20241028T183000
DTSTAMP:20260423T084101
CREATED:20240730T160745Z
LAST-MODIFIED:20240730T160745Z
UID:15327-1730134800-1730140200@buildinghopesummit.org
SUMMARY:Genuine Art Therapy
DESCRIPTION:This art therapy support group will guide you through a series of Art Therapy Directives focused on learning interpersonal skills\, boundary setting\, and mindfulness based techniques to enlighten and encourage the best you to emerge. \nEmail for details: creatalityrelations@gmail.com \n 
URL:https://buildinghopesummit.org/calendar_default/genuine-art-therapy-7/
LOCATION:CO
ATTACH;FMTTYPE=image/png:https://buildinghopesummit.org/wp-content/uploads/2024/07/Art-Therapy-Support-Group-August-October.png
END:VEVENT
BEGIN:VEVENT
DTSTART;TZID=America/Denver:20241029T173000
DTEND;TZID=America/Denver:20241029T190000
DTSTAMP:20260423T084101
CREATED:20241016T173050Z
LAST-MODIFIED:20241016T173050Z
UID:15868-1730223000-1730228400@buildinghopesummit.org
SUMMARY:DIALECTICAL BEHAVIOR THERAPY (DBT) BUILDING RESILIENCY WOMEN’S GROUP
DESCRIPTION:Learn coping skills to to use in daily life to improve relationships\, communication\, self-awareness\, and lessening the impact and intensity of emotional distress
URL:https://buildinghopesummit.org/calendar_default/dialectical-behavior-therapy-dbt-building-resiliency-womens-group-2/
LOCATION:CO
ATTACH;FMTTYPE=image/png:https://buildinghopesummit.org/wp-content/uploads/2024/10/DBT-Womens.png
END:VEVENT
BEGIN:VEVENT
DTSTART;TZID=America/Denver:20241029T180000
DTEND;TZID=America/Denver:20241029T193000
DTSTAMP:20260423T084101
CREATED:20240916T205316Z
LAST-MODIFIED:20240916T205316Z
UID:15727-1730224800-1730230200@buildinghopesummit.org
SUMMARY:Connectedness-Bilingual Clases de Salsa
DESCRIPTION:Let’s celebrate life by dancing salsa. You don’t need to be a professional\, just have fun and let your body express itself with music.
URL:https://buildinghopesummit.org/calendar_default/connectedness-bilingual-clases-de-salsa/
LOCATION:Silverthorne Pavilion\, 400 Blue River Pkwy\, Silverthorne\, CO\, 80498\, United States
CATEGORIES:Connecting Events
END:VEVENT
BEGIN:VEVENT
DTSTART;TZID=America/Denver:20241030T120000
DTEND;TZID=America/Denver:20241030T125000
DTSTAMP:20260423T084101
CREATED:20240918T222424Z
LAST-MODIFIED:20240918T222424Z
UID:15776-1730289600-1730292600@buildinghopesummit.org
SUMMARY:New Moms Support Group
DESCRIPTION:
URL:https://buildinghopesummit.org/calendar_default/new-moms-support-group-6/
LOCATION:CO
ATTACH;FMTTYPE=image/png:https://buildinghopesummit.org/wp-content/uploads/2024/09/New-Moms-Support-Group.png
END:VEVENT
BEGIN:VEVENT
DTSTART;TZID=America/Denver:20241030T120000
DTEND;TZID=America/Denver:20241030T133000
DTSTAMP:20260423T084101
CREATED:20240830T160754Z
LAST-MODIFIED:20240830T160754Z
UID:15548-1730289600-1730295000@buildinghopesummit.org
SUMMARY:Event Ambassador Volunteer Training
DESCRIPTION:Building Hope Ambassadors are trained to represent Building Hope in our community. \nThey support (and participate in!) our Connectedness Events and also promote Building Hope at Community Events . They can serve as greeters\, a resource\, or friendly ear during our events and seek to make all guests feel welcome and included. \nEvent Ambassadors are expected to support 3-4 events a year. \nEvents typically last 1-3 hours. \nEvent Ambassador Volunteer Training is offered monthly. Select your preferred date and time. \nIf the available times do not work for you\, please reach out to us at info@buildinghopesummit.org.
URL:https://buildinghopesummit.org/calendar_default/event-ambassador-volunteer-training-13/
LOCATION:CO
CATEGORIES:Trainings
END:VEVENT
BEGIN:VEVENT
DTSTART;TZID=America/Denver:20241030T170000
DTEND;TZID=America/Denver:20241030T190000
DTSTAMP:20260423T084101
CREATED:20241015T163809Z
LAST-MODIFIED:20241015T163809Z
UID:15843-1730307600-1730314800@buildinghopesummit.org
SUMMARY:NEUROCONNECTIONS: Empowering Families Together
DESCRIPTION:WHAT: Support\, Connection\, and Training \nWho: Parents and children with neurodivergence and\nbehavioral needs (siblings welcome) \nWhy: Doing this is hard\, and you don’t have to do it alone!\nCreate connections\, build community\, and walk away with\nstrategies each week \nCost: FREE!\nDinner Provided
URL:https://buildinghopesummit.org/calendar_default/neuroconnections-empowering-families-together-2/
LOCATION:CO
ATTACH;FMTTYPE=image/png:https://buildinghopesummit.org/wp-content/uploads/2024/10/Empowering-Fam.png
END:VEVENT
BEGIN:VEVENT
DTSTART;TZID=America/Denver:20241030T180000
DTEND;TZID=America/Denver:20241030T200000
DTSTAMP:20260423T084101
CREATED:20241014T210454Z
LAST-MODIFIED:20241014T210454Z
UID:15834-1730311200-1730318400@buildinghopesummit.org
SUMMARY:Expressive Art with - Connectedness
DESCRIPTION:Join Expressive Artist Kathye Conti to explore the role art plays in promoting personal well-being and connectedness.
URL:https://buildinghopesummit.org/calendar_default/expressive-art-with-connectedness/
LOCATION:Silverthorne Library\, SILVERTHORNE\, Silverthorne\, CO\, 80498\, United States
CATEGORIES:Connecting Events
END:VEVENT
BEGIN:VEVENT
DTSTART;TZID=America/Denver:20241031T120000
DTEND;TZID=America/Denver:20241031T130000
DTSTAMP:20260423T084101
CREATED:20240912T145928Z
LAST-MODIFIED:20240912T145928Z
UID:15682-1730376000-1730379600@buildinghopesummit.org
SUMMARY:Mom Talk: FREE therapist-led support group for moms with kids aged 1-5
DESCRIPTION:Virtual
URL:https://buildinghopesummit.org/calendar_default/mom-talk-free-therapist-led-support-group-for-moms-with-kids-aged-1-5-6/
LOCATION:CO
ATTACH;FMTTYPE=image/png:https://buildinghopesummit.org/wp-content/uploads/2024/09/Mom-Talk.png
END:VEVENT
BEGIN:VEVENT
DTSTART;TZID=America/Denver:20241101T090000
DTEND;TZID=America/Denver:20241101T120000
DTSTAMP:20260423T084101
CREATED:20241017T213604Z
LAST-MODIFIED:20241017T213604Z
UID:15909-1730451600-1730462400@buildinghopesummit.org
SUMMARY:FIRC Open Enrollment Walk-ins
DESCRIPTION:
URL:https://buildinghopesummit.org/calendar_default/firc-open-enrollment-walk-ins/
LOCATION:CO
ATTACH;FMTTYPE=image/png:https://buildinghopesummit.org/wp-content/uploads/2024/10/OE-November-2.png
END:VEVENT
BEGIN:VEVENT
DTSTART;TZID=America/Denver:20241101T140000
DTEND;TZID=America/Denver:20241101T160000
DTSTAMP:20260423T084101
CREATED:20241017T213747Z
LAST-MODIFIED:20241017T213747Z
UID:15912-1730469600-1730476800@buildinghopesummit.org
SUMMARY:FIRC Open Enrollment Walk-ins
DESCRIPTION:
URL:https://buildinghopesummit.org/calendar_default/firc-open-enrollment-walk-ins-2/
LOCATION:CO
ATTACH;FMTTYPE=image/png:https://buildinghopesummit.org/wp-content/uploads/2024/10/OE-November-2.png
END:VEVENT
BEGIN:VEVENT
DTSTART;TZID=America/Denver:20241101T140000
DTEND;TZID=America/Denver:20241101T160000
DTSTAMP:20260423T084101
CREATED:20241017T214124Z
LAST-MODIFIED:20241017T214124Z
UID:15934-1730469600-1730476800@buildinghopesummit.org
SUMMARY:FIRC Open Enrollment Walk-ins
DESCRIPTION:
URL:https://buildinghopesummit.org/calendar_default/firc-open-enrollment-walk-ins-13/
LOCATION:CO
ATTACH;FMTTYPE=image/png:https://buildinghopesummit.org/wp-content/uploads/2024/10/OE-November-2.png
END:VEVENT
BEGIN:VEVENT
DTSTART;TZID=America/Denver:20241102T150000
DTEND;TZID=America/Denver:20241102T160000
DTSTAMP:20260423T084101
CREATED:20240905T151512Z
LAST-MODIFIED:20240905T151512Z
UID:15622-1730559600-1730563200@buildinghopesummit.org
SUMMARY:Free Whole Person Group (Virtual)
DESCRIPTION:
URL:https://buildinghopesummit.org/calendar_default/free-whole-person-group-virtual-4/
LOCATION:CO
END:VEVENT
BEGIN:VEVENT
DTSTART;TZID=America/Denver:20241102T170000
DTEND;TZID=America/Denver:20241102T183000
DTSTAMP:20260423T084101
CREATED:20240627T195545Z
LAST-MODIFIED:20240627T195545Z
UID:15077-1730566800-1730572200@buildinghopesummit.org
SUMMARY:GRUPO DE APOYO PARA MAMÁS EXPECTANTES O  POSPARTO
DESCRIPTION:Estoy emocionada de ofrecer apoyo emocional y mental a este\nnuevo grupo de personas que se identifican como Latinas\, mamás\nexpectantes\, mamás con un recién nacido e hispano-hablantes. \nÚnase a nosotros en un lugar seguro para compartir experiencias\,\nreír\, llorar\, practicar habilidades de afrontamiento\, construir\namistades y aprender a que en la vida NO ESTAS SOLA.
URL:https://buildinghopesummit.org/calendar_default/grupo-de-apoyo-para-mamas-expectantes-o-posparto-14/
LOCATION:CO
ATTACH;FMTTYPE=image/png:https://buildinghopesummit.org/wp-content/uploads/2024/06/Spanish-Group.png
END:VEVENT
BEGIN:VEVENT
DTSTART;TZID=America/Denver:20241104T090000
DTEND;TZID=America/Denver:20241104T120000
DTSTAMP:20260423T084101
CREATED:20241017T213756Z
LAST-MODIFIED:20241017T213756Z
UID:15913-1730710800-1730721600@buildinghopesummit.org
SUMMARY:FIRC Open Enrollment Walk-ins
DESCRIPTION:
URL:https://buildinghopesummit.org/calendar_default/firc-open-enrollment-walk-ins-3/
LOCATION:CO
ATTACH;FMTTYPE=image/png:https://buildinghopesummit.org/wp-content/uploads/2024/10/OE-November-2.png
END:VEVENT
BEGIN:VEVENT
DTSTART;TZID=America/Denver:20241105T130000
DTEND;TZID=America/Denver:20241105T160000
DTSTAMP:20260423T084101
CREATED:20241017T213818Z
LAST-MODIFIED:20241017T213818Z
UID:15914-1730811600-1730822400@buildinghopesummit.org
SUMMARY:FIRC Open Enrollment Walk-ins
DESCRIPTION:
URL:https://buildinghopesummit.org/calendar_default/firc-open-enrollment-walk-ins-4/
LOCATION:CO
ATTACH;FMTTYPE=image/png:https://buildinghopesummit.org/wp-content/uploads/2024/10/OE-November-2.png
END:VEVENT
BEGIN:VEVENT
DTSTART;TZID=America/Denver:20241105T173000
DTEND;TZID=America/Denver:20241105T190000
DTSTAMP:20260423T084101
CREATED:20241016T173058Z
LAST-MODIFIED:20241016T173058Z
UID:15869-1730827800-1730833200@buildinghopesummit.org
SUMMARY:DIALECTICAL BEHAVIOR THERAPY (DBT) BUILDING RESILIENCY WOMEN’S GROUP
DESCRIPTION:Learn coping skills to to use in daily life to improve relationships\, communication\, self-awareness\, and lessening the impact and intensity of emotional distress
URL:https://buildinghopesummit.org/calendar_default/dialectical-behavior-therapy-dbt-building-resiliency-womens-group-3/
LOCATION:CO
ATTACH;FMTTYPE=image/png:https://buildinghopesummit.org/wp-content/uploads/2024/10/DBT-Womens.png
END:VEVENT
BEGIN:VEVENT
DTSTART;TZID=America/Denver:20241105T173000
DTEND;TZID=America/Denver:20241105T190000
DTSTAMP:20260423T084101
CREATED:20241030T184052Z
LAST-MODIFIED:20241030T184052Z
UID:15979-1730827800-1730833200@buildinghopesummit.org
SUMMARY:Groupo De Apoyo para Nuevos Immigrantes
DESCRIPTION:
URL:https://buildinghopesummit.org/calendar_default/groupo-de-apoyo-para-nuevos-immigrantes/
LOCATION:CO
END:VEVENT
BEGIN:VEVENT
DTSTART;TZID=America/Denver:20241106T170000
DTEND;TZID=America/Denver:20241106T190000
DTSTAMP:20260423T084101
CREATED:20241015T163821Z
LAST-MODIFIED:20241015T163821Z
UID:15844-1730912400-1730919600@buildinghopesummit.org
SUMMARY:NEUROCONNECTIONS: Empowering Families Together
DESCRIPTION:WHAT: Support\, Connection\, and Training \nWho: Parents and children with neurodivergence and\nbehavioral needs (siblings welcome) \nWhy: Doing this is hard\, and you don’t have to do it alone!\nCreate connections\, build community\, and walk away with\nstrategies each week \nCost: FREE!\nDinner Provided
URL:https://buildinghopesummit.org/calendar_default/neuroconnections-empowering-families-together-3/
LOCATION:CO
ATTACH;FMTTYPE=image/png:https://buildinghopesummit.org/wp-content/uploads/2024/10/Empowering-Fam.png
END:VEVENT
BEGIN:VEVENT
DTSTART;TZID=America/Denver:20241107T090000
DTEND;TZID=America/Denver:20241107T120000
DTSTAMP:20260423T084101
CREATED:20241017T213825Z
LAST-MODIFIED:20241017T213825Z
UID:15915-1730970000-1730980800@buildinghopesummit.org
SUMMARY:FIRC Open Enrollment Walk-ins
DESCRIPTION:
URL:https://buildinghopesummit.org/calendar_default/firc-open-enrollment-walk-ins-5/
LOCATION:CO
ATTACH;FMTTYPE=image/png:https://buildinghopesummit.org/wp-content/uploads/2024/10/OE-November-2.png
END:VEVENT
BEGIN:VEVENT
DTSTART;TZID=America/Denver:20241107T120000
DTEND;TZID=America/Denver:20241107T130000
DTSTAMP:20260423T084101
CREATED:20240912T145936Z
LAST-MODIFIED:20240912T145936Z
UID:15683-1730980800-1730984400@buildinghopesummit.org
SUMMARY:Mom Talk: FREE therapist-led support group for moms with kids aged 1-5
DESCRIPTION:Virtual
URL:https://buildinghopesummit.org/calendar_default/mom-talk-free-therapist-led-support-group-for-moms-with-kids-aged-1-5-7/
LOCATION:CO
ATTACH;FMTTYPE=image/png:https://buildinghopesummit.org/wp-content/uploads/2024/09/Mom-Talk.png
END:VEVENT
BEGIN:VEVENT
DTSTART;TZID=America/Denver:20241107T181500
DTEND;TZID=America/Denver:20241107T193000
DTSTAMP:20260423T084101
CREATED:20241017T155318Z
LAST-MODIFIED:20241017T155318Z
UID:15893-1731003300-1731007800@buildinghopesummit.org
SUMMARY:Community Yoga with Leslie Glenn-Connectedness Event.
DESCRIPTION:Yoga helps clear the mind\, offers calm and healing\, and unites communities.\nJoin Leslie Glenn for this hour’s class.
URL:https://buildinghopesummit.org/calendar_default/community-yoga-with-leslie-glenn-connectedness-event/
LOCATION:Frisco Senior and Community Center\, 83 Nancy's Place\, Frisco\, CO\, 80443\, United States
CATEGORIES:Connecting Events
END:VEVENT
BEGIN:VEVENT
DTSTART;TZID=America/Denver:20241109T150000
DTEND;TZID=America/Denver:20241109T160000
DTSTAMP:20260423T084101
CREATED:20240905T151101Z
LAST-MODIFIED:20240905T151101Z
UID:15607-1731164400-1731168000@buildinghopesummit.org
SUMMARY:Free Whole Person Group (In-Person)
DESCRIPTION:
URL:https://buildinghopesummit.org/calendar_default/free-whole-person-group-in-person-5/
LOCATION:CO
END:VEVENT
BEGIN:VEVENT
DTSTART;TZID=America/Denver:20241109T160000
DTEND;TZID=America/Denver:20241109T180000
DTSTAMP:20260423T084101
CREATED:20241017T155817Z
LAST-MODIFIED:20241017T155817Z
UID:15896-1731168000-1731175200@buildinghopesummit.org
SUMMARY:Art Spot Teen Art-HYPE Ages 12-18.
DESCRIPTION:Join Building Hope & Art Spot for a fun workshop\, this is a great opportunity to create your works of art and practice some abilities. \n¡Únase a Building Hope para este divertido taller impartido en español e inglés! Utilizando técnicas de sublimado y pintura con acrilicos\, decoras de la mano de Simple Art Studio tu gorra/cachucha. \nEsta es una oportunidad perfecta para que los jóvenes conecten con otros jóvenes con mentalidad creativa y descubran habilidades artísticas\, desarrollen confianza en ellos mismos y disfruten de una artística sin expectativas ni prejuicios artísticos. \nTodos los niveles son bienvenidos\, no necesitas tener conocimientos previos. Los participantes compartirán algunos materiales y herramientas pero¡Conservarás tus proyectos terminados! \nEste es un evento es parte del programa Hype y está destinado para edades entre jóvenes de 12-18 años. Asegurarse de registrarse anticipadamente. \nClase Bilingüe \nEste evento está destinado sólo para los residentes del Condado Summit. \n– ————————————————————————————————- \nJoin Building Hope for a fun workshop taught in Spanish and English! Using sublimation techniques and acrylic paints\, with the help of Simple Art Studio you will decorate your own trucker hat. \nThis is a perfect opportunity for young people to connect with other creatively minded and discover artistic skills\, develop self-confidence\, and enjoy an artistic experience without expectations or artistic prejudices. \nAll levels are welcome\, you do not need to have previous knowledge to make this project. Participants will share some materials and tools but you will keep your finished projects! \nThis is an event that is part of the Hype program and is intended for ages 12-18. \nBe sure to register in advance. \nBilingual Class. \nThis event is intended for Summit County residents only. \n 
URL:https://buildinghopesummit.org/calendar_default/art-spot-teen-art-hype-ages-12-18/
LOCATION:Art Spot Silverthorne Makerspace\, 401 Blue River Parkway\, Silverthorne\, CO\, 80498\, United States
CATEGORIES:Hype
END:VEVENT
BEGIN:VEVENT
DTSTART;TZID=America/Denver:20241111T090000
DTEND;TZID=America/Denver:20241111T120000
DTSTAMP:20260423T084101
CREATED:20241017T213834Z
LAST-MODIFIED:20241017T213834Z
UID:15916-1731315600-1731326400@buildinghopesummit.org
SUMMARY:FIRC Open Enrollment Walk-ins
DESCRIPTION:
URL:https://buildinghopesummit.org/calendar_default/firc-open-enrollment-walk-ins-6/
LOCATION:CO
ATTACH;FMTTYPE=image/png:https://buildinghopesummit.org/wp-content/uploads/2024/10/OE-November-2.png
END:VEVENT
BEGIN:VEVENT
DTSTART;TZID=America/Denver:20241111T183000
DTEND;TZID=America/Denver:20241111T193000
DTSTAMP:20260423T084101
CREATED:20241017T160149Z
LAST-MODIFIED:20241017T160149Z
UID:15899-1731349800-1731353400@buildinghopesummit.org
SUMMARY:PFX: A Psychology-Fitness Experience. Connectedness Event
DESCRIPTION:A revolutionary group fitness class that combines psychology and neuroscience training\nwith a HIIT workout\, breathwork\, and meditation.
URL:https://buildinghopesummit.org/calendar_default/pfx-a-psychology-fitness-experience-connectedness-event/
LOCATION:The Pad\, 491 Rainbow Rd\, Silverthorne\, CO\, 80498\, United States
CATEGORIES:Connecting Events
END:VEVENT
BEGIN:VEVENT
DTSTART;TZID=America/Denver:20241112T150000
DTEND;TZID=America/Denver:20241112T180000
DTSTAMP:20260423T084101
CREATED:20241017T213850Z
LAST-MODIFIED:20241017T213850Z
UID:15917-1731423600-1731434400@buildinghopesummit.org
SUMMARY:FIRC Open Enrollment Walk-ins
DESCRIPTION:
URL:https://buildinghopesummit.org/calendar_default/firc-open-enrollment-walk-ins-7/
LOCATION:CO
ATTACH;FMTTYPE=image/png:https://buildinghopesummit.org/wp-content/uploads/2024/10/OE-November-2.png
END:VEVENT
BEGIN:VEVENT
DTSTART;TZID=America/Denver:20241112T173000
DTEND;TZID=America/Denver:20241112T190000
DTSTAMP:20260423T084101
CREATED:20241016T173106Z
LAST-MODIFIED:20241016T173106Z
UID:15870-1731432600-1731438000@buildinghopesummit.org
SUMMARY:DIALECTICAL BEHAVIOR THERAPY (DBT) BUILDING RESILIENCY WOMEN’S GROUP
DESCRIPTION:Learn coping skills to to use in daily life to improve relationships\, communication\, self-awareness\, and lessening the impact and intensity of emotional distress
URL:https://buildinghopesummit.org/calendar_default/dialectical-behavior-therapy-dbt-building-resiliency-womens-group-5/
LOCATION:CO
ATTACH;FMTTYPE=image/png:https://buildinghopesummit.org/wp-content/uploads/2024/10/DBT-Womens.png
END:VEVENT
BEGIN:VEVENT
DTSTART;TZID=America/Denver:20241112T173000
DTEND;TZID=America/Denver:20241112T193000
DTSTAMP:20260423T084101
CREATED:20241017T160551Z
LAST-MODIFIED:20241017T160551Z
UID:15901-1731432600-1731439800@buildinghopesummit.org
SUMMARY:Indoor Rock Climbing at the Breck Rec Center-HYPE: Ages 12-18
DESCRIPTION:Join the HYPE at the Breckenridge and get on the wall with your friends! \nAll skill levels welcome and all equipment will be provided! \nThis event is intended for Summit County Residents ages 12-18
URL:https://buildinghopesummit.org/calendar_default/indoor-rock-climbing-at-the-breck-rec-center-hype-ages-12-18/
LOCATION:Breckenridge Rec. Center\, 880 Airport Rd\, Breckenridge\, CO\, 80424\, United States
CATEGORIES:Hype
END:VEVENT
BEGIN:VEVENT
DTSTART;TZID=America/Denver:20241113T170000
DTEND;TZID=America/Denver:20241113T190000
DTSTAMP:20260423T084101
CREATED:20241015T163844Z
LAST-MODIFIED:20241015T163844Z
UID:15845-1731517200-1731524400@buildinghopesummit.org
SUMMARY:NEUROCONNECTIONS: Empowering Families Together
DESCRIPTION:WHAT: Support\, Connection\, and Training \nWho: Parents and children with neurodivergence and\nbehavioral needs (siblings welcome) \nWhy: Doing this is hard\, and you don’t have to do it alone!\nCreate connections\, build community\, and walk away with\nstrategies each week \nCost: FREE!\nDinner Provided
URL:https://buildinghopesummit.org/calendar_default/neuroconnections-empowering-families-together-4/
LOCATION:CO
ATTACH;FMTTYPE=image/png:https://buildinghopesummit.org/wp-content/uploads/2024/10/Empowering-Fam.png
END:VEVENT
BEGIN:VEVENT
DTSTART;TZID=America/Denver:20241114T120000
DTEND;TZID=America/Denver:20241114T130000
DTSTAMP:20260423T084101
CREATED:20240912T145939Z
LAST-MODIFIED:20240912T145939Z
UID:15684-1731585600-1731589200@buildinghopesummit.org
SUMMARY:Mom Talk: FREE therapist-led support group for moms with kids aged 1-5
DESCRIPTION:Virtual
URL:https://buildinghopesummit.org/calendar_default/mom-talk-free-therapist-led-support-group-for-moms-with-kids-aged-1-5-8/
LOCATION:CO
ATTACH;FMTTYPE=image/png:https://buildinghopesummit.org/wp-content/uploads/2024/09/Mom-Talk.png
END:VEVENT
END:VCALENDAR