BEGIN:VCALENDAR
VERSION:2.0
PRODID:-//Building Hope Summit -&nbsp; - ECPv6.15.20//NONSGML v1.0//EN
CALSCALE:GREGORIAN
METHOD:PUBLISH
X-ORIGINAL-URL:https://buildinghopesummit.org
X-WR-CALDESC:Events for Building Hope Summit -&nbsp;
REFRESH-INTERVAL;VALUE=DURATION:PT1H
X-Robots-Tag:noindex
X-PUBLISHED-TTL:PT1H
BEGIN:VTIMEZONE
TZID:America/Denver
BEGIN:DAYLIGHT
TZOFFSETFROM:-0700
TZOFFSETTO:-0600
TZNAME:MDT
DTSTART:20230312T090000
END:DAYLIGHT
BEGIN:STANDARD
TZOFFSETFROM:-0600
TZOFFSETTO:-0700
TZNAME:MST
DTSTART:20231105T080000
END:STANDARD
BEGIN:DAYLIGHT
TZOFFSETFROM:-0700
TZOFFSETTO:-0600
TZNAME:MDT
DTSTART:20240310T090000
END:DAYLIGHT
BEGIN:STANDARD
TZOFFSETFROM:-0600
TZOFFSETTO:-0700
TZNAME:MST
DTSTART:20241103T080000
END:STANDARD
BEGIN:DAYLIGHT
TZOFFSETFROM:-0700
TZOFFSETTO:-0600
TZNAME:MDT
DTSTART:20250309T090000
END:DAYLIGHT
BEGIN:STANDARD
TZOFFSETFROM:-0600
TZOFFSETTO:-0700
TZNAME:MST
DTSTART:20251102T080000
END:STANDARD
END:VTIMEZONE
BEGIN:VEVENT
DTSTART;TZID=America/Denver:20241019T150000
DTEND;TZID=America/Denver:20241019T160000
DTSTAMP:20260423T045400
CREATED:20240905T151501Z
LAST-MODIFIED:20240905T151501Z
UID:15621-1729350000-1729353600@buildinghopesummit.org
SUMMARY:Free Whole Person Group (Virtual)
DESCRIPTION:
URL:https://buildinghopesummit.org/calendar_default/free-whole-person-group-virtual-3/
LOCATION:CO
END:VEVENT
BEGIN:VEVENT
DTSTART;TZID=America/Denver:20241019T160000
DTEND;TZID=America/Denver:20241019T170000
DTSTAMP:20260423T045400
CREATED:20241010T213501Z
LAST-MODIFIED:20241010T213501Z
UID:15825-1729353600-1729357200@buildinghopesummit.org
SUMMARY:Surviving the Election: a Tranquil Moment in the Storm
DESCRIPTION:
URL:https://buildinghopesummit.org/calendar_default/surviving-the-election-a-tranquil-moment-in-the-storm/
LOCATION:CO
ATTACH;FMTTYPE=image/jpeg:https://buildinghopesummit.org/wp-content/uploads/2024/10/Poster-announcement-20241010.jpg
END:VEVENT
BEGIN:VEVENT
DTSTART;TZID=America/Denver:20241019T170000
DTEND;TZID=America/Denver:20241019T183000
DTSTAMP:20260423T045400
CREATED:20240627T195524Z
LAST-MODIFIED:20240627T200837Z
UID:15079-1729357200-1729362600@buildinghopesummit.org
SUMMARY:GRUPO DE APOYO PARA MAMÁS EXPECTANTES O  POSPARTO
DESCRIPTION:Estoy emocionada de ofrecer apoyo emocional y mental a este\nnuevo grupo de personas que se identifican como Latinas\, mamás\nexpectantes\, mamás con un recién nacido e hispano-hablantes. \nÚnase a nosotros en un lugar seguro para compartir experiencias\,\nreír\, llorar\, practicar habilidades de afrontamiento\, construir\namistades y aprender a que en la vida NO ESTAS SOLA.
URL:https://buildinghopesummit.org/calendar_default/grupo-de-apoyo-para-mamas-expectantes-o-posparto-12/
LOCATION:CO
ATTACH;FMTTYPE=image/png:https://buildinghopesummit.org/wp-content/uploads/2024/06/Spanish-Group.png
END:VEVENT
BEGIN:VEVENT
DTSTART;TZID=America/Denver:20241021T170000
DTEND;TZID=America/Denver:20241021T183000
DTSTAMP:20260423T045400
CREATED:20240730T160732Z
LAST-MODIFIED:20240730T160732Z
UID:15328-1729530000-1729535400@buildinghopesummit.org
SUMMARY:Genuine Art Therapy
DESCRIPTION:This art therapy support group will guide you through a series of Art Therapy Directives focused on learning interpersonal skills\, boundary setting\, and mindfulness based techniques to enlighten and encourage the best you to emerge. \nEmail for details: creatalityrelations@gmail.com \n 
URL:https://buildinghopesummit.org/calendar_default/genuine-art-therapy-6/
LOCATION:CO
ATTACH;FMTTYPE=image/png:https://buildinghopesummit.org/wp-content/uploads/2024/07/Art-Therapy-Support-Group-August-October.png
END:VEVENT
BEGIN:VEVENT
DTSTART;TZID=America/Denver:20241022T170000
DTEND;TZID=America/Denver:20241022T180000
DTSTAMP:20260423T045400
CREATED:20240916T175109Z
LAST-MODIFIED:20240916T175109Z
UID:15704-1729616400-1729620000@buildinghopesummit.org
SUMMARY:Trusted Adult Training
DESCRIPTION:
URL:https://buildinghopesummit.org/calendar_default/trusted-adult-training/
LOCATION:CO
ATTACH;FMTTYPE=image/png:https://buildinghopesummit.org/wp-content/uploads/2024/09/YF-Trainings-2024-25.png
END:VEVENT
BEGIN:VEVENT
DTSTART;TZID=America/Denver:20241023T120000
DTEND;TZID=America/Denver:20241023T125000
DTSTAMP:20260423T045400
CREATED:20240918T222415Z
LAST-MODIFIED:20240918T222415Z
UID:15775-1729684800-1729687800@buildinghopesummit.org
SUMMARY:New Moms Support Group
DESCRIPTION:
URL:https://buildinghopesummit.org/calendar_default/new-moms-support-group-5/
LOCATION:CO
ATTACH;FMTTYPE=image/png:https://buildinghopesummit.org/wp-content/uploads/2024/09/New-Moms-Support-Group.png
END:VEVENT
BEGIN:VEVENT
DTSTART;TZID=America/Denver:20241023T120000
DTEND;TZID=America/Denver:20241023T133000
DTSTAMP:20260423T045400
CREATED:20240830T155649Z
LAST-MODIFIED:20240830T155649Z
UID:15542-1729684800-1729690200@buildinghopesummit.org
SUMMARY:Capacitación para voluntarios de embajadores de eventos
DESCRIPTION:Los embajadores de Building Hope reciben capacitación para representar a Building Hope en nuestra comunidad. \nApoyan nuestros Eventos de Conexión y promueven a Building Hope en eventos comunitarios presentando nuestra misión y objetivos. Pueden servir como parte del equipo de bienvenida\, un recurso o un oído amigable durante nuestros eventos\, asegurándose de que todos los invitados se sientan bienvenidos e incluidos. \nLa capacitación para embajadores voluntarios se lleva a cabo mensualmente. Seleccione la fecha y hora que prefiere.
URL:https://buildinghopesummit.org/calendar_default/capacitacion-para-voluntarios-de-embajadores-de-eventos-8/
LOCATION:CO
CATEGORIES:Trainings
END:VEVENT
BEGIN:VEVENT
DTSTART;TZID=America/Denver:20241023T170000
DTEND;TZID=America/Denver:20241023T190000
DTSTAMP:20260423T045400
CREATED:20241015T163616Z
LAST-MODIFIED:20241015T163616Z
UID:15839-1729702800-1729710000@buildinghopesummit.org
SUMMARY:NEUROCONNECTIONS: Empowering Families Together
DESCRIPTION:WHAT: Support\, Connection\, and Training \nWho: Parents and children with neurodivergence and\nbehavioral needs (siblings welcome) \nWhy: Doing this is hard\, and you don’t have to do it alone!\nCreate connections\, build community\, and walk away with\nstrategies each week \nCost: FREE!\nDinner Provided
URL:https://buildinghopesummit.org/calendar_default/neuroconnections-empowering-families-together/
LOCATION:CO
ATTACH;FMTTYPE=image/png:https://buildinghopesummit.org/wp-content/uploads/2024/10/Empowering-Fam.png
END:VEVENT
BEGIN:VEVENT
DTSTART;TZID=America/Denver:20241024T120000
DTEND;TZID=America/Denver:20241024T130000
DTSTAMP:20260423T045400
CREATED:20240912T145920Z
LAST-MODIFIED:20240912T145920Z
UID:15681-1729771200-1729774800@buildinghopesummit.org
SUMMARY:Mom Talk: FREE therapist-led support group for moms with kids aged 1-5
DESCRIPTION:Virtual
URL:https://buildinghopesummit.org/calendar_default/mom-talk-free-therapist-led-support-group-for-moms-with-kids-aged-1-5-5/
LOCATION:CO
ATTACH;FMTTYPE=image/png:https://buildinghopesummit.org/wp-content/uploads/2024/09/Mom-Talk.png
END:VEVENT
BEGIN:VEVENT
DTSTART;TZID=America/Denver:20241024T180000
DTEND;TZID=America/Denver:20241024T190000
DTSTAMP:20260423T045400
CREATED:20240916T203125Z
LAST-MODIFIED:20240916T203125Z
UID:15719-1729792800-1729796400@buildinghopesummit.org
SUMMARY:Connectedness Sound Healing
DESCRIPTION:Led by EJ\, let the waves of sound wash over you in this relaxing Sound Bath experience.
URL:https://buildinghopesummit.org/calendar_default/connectedness-sound-healing/
LOCATION:Silverthorne Pavilion\, 400 Blue River Pkwy\, Silverthorne\, CO\, 80498\, United States
CATEGORIES:Connecting Events
END:VEVENT
BEGIN:VEVENT
DTSTART;TZID=America/Denver:20241024T180000
DTEND;TZID=America/Denver:20241024T193000
DTSTAMP:20260423T045400
CREATED:20240819T233113Z
LAST-MODIFIED:20240819T233113Z
UID:15464-1729792800-1729798200@buildinghopesummit.org
SUMMARY:Crestfallen Gliders
DESCRIPTION:A bereavement group for adults who have lost someone to suicide.
URL:https://buildinghopesummit.org/calendar_default/crestfallen-gliders-4/
LOCATION:CO
ATTACH;FMTTYPE=image/png:https://buildinghopesummit.org/wp-content/uploads/2024/08/Gliders.png
END:VEVENT
BEGIN:VEVENT
DTSTART;TZID=America/Denver:20241025T180000
DTEND;TZID=America/Denver:20241025T203000
DTSTAMP:20260423T045400
CREATED:20240916T203838Z
LAST-MODIFIED:20240916T203838Z
UID:15722-1729879200-1729888200@buildinghopesummit.org
SUMMARY:HYPE: Movie Night + YESS : Ages 12 - 18
DESCRIPTION:Enjoy a free night at the movies with your friends! Summit County residents ages 12-18. \nIn collaboration with YESS (The Youth Empowerment Society of Summit )\, enjoy a free night at the movies with your friends! We’re renting out a theater for you to watch a movie with your friends in a friendly environment. The movie starts at 6:30 pm.\nYESS will be purchasing snacks and drinks for all attendees!
URL:https://buildinghopesummit.org/calendar_default/hype-movie-night-yess-ages-12-18/
LOCATION:Skyline Cinema 8\, 312 Dillon Ridge Road\, Dillon\, CO\, 80435\, United States
CATEGORIES:Hype
END:VEVENT
BEGIN:VEVENT
DTSTART;TZID=America/Denver:20241026T083000
DTEND;TZID=America/Denver:20241026T170000
DTSTAMP:20260423T045400
CREATED:20240918T183309Z
LAST-MODIFIED:20240918T183309Z
UID:15766-1729931400-1729962000@buildinghopesummit.org
SUMMARY:Youth Mental Health First Aid
DESCRIPTION:This course teaches parents\, family members and adults working with\nadolescents to respond and care for those who may be experiencing a mental\nhealth challenge. Participants will learn warning signs\, how to reduce stigma\nsurrounding mental health\, and how to help youth in mental health crises. \n  \nFREE and Open to the Public. \nRegister in advance at silverthorne.org/programregistration
URL:https://buildinghopesummit.org/calendar_default/youth-mental-health-first-aid/
LOCATION:CO
ATTACH;FMTTYPE=image/png:https://buildinghopesummit.org/wp-content/uploads/2024/09/MHFA-Youth.png
END:VEVENT
BEGIN:VEVENT
DTSTART;TZID=America/Denver:20241026T100000
DTEND;TZID=America/Denver:20241026T120000
DTSTAMP:20260423T045400
CREATED:20240916T204349Z
LAST-MODIFIED:20240916T204349Z
UID:15725-1729936800-1729944000@buildinghopesummit.org
SUMMARY:HYPE Art Spot Teen Art   Ages 12-18.
DESCRIPTION:Join Building Hope & Art Spot for a fun workshop\, this is a great opportunity to create your works of art and practice some abilities. \nAll levels are welcome. Don’t need to have previous knowledge or abilities to enjoy this workshop just the willingness to have fun and create something with your own hands. \nParticipants will share some tools but will create individual designs and keep their finished projects. \nThis event is intended for Summit County residents only.
URL:https://buildinghopesummit.org/calendar_default/hype-art-spot-teen-art-ages-12-18/
LOCATION:The art spot\, 401 Blue River Pkwy\, Silverthorne\, CO\, 80498\, United States
CATEGORIES:Hype
END:VEVENT
BEGIN:VEVENT
DTSTART;TZID=America/Denver:20241026T150000
DTEND;TZID=America/Denver:20241026T160000
DTSTAMP:20260423T045400
CREATED:20240905T151045Z
LAST-MODIFIED:20240905T151045Z
UID:15606-1729954800-1729958400@buildinghopesummit.org
SUMMARY:Free Whole Person Group (In-Person)
DESCRIPTION:
URL:https://buildinghopesummit.org/calendar_default/free-whole-person-group-in-person-4/
LOCATION:CO
END:VEVENT
BEGIN:VEVENT
DTSTART;TZID=America/Denver:20241026T170000
DTEND;TZID=America/Denver:20241026T183000
DTSTAMP:20260423T045400
CREATED:20240627T195531Z
LAST-MODIFIED:20240627T200826Z
UID:15078-1729962000-1729967400@buildinghopesummit.org
SUMMARY:GRUPO DE APOYO PARA MAMÁS EXPECTANTES O  POSPARTO
DESCRIPTION:Estoy emocionada de ofrecer apoyo emocional y mental a este\nnuevo grupo de personas que se identifican como Latinas\, mamás\nexpectantes\, mamás con un recién nacido e hispano-hablantes. \nÚnase a nosotros en un lugar seguro para compartir experiencias\,\nreír\, llorar\, practicar habilidades de afrontamiento\, construir\namistades y aprender a que en la vida NO ESTAS SOLA.
URL:https://buildinghopesummit.org/calendar_default/grupo-de-apoyo-para-mamas-expectantes-o-posparto-13/
LOCATION:CO
ATTACH;FMTTYPE=image/png:https://buildinghopesummit.org/wp-content/uploads/2024/06/Spanish-Group.png
END:VEVENT
BEGIN:VEVENT
DTSTART;TZID=America/Denver:20241028T170000
DTEND;TZID=America/Denver:20241028T183000
DTSTAMP:20260423T045400
CREATED:20240730T160745Z
LAST-MODIFIED:20240730T160745Z
UID:15327-1730134800-1730140200@buildinghopesummit.org
SUMMARY:Genuine Art Therapy
DESCRIPTION:This art therapy support group will guide you through a series of Art Therapy Directives focused on learning interpersonal skills\, boundary setting\, and mindfulness based techniques to enlighten and encourage the best you to emerge. \nEmail for details: creatalityrelations@gmail.com \n 
URL:https://buildinghopesummit.org/calendar_default/genuine-art-therapy-7/
LOCATION:CO
ATTACH;FMTTYPE=image/png:https://buildinghopesummit.org/wp-content/uploads/2024/07/Art-Therapy-Support-Group-August-October.png
END:VEVENT
BEGIN:VEVENT
DTSTART;TZID=America/Denver:20241029T173000
DTEND;TZID=America/Denver:20241029T190000
DTSTAMP:20260423T045400
CREATED:20241016T173050Z
LAST-MODIFIED:20241016T173050Z
UID:15868-1730223000-1730228400@buildinghopesummit.org
SUMMARY:DIALECTICAL BEHAVIOR THERAPY (DBT) BUILDING RESILIENCY WOMEN’S GROUP
DESCRIPTION:Learn coping skills to to use in daily life to improve relationships\, communication\, self-awareness\, and lessening the impact and intensity of emotional distress
URL:https://buildinghopesummit.org/calendar_default/dialectical-behavior-therapy-dbt-building-resiliency-womens-group-2/
LOCATION:CO
ATTACH;FMTTYPE=image/png:https://buildinghopesummit.org/wp-content/uploads/2024/10/DBT-Womens.png
END:VEVENT
BEGIN:VEVENT
DTSTART;TZID=America/Denver:20241029T180000
DTEND;TZID=America/Denver:20241029T193000
DTSTAMP:20260423T045400
CREATED:20240916T205316Z
LAST-MODIFIED:20240916T205316Z
UID:15727-1730224800-1730230200@buildinghopesummit.org
SUMMARY:Connectedness-Bilingual Clases de Salsa
DESCRIPTION:Let’s celebrate life by dancing salsa. You don’t need to be a professional\, just have fun and let your body express itself with music.
URL:https://buildinghopesummit.org/calendar_default/connectedness-bilingual-clases-de-salsa/
LOCATION:Silverthorne Pavilion\, 400 Blue River Pkwy\, Silverthorne\, CO\, 80498\, United States
CATEGORIES:Connecting Events
END:VEVENT
BEGIN:VEVENT
DTSTART;TZID=America/Denver:20241030T120000
DTEND;TZID=America/Denver:20241030T125000
DTSTAMP:20260423T045400
CREATED:20240918T222424Z
LAST-MODIFIED:20240918T222424Z
UID:15776-1730289600-1730292600@buildinghopesummit.org
SUMMARY:New Moms Support Group
DESCRIPTION:
URL:https://buildinghopesummit.org/calendar_default/new-moms-support-group-6/
LOCATION:CO
ATTACH;FMTTYPE=image/png:https://buildinghopesummit.org/wp-content/uploads/2024/09/New-Moms-Support-Group.png
END:VEVENT
BEGIN:VEVENT
DTSTART;TZID=America/Denver:20241030T120000
DTEND;TZID=America/Denver:20241030T133000
DTSTAMP:20260423T045400
CREATED:20240830T160754Z
LAST-MODIFIED:20240830T160754Z
UID:15548-1730289600-1730295000@buildinghopesummit.org
SUMMARY:Event Ambassador Volunteer Training
DESCRIPTION:Building Hope Ambassadors are trained to represent Building Hope in our community. \nThey support (and participate in!) our Connectedness Events and also promote Building Hope at Community Events . They can serve as greeters\, a resource\, or friendly ear during our events and seek to make all guests feel welcome and included. \nEvent Ambassadors are expected to support 3-4 events a year. \nEvents typically last 1-3 hours. \nEvent Ambassador Volunteer Training is offered monthly. Select your preferred date and time. \nIf the available times do not work for you\, please reach out to us at info@buildinghopesummit.org.
URL:https://buildinghopesummit.org/calendar_default/event-ambassador-volunteer-training-13/
LOCATION:CO
CATEGORIES:Trainings
END:VEVENT
BEGIN:VEVENT
DTSTART;TZID=America/Denver:20241030T170000
DTEND;TZID=America/Denver:20241030T190000
DTSTAMP:20260423T045400
CREATED:20241015T163809Z
LAST-MODIFIED:20241015T163809Z
UID:15843-1730307600-1730314800@buildinghopesummit.org
SUMMARY:NEUROCONNECTIONS: Empowering Families Together
DESCRIPTION:WHAT: Support\, Connection\, and Training \nWho: Parents and children with neurodivergence and\nbehavioral needs (siblings welcome) \nWhy: Doing this is hard\, and you don’t have to do it alone!\nCreate connections\, build community\, and walk away with\nstrategies each week \nCost: FREE!\nDinner Provided
URL:https://buildinghopesummit.org/calendar_default/neuroconnections-empowering-families-together-2/
LOCATION:CO
ATTACH;FMTTYPE=image/png:https://buildinghopesummit.org/wp-content/uploads/2024/10/Empowering-Fam.png
END:VEVENT
BEGIN:VEVENT
DTSTART;TZID=America/Denver:20241030T180000
DTEND;TZID=America/Denver:20241030T200000
DTSTAMP:20260423T045400
CREATED:20241014T210454Z
LAST-MODIFIED:20241014T210454Z
UID:15834-1730311200-1730318400@buildinghopesummit.org
SUMMARY:Expressive Art with - Connectedness
DESCRIPTION:Join Expressive Artist Kathye Conti to explore the role art plays in promoting personal well-being and connectedness.
URL:https://buildinghopesummit.org/calendar_default/expressive-art-with-connectedness/
LOCATION:Silverthorne Library\, SILVERTHORNE\, Silverthorne\, CO\, 80498\, United States
CATEGORIES:Connecting Events
END:VEVENT
BEGIN:VEVENT
DTSTART;TZID=America/Denver:20241031T120000
DTEND;TZID=America/Denver:20241031T130000
DTSTAMP:20260423T045400
CREATED:20240912T145928Z
LAST-MODIFIED:20240912T145928Z
UID:15682-1730376000-1730379600@buildinghopesummit.org
SUMMARY:Mom Talk: FREE therapist-led support group for moms with kids aged 1-5
DESCRIPTION:Virtual
URL:https://buildinghopesummit.org/calendar_default/mom-talk-free-therapist-led-support-group-for-moms-with-kids-aged-1-5-6/
LOCATION:CO
ATTACH;FMTTYPE=image/png:https://buildinghopesummit.org/wp-content/uploads/2024/09/Mom-Talk.png
END:VEVENT
BEGIN:VEVENT
DTSTART;TZID=America/Denver:20241101T090000
DTEND;TZID=America/Denver:20241101T120000
DTSTAMP:20260423T045400
CREATED:20241017T213604Z
LAST-MODIFIED:20241017T213604Z
UID:15909-1730451600-1730462400@buildinghopesummit.org
SUMMARY:FIRC Open Enrollment Walk-ins
DESCRIPTION:
URL:https://buildinghopesummit.org/calendar_default/firc-open-enrollment-walk-ins/
LOCATION:CO
ATTACH;FMTTYPE=image/png:https://buildinghopesummit.org/wp-content/uploads/2024/10/OE-November-2.png
END:VEVENT
BEGIN:VEVENT
DTSTART;TZID=America/Denver:20241101T140000
DTEND;TZID=America/Denver:20241101T160000
DTSTAMP:20260423T045400
CREATED:20241017T213747Z
LAST-MODIFIED:20241017T213747Z
UID:15912-1730469600-1730476800@buildinghopesummit.org
SUMMARY:FIRC Open Enrollment Walk-ins
DESCRIPTION:
URL:https://buildinghopesummit.org/calendar_default/firc-open-enrollment-walk-ins-2/
LOCATION:CO
ATTACH;FMTTYPE=image/png:https://buildinghopesummit.org/wp-content/uploads/2024/10/OE-November-2.png
END:VEVENT
BEGIN:VEVENT
DTSTART;TZID=America/Denver:20241101T140000
DTEND;TZID=America/Denver:20241101T160000
DTSTAMP:20260423T045400
CREATED:20241017T214124Z
LAST-MODIFIED:20241017T214124Z
UID:15934-1730469600-1730476800@buildinghopesummit.org
SUMMARY:FIRC Open Enrollment Walk-ins
DESCRIPTION:
URL:https://buildinghopesummit.org/calendar_default/firc-open-enrollment-walk-ins-13/
LOCATION:CO
ATTACH;FMTTYPE=image/png:https://buildinghopesummit.org/wp-content/uploads/2024/10/OE-November-2.png
END:VEVENT
BEGIN:VEVENT
DTSTART;TZID=America/Denver:20241102T150000
DTEND;TZID=America/Denver:20241102T160000
DTSTAMP:20260423T045400
CREATED:20240905T151512Z
LAST-MODIFIED:20240905T151512Z
UID:15622-1730559600-1730563200@buildinghopesummit.org
SUMMARY:Free Whole Person Group (Virtual)
DESCRIPTION:
URL:https://buildinghopesummit.org/calendar_default/free-whole-person-group-virtual-4/
LOCATION:CO
END:VEVENT
BEGIN:VEVENT
DTSTART;TZID=America/Denver:20241102T170000
DTEND;TZID=America/Denver:20241102T183000
DTSTAMP:20260423T045400
CREATED:20240627T195545Z
LAST-MODIFIED:20240627T195545Z
UID:15077-1730566800-1730572200@buildinghopesummit.org
SUMMARY:GRUPO DE APOYO PARA MAMÁS EXPECTANTES O  POSPARTO
DESCRIPTION:Estoy emocionada de ofrecer apoyo emocional y mental a este\nnuevo grupo de personas que se identifican como Latinas\, mamás\nexpectantes\, mamás con un recién nacido e hispano-hablantes. \nÚnase a nosotros en un lugar seguro para compartir experiencias\,\nreír\, llorar\, practicar habilidades de afrontamiento\, construir\namistades y aprender a que en la vida NO ESTAS SOLA.
URL:https://buildinghopesummit.org/calendar_default/grupo-de-apoyo-para-mamas-expectantes-o-posparto-14/
LOCATION:CO
ATTACH;FMTTYPE=image/png:https://buildinghopesummit.org/wp-content/uploads/2024/06/Spanish-Group.png
END:VEVENT
BEGIN:VEVENT
DTSTART;TZID=America/Denver:20241104T090000
DTEND;TZID=America/Denver:20241104T120000
DTSTAMP:20260423T045400
CREATED:20241017T213756Z
LAST-MODIFIED:20241017T213756Z
UID:15913-1730710800-1730721600@buildinghopesummit.org
SUMMARY:FIRC Open Enrollment Walk-ins
DESCRIPTION:
URL:https://buildinghopesummit.org/calendar_default/firc-open-enrollment-walk-ins-3/
LOCATION:CO
ATTACH;FMTTYPE=image/png:https://buildinghopesummit.org/wp-content/uploads/2024/10/OE-November-2.png
END:VEVENT
END:VCALENDAR