BEGIN:VCALENDAR
VERSION:2.0
PRODID:-//Building Hope Summit -&nbsp; - ECPv6.15.18//NONSGML v1.0//EN
CALSCALE:GREGORIAN
METHOD:PUBLISH
X-WR-CALNAME:Building Hope Summit -&nbsp;
X-ORIGINAL-URL:https://buildinghopesummit.org
X-WR-CALDESC:Events for Building Hope Summit -&nbsp;
REFRESH-INTERVAL;VALUE=DURATION:PT1H
X-Robots-Tag:noindex
X-PUBLISHED-TTL:PT1H
BEGIN:VTIMEZONE
TZID:America/Denver
BEGIN:DAYLIGHT
TZOFFSETFROM:-0700
TZOFFSETTO:-0600
TZNAME:MDT
DTSTART:20240310T090000
END:DAYLIGHT
BEGIN:STANDARD
TZOFFSETFROM:-0600
TZOFFSETTO:-0700
TZNAME:MST
DTSTART:20241103T080000
END:STANDARD
BEGIN:DAYLIGHT
TZOFFSETFROM:-0700
TZOFFSETTO:-0600
TZNAME:MDT
DTSTART:20250309T090000
END:DAYLIGHT
BEGIN:STANDARD
TZOFFSETFROM:-0600
TZOFFSETTO:-0700
TZNAME:MST
DTSTART:20251102T080000
END:STANDARD
BEGIN:DAYLIGHT
TZOFFSETFROM:-0700
TZOFFSETTO:-0600
TZNAME:MDT
DTSTART:20260308T090000
END:DAYLIGHT
BEGIN:STANDARD
TZOFFSETFROM:-0600
TZOFFSETTO:-0700
TZNAME:MST
DTSTART:20261101T080000
END:STANDARD
END:VTIMEZONE
BEGIN:VEVENT
DTSTART;TZID=America/Denver:20251011T100000
DTEND;TZID=America/Denver:20251011T120000
DTSTAMP:20260422T115858
CREATED:20250924T024210Z
LAST-MODIFIED:20250924T024210Z
UID:20679-1760176800-1760184000@buildinghopesummit.org
SUMMARY:Family Ceramic Time
DESCRIPTION:Join us and the Art Spot to roll clay into coils to build a small desk planter pot.  \nNo childcare or supervision of children is being provided. \nThis event is intended for Summit County residents only. \nEvent Facilitated in English.
URL:https://buildinghopesummit.org/calendar_default/family-ceramic-time/
LOCATION:Art Spot Silverthorne Makerspace\, 401 Blue River Parkway\, Silverthorne\, CO\, 80498\, United States
CATEGORIES:Family Connectedness
END:VEVENT
BEGIN:VEVENT
DTSTART;TZID=America/Denver:20251012T100000
DTEND;TZID=America/Denver:20251012T123000
DTSTAMP:20260422T115858
CREATED:20250924T024534Z
LAST-MODIFIED:20250924T024534Z
UID:20682-1760263200-1760272200@buildinghopesummit.org
SUMMARY:Fall Landscape: Watercolor Painting |  Ages 12-18
DESCRIPTION:Embrace the unique beauty of Fall in the mountains as you explore the vibrant world of watercolor painting with Breck Create.  \nThis event is intended for Summit County residents only. Ages 12-18. \nEvent Facilitated in English.
URL:https://buildinghopesummit.org/calendar_default/fall-landscape-watercolor-painting-ages-12-18/
LOCATION:BRECK CREATE\, 136 South Main Street\, Breckenridge\, CO\, 80424\, United States
CATEGORIES:Hype
END:VEVENT
BEGIN:VEVENT
DTSTART;TZID=America/Denver:20251013T120000
DTEND;TZID=America/Denver:20251013T125000
DTSTAMP:20260422T115858
CREATED:20250826T234542Z
LAST-MODIFIED:20250903T212352Z
UID:20342-1760356800-1760359800@buildinghopesummit.org
SUMMARY:Growing Us: Skills for Improved Communication & Connection for Couples
DESCRIPTION:Biweekly couples group designed to help partners strengthen their relationship through practical\, research-based tools. \nConnection & Emotional Closeness \nConflict & Problem-Solving \nRelationship Skills & Communication \nEvery Other Monday starting September 15th\, 12pm to 12:50pm \nVirtual Zoom: Scan QR Code for Link or click here.
URL:https://buildinghopesummit.org/calendar_default/growing-us-skills-for-improved-communication-connection-for-couples-3/
LOCATION:CO
END:VEVENT
BEGIN:VEVENT
DTSTART;TZID=America/Denver:20251014T070000
DTEND;TZID=America/Denver:20251014T195000
DTSTAMP:20260422T115858
CREATED:20250826T231709Z
LAST-MODIFIED:20250903T211217Z
UID:20323-1760425200-1760471400@buildinghopesummit.org
SUMMARY:Moments of Mindfulness Stress Reduction Group
DESCRIPTION:Now\, join our weekly mindfulness group to start your day with calm\, clarity\, and practical tools for managing stress. \nEvery Tuesday 7am to 7:50am\, Virtually on Zoom \nZOOM LINK: https://us02web.zoom.us/j/83659897985 \nStarting 9/2/25 through 11/18/25
URL:https://buildinghopesummit.org/calendar_default/moments-of-mindfulness-stress-reduction-group-7/
LOCATION:CO
END:VEVENT
BEGIN:VEVENT
DTSTART;TZID=America/Denver:20251014T173000
DTEND;TZID=America/Denver:20251014T193000
DTSTAMP:20260422T115858
CREATED:20250818T201342Z
LAST-MODIFIED:20250818T205331Z
UID:20251-1760463000-1760470200@buildinghopesummit.org
SUMMARY:Facing the Mourning - Session 2 of 4
DESCRIPTION:FREE Grief Support Group \nAN INTIMATE & INTERACTIVE SUPPORT GROUP DESIGNED TO HELP WITH THE GRIEVING\nPROCESS BY USING VISUAL AND THOUGHT-PROVOKING TOOLS. DURING THESE FOUR\nSESSIONS\, THE PARTICIPANTS SHARE THEIR STORY\, BUILD MEMORIALS\, COMPOSE LETTERS\,\nWRITE IN JOURNALS\, AND DEVELOP GOALS WITH MILESTONES.\nGROUP IS LIMITED TO 8-10 PARTICIPANTS.\nFACILITATED BY DEP. CORONER BRITT LEA & CHIEF DEP. JILL RATLIFF\nSUMMIT COUNTY CORONER’S OFFICE \nOctober 7th\, 14th\, 21st\, 28th 5:30pm- 7:30pm\nMedical Office Building\, Suite 200\, 360 Peak One Drive\, Frisco\, CO\nRSVP REQUIRED- britt.lea@summitcountyco.gov
URL:https://buildinghopesummit.org/calendar_default/facing-the-mourning-session-2-of-4-3/
LOCATION:CO
END:VEVENT
BEGIN:VEVENT
DTSTART;TZID=America/Denver:20251014T173000
DTEND;TZID=America/Denver:20251014T200000
DTSTAMP:20260422T115858
CREATED:20250930T210727Z
LAST-MODIFIED:20250930T210727Z
UID:20811-1760463000-1760472000@buildinghopesummit.org
SUMMARY:Recovery Resource Fair and Film Screening
DESCRIPTION:Discover local resources\, connect with community organizations\, and learn more about addiction and recovery. The evening will conclude with a screening of Beautiful Boy\, a powerful film about the impact of opioid addiction on a family. \nEclipse Theater
URL:https://buildinghopesummit.org/calendar_default/recovery-resource-fair-and-film-screening/
LOCATION:CO
END:VEVENT
BEGIN:VEVENT
DTSTART;TZID=America/Denver:20251015T180000
DTEND;TZID=America/Denver:20251015T193000
DTSTAMP:20260422T115858
CREATED:20250626T182220Z
LAST-MODIFIED:20250626T182220Z
UID:19727-1760551200-1760556600@buildinghopesummit.org
SUMMARY:Silverthorne Library Meditation Group
DESCRIPTION:Experienced meditators sit for two 25 minute silent unguided sessions\, with optional sharing of experience after each session. “In Silence” cards provided for those choosing to remain silent for the evening.
URL:https://buildinghopesummit.org/calendar_default/silverthorne-library-meditation-group-8/
LOCATION:CO
ATTACH;FMTTYPE=image/jpeg:https://buildinghopesummit.org/wp-content/uploads/2025/06/Silverthorne-Meditation-Group.jpg
END:VEVENT
BEGIN:VEVENT
DTSTART;TZID=America/Denver:20251016T173000
DTEND;TZID=America/Denver:20251016T190000
DTSTAMP:20260422T115858
CREATED:20250903T215327Z
LAST-MODIFIED:20250903T215327Z
UID:20438-1760635800-1760641200@buildinghopesummit.org
SUMMARY:Grupo de Apoyo para Ma-Padres sobre Regulación y Desarrollo Emocional
DESCRIPTION:Te invitamos conocer otros ma-padres de la\ncomunidad\, a aprender sobre el desarrollo\nemocional y del cerebro de los niños\, a\nprofundizar un poco mas porque a veces\nreaccionamos como reaccionamos con\nnuestros hijos y sobre todo a acompañarnos\nen la tarea de ser ma-padres con mucha\nempatía y aceptación. \n¿Quienes están invitados? MaPadres que hablen español que\ntengan niños de 0 a 11 años \n¿Cuando?: \n4 encuentros (2\, 9\, 16\, 23 de Octubre) \n5:30-7:00pm \n¿Donde?: \nLa biblioteca de Dillon Valley Elementary \nRSVP: \nEn el grupo de whatsapp o\nenviando un mensaje al\n970-409-0899
URL:https://buildinghopesummit.org/calendar_default/grupo-de-apoyo-para-ma-padres-sobre-regulacion-y-desarrollo-emocional-3/
LOCATION:CO
END:VEVENT
BEGIN:VEVENT
DTSTART;TZID=America/Denver:20251016T180000
DTEND;TZID=America/Denver:20251016T191500
DTSTAMP:20260422T115858
CREATED:20250930T213554Z
LAST-MODIFIED:20250930T213554Z
UID:20834-1760637600-1760642100@buildinghopesummit.org
SUMMARY:Crestfallen Gliders
DESCRIPTION:A gathering for adults who have lost someone to suicide. \nEach meeting entails facilitated\nexpressive activities and\nconnecting with the community.\nContact Chris Clark for more\ndetails:\nelephinoeco@gmail.com\nhttp://www.elephinoeco.com/cfglide\nRSVP to help plan food/supplies
URL:https://buildinghopesummit.org/calendar_default/crestfallen-gliders-8/
LOCATION:CO
END:VEVENT
BEGIN:VEVENT
DTSTART;TZID=America/Denver:20251017T100000
DTEND;TZID=America/Denver:20251017T110000
DTSTAMP:20260422T115858
CREATED:20250903T214210Z
LAST-MODIFIED:20250903T214210Z
UID:20429-1760695200-1760698800@buildinghopesummit.org
SUMMARY:Summit Mothers Circle - Week 6
DESCRIPTION:A haven for new moms\, a community for the journey \nA 6-week group for pregnant and postpartum mothers. A space to connect around the realities of early motherhood – nurturing your baby\, caring for yourself\, and finding community along the way. \nVirtual for 6 weeks
URL:https://buildinghopesummit.org/calendar_default/summit-mothers-circle-week-6/
LOCATION:CO
END:VEVENT
BEGIN:VEVENT
DTSTART;TZID=America/Denver:20251017T180000
DTEND;TZID=America/Denver:20251017T193000
DTSTAMP:20260422T115858
CREATED:20250924T025159Z
LAST-MODIFIED:20251013T192022Z
UID:20684-1760724000-1760729400@buildinghopesummit.org
SUMMARY:Family Salsa Dance Class (Bilingual)
DESCRIPTION:Bring the whole family and let’s salsa! No dance experience needed—just come ready to have fun\, move to the music\, and enjoy time together. \nNo childcare or supervision of children is being provided. \nThis event is intended for Summit County residents only. \nEvent Facilitated in English and Spanish.
URL:https://buildinghopesummit.org/calendar_default/salsa-dance-class-bilingual/
LOCATION:Frisco Senior and Community Center\, 83 Nancy's Place\, Frisco\, CO\, 80443\, United States
CATEGORIES:Family Connectedness
END:VEVENT
BEGIN:VEVENT
DTSTART;TZID=America/Denver:20251018T100000
DTEND;TZID=America/Denver:20251018T120000
DTSTAMP:20260422T115858
CREATED:20250924T025435Z
LAST-MODIFIED:20250924T025546Z
UID:20687-1760781600-1760788800@buildinghopesummit.org
SUMMARY:Day at Summit Valley Horse Center  | Ages 12-18
DESCRIPTION:Join the HYPE for a day at the Summit Valley Horse Center and learn about the connection between humans and horses! \nThis event is intended for Summit County residents only Ages 12-18. \nEvent Facilitated in English.
URL:https://buildinghopesummit.org/calendar_default/day-at-summit-valley-horse-center-ages-12-18-2/
LOCATION:Summit Valley Horse Center\, 35405\, Silverthorne\, CO\, 80498\, United States
CATEGORIES:Hype
END:VEVENT
BEGIN:VEVENT
DTSTART;TZID=America/Denver:20251020T090000
DTEND;TZID=America/Denver:20251023T170000
DTSTAMP:20260422T115858
CREATED:20250806T184948Z
LAST-MODIFIED:20250806T184948Z
UID:20160-1760950800-1761238800@buildinghopesummit.org
SUMMARY:Substance Abuse Prevention Skills Training
DESCRIPTION:Substance Abuse Prevention Skills Training (SAPST) \nYouth & Family is hosting a SAPST – SPF Application for Prevention Success Training in October \n\nDelivered by the Rocky Mountain Public Health Training Center\nThe goal of the SAPST is to develop the basic knowledge and skills needed by substance misuse prevention practitioners to plan\, implement\, and evaluate effective\, data-driven programs and practices that reduce behavioral health disparities and improve wellness.\nIf you are interested in getting you Colorado Certified Prevention Specialist certification\, this training is required\n\n4 day in-person training \n\nColorado Mountain College\, Breckenridge\nM-Th\, October 20-23\, 2025\n9am-5pm\n\n\nClick HERE to learn more and sign up.
URL:https://buildinghopesummit.org/calendar_default/substance-abuse-prevention-skills-training/
LOCATION:CO
END:VEVENT
BEGIN:VEVENT
DTSTART;TZID=America/Denver:20251020T170000
DTEND;TZID=America/Denver:20251020T183000
DTSTAMP:20260422T115858
CREATED:20250420T194424Z
LAST-MODIFIED:20250420T194424Z
UID:19021-1760979600-1760985000@buildinghopesummit.org
SUMMARY:Healing For Healers
DESCRIPTION:Introducing Healing for Healers—a program for mental health providers to prioritize their own mental health and wellness. \nWe know that this work lives inside of us— so we created a program designed specifically for you\, the people answering the call in Summit County. Healing for Healers offers a safe\, confidential space to connect with peers\, engage in deeper healing practices\, relieve workforce fatigue\, and build a generative community of support. \nNamasport is so proud to have partnered with Building Hope to bring this free program to the Building Hope practitioner network! We will offer a complimentary program every month through the end of 2025. Each 90-minute session will include a somatic ritual\, an evidence-based tool\, and space for individual and group processing. \nCome for one\, or come for all\, the sessions are designed so you can participate whenever it serves you. If you are interested\, please follow the QR code on the flyer to our Eventbrite page so we can add you to our registration list—we would love to have you join us! \nFor those who hold space for others\, this is your space to drop-in\, breathe\, and receive. Healing for Healers was created to help you reset\, restore\, and reconnect—because this is time for you.
URL:https://buildinghopesummit.org/calendar_default/healing-for-healers-7/
LOCATION:CO
END:VEVENT
BEGIN:VEVENT
DTSTART;TZID=America/Denver:20251021T070000
DTEND;TZID=America/Denver:20251021T195000
DTSTAMP:20260422T115858
CREATED:20250826T231808Z
LAST-MODIFIED:20250903T211354Z
UID:20325-1761030000-1761076200@buildinghopesummit.org
SUMMARY:Moments of Mindfulness Stress Reduction Group
DESCRIPTION:Now\, join our weekly mindfulness group to start your day with calm\, clarity\, and practical tools for managing stress. \nEvery Tuesday 7am to 7:50am\, Virtually on Zoom \nZOOM LINK: https://us02web.zoom.us/j/83659897985 \nStarting 9/2/25 through 11/18/25
URL:https://buildinghopesummit.org/calendar_default/moments-of-mindfulness-stress-reduction-group-8/
LOCATION:CO
END:VEVENT
BEGIN:VEVENT
DTSTART;TZID=America/Denver:20251021T083000
DTEND;TZID=America/Denver:20251021T163000
DTSTAMP:20260422T115858
CREATED:20250930T211145Z
LAST-MODIFIED:20250930T211145Z
UID:20818-1761035400-1761064200@buildinghopesummit.org
SUMMARY:Mental Health First Aid Course: Respond to Adults
DESCRIPTION:
URL:https://buildinghopesummit.org/calendar_default/mental-health-first-aid-course-respond-to-adults/
LOCATION:CO
END:VEVENT
BEGIN:VEVENT
DTSTART;TZID=America/Denver:20251021T100000
DTEND;TZID=America/Denver:20251021T110000
DTSTAMP:20260422T115858
CREATED:20250930T210918Z
LAST-MODIFIED:20250930T210918Z
UID:20815-1761040800-1761044400@buildinghopesummit.org
SUMMARY:Building the Future Together
DESCRIPTION:Dear Community Partner\, \nWe are excited to invite you to join us for a conversation about the future of Human Services and Behavioral Health in our region. At Colorado Mountain College\, we know that strong partnerships are essential to preparing students and strengthening the workforce in our communities. This event is an opportunity to learn more about CMC’s Human Services Program and explore how we can collaborate to support students while meeting the needs of the communities we all serve. Your voice and perspective are deeply valued\, and we look forward to connecting with you. All are welcome\, so please feel free to share this invitation with colleagues and others who may want to be part of this discussion. This event is made possible by Opportunity Now\, a grant program of the Colorado Office of Economic Development & International Trade (OEDIT). \nColorado Mountain College\, Breckenridge Campus\, Room(s) 142/143
URL:https://buildinghopesummit.org/calendar_default/building-the-future-together/
LOCATION:CO
END:VEVENT
BEGIN:VEVENT
DTSTART;TZID=America/Denver:20251021T173000
DTEND;TZID=America/Denver:20251021T193000
DTSTAMP:20260422T115858
CREATED:20250818T201445Z
LAST-MODIFIED:20250818T205234Z
UID:20253-1761067800-1761075000@buildinghopesummit.org
SUMMARY:Facing the Mourning - Session 3 of 4
DESCRIPTION:FREE Grief Support Group \nAN INTIMATE & INTERACTIVE SUPPORT GROUP DESIGNED TO HELP WITH THE GRIEVING\nPROCESS BY USING VISUAL AND THOUGHT-PROVOKING TOOLS. DURING THESE FOUR\nSESSIONS\, THE PARTICIPANTS SHARE THEIR STORY\, BUILD MEMORIALS\, COMPOSE LETTERS\,\nWRITE IN JOURNALS\, AND DEVELOP GOALS WITH MILESTONES.\nGROUP IS LIMITED TO 8-10 PARTICIPANTS.\nFACILITATED BY DEP. CORONER BRITT LEA & CHIEF DEP. JILL RATLIFF\nSUMMIT COUNTY CORONER’S OFFICE \nOctober 7th\, 14th\, 21st\, 28th 5:30pm- 7:30pm\nMedical Office Building\, Suite 200\, 360 Peak One Drive\, Frisco\, CO\nRSVP REQUIRED- britt.lea@summitcountyco.gov
URL:https://buildinghopesummit.org/calendar_default/facing-the-mourning-session-3-of-4-3/
LOCATION:CO
END:VEVENT
BEGIN:VEVENT
DTSTART;TZID=America/Denver:20251021T180000
DTEND;TZID=America/Denver:20251021T193000
DTSTAMP:20260422T115858
CREATED:20250930T210326Z
LAST-MODIFIED:20250930T210326Z
UID:20801-1761069600-1761075000@buildinghopesummit.org
SUMMARY:Stand Up Summit Series
DESCRIPTION:The Stand Up Summit series will consist of three events centered on supporting young people with social media and the impacts of hate speech. The Impact of Social Media Launch the series September 9\, with the powerful film Screenagers\, examining how social media and screen time affect youth development\, identity\, and well-being. Summit County Library will be on-site to distribute copies of Accountable by Dashka Slater for the Community Book Club\, which will be central to ongoing discussions in the following sessions. On September 30\, the topic Social Media\, Bullying & Identity will be discussed through a book club and panel discussion. And finally\, on October 21\, the topic Hate Speech\, Empathy & Accountability will be discussed via a book club and panel discussion.
URL:https://buildinghopesummit.org/calendar_default/stand-up-summit-series/
LOCATION:CO
END:VEVENT
BEGIN:VEVENT
DTSTART;TZID=America/Denver:20251022T173000
DTEND;TZID=America/Denver:20251022T183000
DTSTAMP:20260422T115858
CREATED:20250806T184327Z
LAST-MODIFIED:20250806T185204Z
UID:20158-1761154200-1761157800@buildinghopesummit.org
SUMMARY:Return to Self Support Group
DESCRIPTION:ARISE is excited to announce the launch of a new support group in partnership with Namasport Mental Health Studio. Return to Self is a free group therapy initiative designed specifically for survivors of sexual assault and domestic violence.\n\n\nWe recognize that many survivors continue to navigate chronic stress\, emotional dysregulation\, and fragmented self-identity long after the abuse ends. Return to Self offers a healing pathway rooted in the body\, led with clinical integrity\, and supported by community.  \nSponsored by Building Hope\, this free program will run twice a month in August\, September\, and October at Namasport in Frisco. Each 60-minute\, in-person session will be facilitated by a trauma-informed clinician. Participants are invited to bring their children\, who will have access to a trained mental health counselor providing therapeutic play-based support. \nWe believe healing happens in relationship—with others\, with our bodies\, and with ourselves. We would be honored to support you and your family on this journey. \n\n\nReturn to Self Dates: \n\n\nAugust 13 from 5:30 – 6:30 PM \nAugust 27 from 5:30 – 6:30 PM \nSeptember 10 from 5:30 – 6:30 PM \nSeptember 24 from 5:30 – 6:30 PM \nOctober 8 from 5:30 – 6:30 PM \nOctober 22 from 5:30 – 6:30 PM 
URL:https://buildinghopesummit.org/calendar_default/return-to-self-support-group-6/
LOCATION:CO
END:VEVENT
BEGIN:VEVENT
DTSTART;TZID=America/Denver:20251022T180000
DTEND;TZID=America/Denver:20251022T193000
DTSTAMP:20260422T115858
CREATED:20250626T180804Z
LAST-MODIFIED:20250626T180804Z
UID:19702-1761156000-1761161400@buildinghopesummit.org
SUMMARY:Breckenridge Library Silent Meditation Group
DESCRIPTION:Experienced meditators sit for two 25 minute silent unguided sessions\, with optional sharing of experience after each session. “In Silence” cards provided for those choosing to remain silent for the evening.
URL:https://buildinghopesummit.org/calendar_default/breckenridge-library-silent-meditation-group-12/
LOCATION:CO
END:VEVENT
BEGIN:VEVENT
DTSTART;TZID=America/Denver:20251023T173000
DTEND;TZID=America/Denver:20251023T190000
DTSTAMP:20260422T115858
CREATED:20250903T215427Z
LAST-MODIFIED:20250903T215427Z
UID:20440-1761240600-1761246000@buildinghopesummit.org
SUMMARY:Grupo de Apoyo para Ma-Padres sobre Regulación y Desarrollo Emocional
DESCRIPTION:Te invitamos conocer otros ma-padres de la\ncomunidad\, a aprender sobre el desarrollo\nemocional y del cerebro de los niños\, a\nprofundizar un poco mas porque a veces\nreaccionamos como reaccionamos con\nnuestros hijos y sobre todo a acompañarnos\nen la tarea de ser ma-padres con mucha\nempatía y aceptación. \n¿Quienes están invitados? MaPadres que hablen español que\ntengan niños de 0 a 11 años \n¿Cuando?: \n4 encuentros (2\, 9\, 16\, 23 de Octubre) \n5:30-7:00pm \n¿Donde?: \nLa biblioteca de Dillon Valley Elementary \nRSVP: \nEn el grupo de whatsapp o\nenviando un mensaje al\n970-409-0899
URL:https://buildinghopesummit.org/calendar_default/grupo-de-apoyo-para-ma-padres-sobre-regulacion-y-desarrollo-emocional-4/
LOCATION:CO
END:VEVENT
BEGIN:VEVENT
DTSTART;TZID=America/Denver:20251023T180000
DTEND;TZID=America/Denver:20251023T190000
DTSTAMP:20260422T115858
CREATED:20250924T030456Z
LAST-MODIFIED:20250924T030456Z
UID:20695-1761242400-1761246000@buildinghopesummit.org
SUMMARY:Sound Healing
DESCRIPTION:Led by EJ\, let the sound waves wash over you in this relaxing Sound Bath experience. \nThis event is intended for Summit County residents only. \nEvent Facilitated in English.
URL:https://buildinghopesummit.org/calendar_default/sound-healing-12/
LOCATION:Silverthorne Pavilion\, 400 Blue River Pkwy\, Silverthorne\, CO\, 80498\, United States
CATEGORIES:Connecting Events
END:VEVENT
BEGIN:VEVENT
DTSTART;TZID=America/Denver:20251027T120000
DTEND;TZID=America/Denver:20251027T125000
DTSTAMP:20260422T115858
CREATED:20250826T234813Z
LAST-MODIFIED:20250903T212510Z
UID:20344-1761566400-1761569400@buildinghopesummit.org
SUMMARY:Growing Us: Skills for Improved Communication & Connection for Couples
DESCRIPTION:Biweekly couples group designed to help partners strengthen their relationship through practical\, research-based tools. \nConnection & Emotional Closeness \nConflict & Problem-Solving \nRelationship Skills & Communication \nEvery Other Monday starting September 15th\, 12pm to 12:50pm \nVirtual Zoom: Scan QR Code for Link or click here.
URL:https://buildinghopesummit.org/calendar_default/growing-us-skills-for-improved-communication-connection-for-couples-4/
LOCATION:CO
END:VEVENT
BEGIN:VEVENT
DTSTART;TZID=America/Denver:20251027T173000
DTEND;TZID=America/Denver:20251027T193000
DTSTAMP:20260422T115858
CREATED:20250924T031525Z
LAST-MODIFIED:20251008T214229Z
UID:20698-1761586200-1761593400@buildinghopesummit.org
SUMMARY:Indoor Rock Climbing at the Rec Center | Ages 12-18
DESCRIPTION:Join the HYPE at the Breckenridge Recreation Center and get on the climbing wall with your friends! \nThis event is intended for Summit County residents only. Ages 12-18. \nEvent Facilitated in English.
URL:https://buildinghopesummit.org/calendar_default/indoor-rock-climbing-at-the-rec-center-ages-12-18/
LOCATION:Breckenridge Recreation Center\, 880 Airport Road\, Breckenridge\, CO\, 80424\, United States
CATEGORIES:Hype
END:VEVENT
BEGIN:VEVENT
DTSTART;TZID=America/Denver:20251028T070000
DTEND;TZID=America/Denver:20251028T195000
DTSTAMP:20260422T115858
CREATED:20250826T231904Z
LAST-MODIFIED:20250903T211520Z
UID:20327-1761634800-1761681000@buildinghopesummit.org
SUMMARY:Moments of Mindfulness Stress Reduction Group
DESCRIPTION:Now\, join our weekly mindfulness group to start your day with calm\, clarity\, and practical tools for managing stress. \nEvery Tuesday 7am to 7:50am\, Virtually on Zoom \nZOOM LINK: https://us02web.zoom.us/j/83659897985 \nStarting 9/2/25 through 11/18/25
URL:https://buildinghopesummit.org/calendar_default/moments-of-mindfulness-stress-reduction-group-9/
LOCATION:CO
END:VEVENT
BEGIN:VEVENT
DTSTART;TZID=America/Denver:20251028T163000
DTEND;TZID=America/Denver:20251028T180000
DTSTAMP:20260422T115858
CREATED:20250927T230351Z
LAST-MODIFIED:20250927T230351Z
UID:20767-1761669000-1761674400@buildinghopesummit.org
SUMMARY:Event Ambassador Volunteer Training
DESCRIPTION:Building Hope Ambassadors are trained to represent Building Hope in our community. \nThey support (and participate in!) our Connectedness Events and also promote Building Hope at Community Events . They can serve as greeters\, a resource\, or friendly ear during our events and seek to make all guests feel welcome and included. \nEvent Ambassadors are expected to support 3-4 events a year. \nEvents typically last 1-3 hours. \nEvent Ambassador Volunteer Training is offered monthly. Select your preferred date and time.\nIf the available times do not work for you\, please reach out to us at jeng@buildinghopesummit.org
URL:https://buildinghopesummit.org/calendar_default/event-ambassador-volunteer-training-23/
LOCATION:CO
CATEGORIES:Trainings
END:VEVENT
BEGIN:VEVENT
DTSTART;TZID=America/Denver:20251028T173000
DTEND;TZID=America/Denver:20251028T193000
DTSTAMP:20260422T115858
CREATED:20250321T164640Z
LAST-MODIFIED:20250321T164640Z
UID:17952-1761672600-1761679800@buildinghopesummit.org
SUMMARY:Ducks in a Row: End of Life Planning
DESCRIPTION:Join us as we continue to explore how to have meaningful conversations with loved ones about end-of-life planning. Whether you attended the first session or are just jumping in\, this event is for you.\n\n\n What to Expect:\n• Guidance on making thoughtful\, stress-free arrangements\n• Insights on navigating tough conversations with loved ones\n• Lessons learned about important paperwork\n• Real-life stories & professional advice\n• Open Q&A to help you get your Ducks in a Row\n\n\n October 28\n 5:30–7:30 p.m.\n Community & Senior Center\, Frisco\n Panel Discussion + Light Refreshments\n\n\nLet’s make hard conversations a little easier—together.\nRSVP through the link below. We hope to see you there!\nbit.ly/summitducks
URL:https://buildinghopesummit.org/calendar_default/ducks-in-a-row-end-of-life-planning-10/
LOCATION:CO
END:VEVENT
BEGIN:VEVENT
DTSTART;TZID=America/Denver:20251028T173000
DTEND;TZID=America/Denver:20251028T193000
DTSTAMP:20260422T115858
CREATED:20250818T201551Z
LAST-MODIFIED:20250818T202513Z
UID:20255-1761672600-1761679800@buildinghopesummit.org
SUMMARY:Facing the Mourning - Session 4 of 4
DESCRIPTION:FREE Grief Support Group \nAN INTIMATE & INTERACTIVE SUPPORT GROUP DESIGNED TO HELP WITH THE GRIEVING\nPROCESS BY USING VISUAL AND THOUGHT-PROVOKING TOOLS. DURING THESE FOUR\nSESSIONS\, THE PARTICIPANTS SHARE THEIR STORY\, BUILD MEMORIALS\, COMPOSE LETTERS\,\nWRITE IN JOURNALS\, AND DEVELOP GOALS WITH MILESTONES.\nGROUP IS LIMITED TO 8-10 PARTICIPANTS.\nFACILITATED BY DEP. CORONER BRITT LEA & CHIEF DEP. JILL RATLIFF\nSUMMIT COUNTY CORONER’S OFFICE \nOctober 7th\, 14th\, 21st\, 28th 5:30pm- 7:30pm\nMedical Office Building\, Suite 200\, 360 Peak One Drive\, Frisco\, CO\nRSVP REQUIRED- britt.lea@summitcountyco.gov
URL:https://buildinghopesummit.org/calendar_default/facing-the-mourning-session-4-of-4-3/
LOCATION:CO
END:VEVENT
BEGIN:VEVENT
DTSTART;TZID=America/Denver:20251028T183000
DTEND;TZID=America/Denver:20251028T200000
DTSTAMP:20260422T115858
CREATED:20250927T231531Z
LAST-MODIFIED:20250927T231531Z
UID:20779-1761676200-1761681600@buildinghopesummit.org
SUMMARY:Capacitación para voluntarios de embajadores de eventos
DESCRIPTION:Los embajadores de Building Hope reciben capacitación para representar a Building Hope en nuestra comunidad. \nApoyan nuestros Eventos de Conexión y promueven a Building Hope en eventos comunitarios presentando nuestra misión y objetivos. Pueden servir como parte del equipo de bienvenida\, un recurso o un oído amigable durante nuestros eventos\, asegurándose de que todos los invitados se sientan bienvenidos e incluidos. \nLa capacitación para embajadores voluntarios se lleva a cabo mensualmente. Seleccione la fecha y hora que prefiere.
URL:https://buildinghopesummit.org/calendar_default/capacitacion-para-voluntarios-de-embajadores-de-eventos-16/
LOCATION:CO
CATEGORIES:Trainings
END:VEVENT
END:VCALENDAR