BEGIN:VCALENDAR
VERSION:2.0
PRODID:-//Building Hope Summit -&nbsp; - ECPv6.15.20//NONSGML v1.0//EN
CALSCALE:GREGORIAN
METHOD:PUBLISH
X-WR-CALNAME:Building Hope Summit -&nbsp;
X-ORIGINAL-URL:https://buildinghopesummit.org
X-WR-CALDESC:Events for Building Hope Summit -&nbsp;
REFRESH-INTERVAL;VALUE=DURATION:PT1H
X-Robots-Tag:noindex
X-PUBLISHED-TTL:PT1H
BEGIN:VTIMEZONE
TZID:America/Denver
BEGIN:DAYLIGHT
TZOFFSETFROM:-0700
TZOFFSETTO:-0600
TZNAME:MDT
DTSTART:20230312T090000
END:DAYLIGHT
BEGIN:STANDARD
TZOFFSETFROM:-0600
TZOFFSETTO:-0700
TZNAME:MST
DTSTART:20231105T080000
END:STANDARD
BEGIN:DAYLIGHT
TZOFFSETFROM:-0700
TZOFFSETTO:-0600
TZNAME:MDT
DTSTART:20240310T090000
END:DAYLIGHT
BEGIN:STANDARD
TZOFFSETFROM:-0600
TZOFFSETTO:-0700
TZNAME:MST
DTSTART:20241103T080000
END:STANDARD
BEGIN:DAYLIGHT
TZOFFSETFROM:-0700
TZOFFSETTO:-0600
TZNAME:MDT
DTSTART:20250309T090000
END:DAYLIGHT
BEGIN:STANDARD
TZOFFSETFROM:-0600
TZOFFSETTO:-0700
TZNAME:MST
DTSTART:20251102T080000
END:STANDARD
END:VTIMEZONE
BEGIN:VEVENT
DTSTART;TZID=America/Denver:20241204T173000
DTEND;TZID=America/Denver:20241204T193000
DTSTAMP:20260423T034413
CREATED:20241115T150704Z
LAST-MODIFIED:20241115T150704Z
UID:16340-1733333400-1733340600@buildinghopesummit.org
SUMMARY:My Sister Liv - Película  y  Panel de  Discusión
DESCRIPTION:My Sister Liv ( Mi Hermana Liv) es un documental que presenta a las hermanas Tess y Liv\, quienes desde pequeñas son inseparables\, con lo que parece ser un vínculo inquebrantable. Sin embargo\, cuando Liv entra en la adolescencia y lucha con las incesantes presiones de las redes sociales\, la depresión\, la dismorfia corporal y\, a menudo\, pensamientos suicidas\, su hermana mayor Tess lucha por ayudarla. \nMY SISTER LIV ( Mi Hermana Liv)\, dirigida por el director ganador del premio Grammy\, Alan Hicks\, y producida por la productora ganadora de premios Oscar\, Emmy y Grammy\, Paula DuPre ́Pesmen\, presenta una variedad de voces jóvenes y conversaciones con profesionales de la salud mental. \nLos realizadores trabajaron con Susan Caso\, LPC\, directora de salud mental de The Liv Project (el proyecto de Liv) y un equipo de terapeutas para crear la película. Además\, la película fue examinada por miembros del equipo del Instituto de Salud Mental Pediátrica del Children’s Hospital Colorado para garantizar que el contenido fuera preciso y seguro\, y que de ninguna manera glorificara este tema. \n\nLa película ha sido aprobada por profesionales de la salud mental para jóvenes de 14 años en adelante.\nEl panel será dirigido por la Terapeuta Mili Shoemaker.\n\nCena incluida\, traducción al español para la proyección de películas y panel de discusión.
URL:https://buildinghopesummit.org/calendar_default/my-sister-liv-pelicula-y-panel-de-discusion/
LOCATION:Frisco Senior and Community Center\, 83 Nancy's Place\, Frisco\, CO\, 80443\, United States
CATEGORIES:Trainings
END:VEVENT
BEGIN:VEVENT
DTSTART;TZID=America/Denver:20241205T120000
DTEND;TZID=America/Denver:20241205T130000
DTSTAMP:20260423T034413
CREATED:20240912T150003Z
LAST-MODIFIED:20240912T150003Z
UID:15686-1733400000-1733403600@buildinghopesummit.org
SUMMARY:Mom Talk: FREE therapist-led support group for moms with kids aged 1-5
DESCRIPTION:Virtual
URL:https://buildinghopesummit.org/calendar_default/mom-talk-free-therapist-led-support-group-for-moms-with-kids-aged-1-5-10/
LOCATION:CO
ATTACH;FMTTYPE=image/png:https://buildinghopesummit.org/wp-content/uploads/2024/09/Mom-Talk.png
END:VEVENT
BEGIN:VEVENT
DTSTART;TZID=America/Denver:20241205T181500
DTEND;TZID=America/Denver:20241205T193000
DTSTAMP:20260423T034413
CREATED:20241115T151947Z
LAST-MODIFIED:20241115T151947Z
UID:16343-1733422500-1733427000@buildinghopesummit.org
SUMMARY:Yoga and Mindfulness with Leslie Glenn
DESCRIPTION:Join Leslie Glenn for a special yoga and meditation experience designed to strengthen awareness\, presence and connection
URL:https://buildinghopesummit.org/calendar_default/yoga-and-mindfulness-with-leslie-glenn/
LOCATION:Summit County Library South Branch\, 103 Harris St\, Breckenridge\, CO\, 80424\, United States
CATEGORIES:Connecting Events
END:VEVENT
BEGIN:VEVENT
DTSTART;TZID=America/Denver:20241207T090000
DTEND;TZID=America/Denver:20241207T140000
DTSTAMP:20260423T034413
CREATED:20240715T205853Z
LAST-MODIFIED:20240715T205853Z
UID:15193-1733562000-1733580000@buildinghopesummit.org
SUMMARY:Mental Health First Aid for Adults Assisting Youth
DESCRIPTION:Youth Mental Health First Aid (YMHFA) teaches adults who work with youth how to identify\, understand and respond to signs of mental health and substance use challenges among children and adolescents aged 12-18.\nThe course:\n– Introduces common mental health challenges for youth\n– Reviews typical adolescent development\n– Teaches a 5-step action plan for how to help young people in both crisis and non-crisis
URL:https://buildinghopesummit.org/calendar_default/mental-health-first-aid-for-adults-assisting-youth-3/
LOCATION:CO
END:VEVENT
BEGIN:VEVENT
DTSTART;TZID=America/Denver:20241207T090000
DTEND;TZID=America/Denver:20241207T140000
DTSTAMP:20260423T034413
CREATED:20240916T175239Z
LAST-MODIFIED:20240916T175239Z
UID:15707-1733562000-1733580000@buildinghopesummit.org
SUMMARY:Mental Health First Aid (English)
DESCRIPTION:
URL:https://buildinghopesummit.org/calendar_default/mental-health-first-aid-english/
LOCATION:CO
ATTACH;FMTTYPE=image/png:https://buildinghopesummit.org/wp-content/uploads/2024/09/YF-Trainings-2024-25.png
END:VEVENT
BEGIN:VEVENT
DTSTART;TZID=America/Denver:20241207T090000
DTEND;TZID=America/Denver:20241207T140000
DTSTAMP:20260423T034413
CREATED:20241030T213940Z
LAST-MODIFIED:20241030T213940Z
UID:16003-1733562000-1733580000@buildinghopesummit.org
SUMMARY:Youth Mental Health First Aid - For Adults Assisting Youth
DESCRIPTION:For Adults Assisting Youth
URL:https://buildinghopesummit.org/calendar_default/youth-mental-health-first-aid-for-adults-assisting-youth/
LOCATION:CO
END:VEVENT
BEGIN:VEVENT
DTSTART;TZID=America/Denver:20241207T150000
DTEND;TZID=America/Denver:20241207T160000
DTSTAMP:20260423T034413
CREATED:20240905T151134Z
LAST-MODIFIED:20240905T151134Z
UID:15610-1733583600-1733587200@buildinghopesummit.org
SUMMARY:Free Whole Person Group (In-Person)
DESCRIPTION:
URL:https://buildinghopesummit.org/calendar_default/free-whole-person-group-in-person-7/
LOCATION:CO
END:VEVENT
BEGIN:VEVENT
DTSTART;TZID=America/Denver:20241207T160000
DTEND;TZID=America/Denver:20241207T180000
DTSTAMP:20260423T034413
CREATED:20241115T152402Z
LAST-MODIFIED:20241115T152402Z
UID:16346-1733587200-1733594400@buildinghopesummit.org
SUMMARY:HYPE Art Spot Teen Art   Ages 12-18.
DESCRIPTION:¡Únase a Building Hope para este divertido taller impartido en español e inglés! Utilizando técnicas de collage\, costura a mano y pintura con acrílicos\, decoras de la mano de Simple Art Studio tu gorro de invierno. Perfecto para estar abrigado este invierno y expresar tu estilo personal. \nEsta es una oportunidad perfecta para que los jóvenes conecten con otros jóvenes con mentalidad creativa y descubran habilidades artísticas\, desarrollen confianza en ellos mismos y disfruten de una artística sin expectativas ni prejuicios artísticos. \nTodos los niveles son bienvenidos\, no necesitas tener conocimientos previos. Los participantes compartirán algunos materiales y herramientas pero \n¡Conservarás tus proyectos terminados! \nEste es un evento es parte del programa Hype y está destinado para edades entre jóvenes de 12-18 años. Asegurarse de registrarse anticipadamente. \nClase Bilingüe \nEste evento está destinado sólo para los residentes del Condado Summit. \n– ————————————————————————————————- \nJoin Building Hope for a fun workshop taught in Spanish and English! Using fabric applique techniques\,acrylic paints and hand sewing\, with the help of Simple Art Studio you will decorate your own winter beanie hat. Perfect to stay warm and also express your personal style. \nThis is a perfect opportunity for young people to connect with other creatively minded and discover artistic skills\, develop self-confidence and enjoy an artistic experience without expectations or artistic prejudices. \nAll levels are welcome\, you do not need to have previous knowledge to make this project. Participants will share some materials and tools but you will keep your finished projects! \nThis is an event that is part of the Hype program and is intended for ages 12-18. \nBe sure to register in advance. \nBilingual Class \nThis event is intended for Summit County residents only.
URL:https://buildinghopesummit.org/calendar_default/hype-art-spot-teen-art-ages-12-18-2/
LOCATION:Art Spot Silverthorne Makerspace\, 401 Blue River Parkway\, Silverthorne\, CO\, 80498\, United States
CATEGORIES:Hype
END:VEVENT
BEGIN:VEVENT
DTSTART;TZID=America/Denver:20241207T190000
DTEND;TZID=America/Denver:20241207T203000
DTSTAMP:20260423T034413
CREATED:20241126T164004Z
LAST-MODIFIED:20241126T164004Z
UID:16754-1733598000-1733603400@buildinghopesummit.org
SUMMARY:Finding Light in the Darkness
DESCRIPTION:For many\, the holiday season can be\nfilled with joy and celebration. Yet for\nothers\, it can feel overwhelming\,\nexhausting\, or even isolating. We invite\nyou to join us for a special\, gentle\ngathering—a time to find peace and\ncomfort in the midst of the holiday\nrush.
URL:https://buildinghopesummit.org/calendar_default/finding-light-in-the-darkness/
LOCATION:CO
ATTACH;FMTTYPE=image/png:https://buildinghopesummit.org/wp-content/uploads/2024/11/Find-Light-in-Darkness.png
END:VEVENT
BEGIN:VEVENT
DTSTART;TZID=America/Denver:20241209T150000
DTEND;TZID=America/Denver:20241209T180000
DTSTAMP:20260423T034413
CREATED:20241104T222719Z
LAST-MODIFIED:20241104T222719Z
UID:16054-1733756400-1733767200@buildinghopesummit.org
SUMMARY:FIRC Open Enrollment Walk-ins
DESCRIPTION:
URL:https://buildinghopesummit.org/calendar_default/firc-open-enrollment-walk-ins-16/
LOCATION:CO
ATTACH;FMTTYPE=image/png:https://buildinghopesummit.org/wp-content/uploads/2024/10/OE-November-2.png
END:VEVENT
BEGIN:VEVENT
DTSTART;TZID=America/Denver:20241209T160000
DTEND;TZID=America/Denver:20241209T173000
DTSTAMP:20260423T034413
CREATED:20241030T214218Z
LAST-MODIFIED:20241030T214218Z
UID:16011-1733760000-1733765400@buildinghopesummit.org
SUMMARY:Teen Mental Health First Aid
DESCRIPTION:Mental Health First Aid for Teens
URL:https://buildinghopesummit.org/calendar_default/teen-mental-health-first-aid-2/
LOCATION:CO
END:VEVENT
BEGIN:VEVENT
DTSTART;TZID=America/Denver:20241209T180000
DTEND;TZID=America/Denver:20241209T193000
DTSTAMP:20260423T034413
CREATED:20241115T160057Z
LAST-MODIFIED:20241115T160729Z
UID:16362-1733767200-1733772600@buildinghopesummit.org
SUMMARY:Connectedness- Salsa Dance Class
DESCRIPTION:Let’s celebrate life by dancing salsa. You don’t need to be a professional\, just have fun and let your body express itself with music. \nVamos a celebrar la vida bailando salsa. No necesitas ser un o una profesional\, solo divertirte y dejar que tu cuerpo se exprese con la música. \n¿Qué necesitas? \nRopa ligera \nZapatos cómodos \nAgua para hidratación \n** Todas las personas mayores de 16 años son bienvenidas.
URL:https://buildinghopesummit.org/calendar_default/connectedness-salsa-dance-class-2/
LOCATION:Silverthorne Pavilion\, 400 Blue River Pkwy\, Silverthorne\, CO\, 80498\, United States
CATEGORIES:Connecting Events
END:VEVENT
BEGIN:VEVENT
DTSTART;TZID=America/Denver:20241210T090000
DTEND;TZID=America/Denver:20241210T120000
DTSTAMP:20260423T034413
CREATED:20241104T222748Z
LAST-MODIFIED:20241104T222748Z
UID:16055-1733821200-1733832000@buildinghopesummit.org
SUMMARY:FIRC Open Enrollment Walk-ins
DESCRIPTION:
URL:https://buildinghopesummit.org/calendar_default/firc-open-enrollment-walk-ins-17/
LOCATION:CO
ATTACH;FMTTYPE=image/png:https://buildinghopesummit.org/wp-content/uploads/2024/10/OE-November-2.png
END:VEVENT
BEGIN:VEVENT
DTSTART;TZID=America/Denver:20241210T120000
DTEND;TZID=America/Denver:20241210T133000
DTSTAMP:20260423T034413
CREATED:20241101T174756Z
LAST-MODIFIED:20241105T180227Z
UID:16041-1733832000-1733837400@buildinghopesummit.org
SUMMARY:Event Ambassador Volunteer Training
DESCRIPTION:Building Hope Ambassadors are trained to represent Building Hope in our community. \nThey support (and participate in!) our Connectedness Events and also promote Building Hope at Community Events . They can serve as greeters\, a resource\, or friendly ear during our events and seek to make all guests feel welcome and included. \nEvent Ambassadors are expected to support 3-4 events a year. \nEvents typically last 1-3 hours. \nEvent Ambassador Volunteer Training is offered monthly. Select your preferred date and time.\nIf the available times do not work for you\, please reach out to us at info@buildinghopesummit.org.
URL:https://buildinghopesummit.org/calendar_default/event-ambassador-volunteer-training-15/
LOCATION:CO
CATEGORIES:Trainings
END:VEVENT
BEGIN:VEVENT
DTSTART;TZID=America/Denver:20241210T173000
DTEND;TZID=America/Denver:20241210T190000
DTSTAMP:20260423T034413
CREATED:20241016T173122Z
LAST-MODIFIED:20241016T173122Z
UID:15874-1733851800-1733857200@buildinghopesummit.org
SUMMARY:DIALECTICAL BEHAVIOR THERAPY (DBT) BUILDING RESILIENCY WOMEN’S GROUP
DESCRIPTION:Learn coping skills to to use in daily life to improve relationships\, communication\, self-awareness\, and lessening the impact and intensity of emotional distress
URL:https://buildinghopesummit.org/calendar_default/dialectical-behavior-therapy-dbt-building-resiliency-womens-group-7/
LOCATION:CO
ATTACH;FMTTYPE=image/png:https://buildinghopesummit.org/wp-content/uploads/2024/10/DBT-Womens.png
END:VEVENT
BEGIN:VEVENT
DTSTART;TZID=America/Denver:20241210T181500
DTEND;TZID=America/Denver:20241210T201500
DTSTAMP:20260423T034413
CREATED:20241115T153755Z
LAST-MODIFIED:20241115T153755Z
UID:16351-1733854500-1733861700@buildinghopesummit.org
SUMMARY:“La conexión de la Gratitud y Abundancia”
DESCRIPTION:Evento diseñado para promover el bienestar emocional de la comunidad latina. \nLa Conexión Fuente Gratitud y Abundancia \nCultivar la Gratitud: – Los participantes fortalecerán su práctica de gratitud.- Abrir puertas a nuevas oportunidades y abundancia. \nValoración de Logros Personales: -Los asistentes aprenderán a reconocer y valorar cada uno de sus logros. -Entenderán que cada paso es parte de un sueño que han hecho realidad en un nuevo país. \nTransformación Personal:-Aprenderán a transformar su visión de vida\, apreciando la abundancia que ya poseen. \nConstrucción de Comunidad: -Se llevarán la experiencia de conectarse con otras personas de la comunidad. \nDesarrollo de Habilidades para la Abundancia:-Los asistentes aprenderán estrategias prácticas para enfocarse en la abundancia. \n\nHombres y mujeres Hispanohablantes mayores de 18 años que deseen encontrar una Herramienta para el Equilibrio Emocional .\nNo se Requieren habilidades específicas para la asistencia al Evento.\nLos participantes traerán su alegría y amor en apertura.\nEvento facilitado en Espanol.
URL:https://buildinghopesummit.org/calendar_default/la-conexion-de-la-gratitud-y-abundancia/
LOCATION:Silverthorne Library\, SILVERTHORNE\, Silverthorne\, CO\, 80498\, United States
CATEGORIES:Connecting Events
END:VEVENT
BEGIN:VEVENT
DTSTART;TZID=America/Denver:20241211T120000
DTEND;TZID=America/Denver:20241211T133000
DTSTAMP:20260423T034413
CREATED:20241105T181038Z
LAST-MODIFIED:20241105T181038Z
UID:16093-1733918400-1733923800@buildinghopesummit.org
SUMMARY:Capacitación para voluntarios de embajadores de eventos
DESCRIPTION:Los embajadores de Building Hope reciben capacitación para representar a Building Hope en nuestra comunidad. \nApoyan nuestros Eventos de Conexión y promueven a Building Hope en eventos comunitarios presentando nuestra misión y objetivos. Pueden servir como parte del equipo de bienvenida\, un recurso o un oído amigable durante nuestros eventos\, asegurándose de que todos los invitados se sientan bienvenidos e incluidos. \nLa capacitación para embajadores voluntarios se lleva a cabo mensualmente. Seleccione la fecha y hora que prefiere.
URL:https://buildinghopesummit.org/calendar_default/capacitacion-para-voluntarios-de-embajadores-de-eventos-10/
LOCATION:CO
CATEGORIES:Trainings
END:VEVENT
BEGIN:VEVENT
DTSTART;TZID=America/Denver:20241212T120000
DTEND;TZID=America/Denver:20241212T130000
DTSTAMP:20260423T034413
CREATED:20240912T150010Z
LAST-MODIFIED:20240912T150010Z
UID:15687-1734004800-1734008400@buildinghopesummit.org
SUMMARY:Mom Talk: FREE therapist-led support group for moms with kids aged 1-5
DESCRIPTION:Virtual
URL:https://buildinghopesummit.org/calendar_default/mom-talk-free-therapist-led-support-group-for-moms-with-kids-aged-1-5-11/
LOCATION:CO
ATTACH;FMTTYPE=image/png:https://buildinghopesummit.org/wp-content/uploads/2024/09/Mom-Talk.png
END:VEVENT
BEGIN:VEVENT
DTSTART;TZID=America/Denver:20241212T130000
DTEND;TZID=America/Denver:20241212T160000
DTSTAMP:20260423T034413
CREATED:20241104T222819Z
LAST-MODIFIED:20241104T222819Z
UID:16056-1734008400-1734019200@buildinghopesummit.org
SUMMARY:FIRC Open Enrollment Walk-ins
DESCRIPTION:
URL:https://buildinghopesummit.org/calendar_default/firc-open-enrollment-walk-ins-18/
LOCATION:CO
ATTACH;FMTTYPE=image/png:https://buildinghopesummit.org/wp-content/uploads/2024/10/OE-November-2.png
END:VEVENT
BEGIN:VEVENT
DTSTART;TZID=America/Denver:20241213T170000
DTEND;TZID=America/Denver:20241213T180000
DTSTAMP:20260423T034413
CREATED:20241115T154504Z
LAST-MODIFIED:20241115T154504Z
UID:16354-1734109200-1734112800@buildinghopesummit.org
SUMMARY:HYPE: Snow Tubing | Ages 12-18
DESCRIPTION:Come on down to the Frisco Adventure Park for a fun day of tubing! \nWhat do you need? \nWinter clothes-dress for the weather \nSnow pants and jacket \nSnow gloves \nSnacks \nWater \n*This event is limited to Summit County Residents Ages 12-18.
URL:https://buildinghopesummit.org/calendar_default/hype-snow-tubing-ages-12-18/
LOCATION:621 Recreation way\, 621 Recreation Way Frisco Adventure Park\, Frisco\, CO\, 80443\, United States
CATEGORIES:Hype
END:VEVENT
BEGIN:VEVENT
DTSTART;TZID=America/Denver:20241216T130000
DTEND;TZID=America/Denver:20241216T160000
DTSTAMP:20260423T034413
CREATED:20241104T222832Z
LAST-MODIFIED:20241104T222832Z
UID:16057-1734354000-1734364800@buildinghopesummit.org
SUMMARY:FIRC Open Enrollment Walk-ins
DESCRIPTION:
URL:https://buildinghopesummit.org/calendar_default/firc-open-enrollment-walk-ins-19/
LOCATION:CO
ATTACH;FMTTYPE=image/png:https://buildinghopesummit.org/wp-content/uploads/2024/10/OE-November-2.png
END:VEVENT
BEGIN:VEVENT
DTSTART;TZID=America/Denver:20241216T160000
DTEND;TZID=America/Denver:20241216T173000
DTSTAMP:20260423T034413
CREATED:20241030T214226Z
LAST-MODIFIED:20241030T214226Z
UID:16010-1734364800-1734370200@buildinghopesummit.org
SUMMARY:Teen Mental Health First Aid
DESCRIPTION:Mental Health First Aid for Teens
URL:https://buildinghopesummit.org/calendar_default/teen-mental-health-first-aid-3/
LOCATION:CO
END:VEVENT
BEGIN:VEVENT
DTSTART;TZID=America/Denver:20241217T090000
DTEND;TZID=America/Denver:20241217T120000
DTSTAMP:20260423T034413
CREATED:20241104T222854Z
LAST-MODIFIED:20241104T222854Z
UID:16058-1734426000-1734436800@buildinghopesummit.org
SUMMARY:FIRC Open Enrollment Walk-ins
DESCRIPTION:
URL:https://buildinghopesummit.org/calendar_default/firc-open-enrollment-walk-ins-20/
LOCATION:CO
ATTACH;FMTTYPE=image/png:https://buildinghopesummit.org/wp-content/uploads/2024/10/OE-November-2.png
END:VEVENT
BEGIN:VEVENT
DTSTART;TZID=America/Denver:20241217T173000
DTEND;TZID=America/Denver:20241217T190000
DTSTAMP:20260423T034413
CREATED:20241016T173129Z
LAST-MODIFIED:20241016T173129Z
UID:15875-1734456600-1734462000@buildinghopesummit.org
SUMMARY:DIALECTICAL BEHAVIOR THERAPY (DBT) BUILDING RESILIENCY WOMEN’S GROUP
DESCRIPTION:Learn coping skills to to use in daily life to improve relationships\, communication\, self-awareness\, and lessening the impact and intensity of emotional distress
URL:https://buildinghopesummit.org/calendar_default/dialectical-behavior-therapy-dbt-building-resiliency-womens-group-9/
LOCATION:CO
ATTACH;FMTTYPE=image/png:https://buildinghopesummit.org/wp-content/uploads/2024/10/DBT-Womens.png
END:VEVENT
BEGIN:VEVENT
DTSTART;TZID=America/Denver:20241217T173000
DTEND;TZID=America/Denver:20241217T190000
DTSTAMP:20260423T034413
CREATED:20241030T191740Z
LAST-MODIFIED:20241030T191832Z
UID:15982-1734456600-1734462000@buildinghopesummit.org
SUMMARY:Groupo De Apoyo para Nuevos Immigrantes
DESCRIPTION:
URL:https://buildinghopesummit.org/calendar_default/groupo-de-apoyo-para-nuevos-immigrantes-3/
LOCATION:CO
END:VEVENT
BEGIN:VEVENT
DTSTART;TZID=America/Denver:20241218T170000
DTEND;TZID=America/Denver:20241218T180000
DTSTAMP:20260423T034413
CREATED:20241216T211757Z
LAST-MODIFIED:20241216T211757Z
UID:17062-1734541200-1734544800@buildinghopesummit.org
SUMMARY:SHIFT Group at MHBHC
DESCRIPTION:
URL:https://buildinghopesummit.org/calendar_default/shift-group-at-mhbhc/
LOCATION:CO
ATTACH;FMTTYPE=image/png:https://buildinghopesummit.org/wp-content/uploads/2024/12/Seeking-Healing-Inspiring-Future-Transformation.-As-peers-were-here-to-support-each-other-on-our-journeys.-Our-mission-is-to-heal-inspire-and-transform-our-lives-one-step-at-a-time.-Whether-1.png
END:VEVENT
BEGIN:VEVENT
DTSTART;TZID=America/Denver:20241219T120000
DTEND;TZID=America/Denver:20241219T130000
DTSTAMP:20260423T034413
CREATED:20240912T151354Z
LAST-MODIFIED:20240912T151354Z
UID:15699-1734609600-1734613200@buildinghopesummit.org
SUMMARY:Mom Talk: FREE therapist-led support group for moms with kids aged 1-5
DESCRIPTION:Virtual
URL:https://buildinghopesummit.org/calendar_default/mom-talk-free-therapist-led-support-group-for-moms-with-kids-aged-1-5-12/
LOCATION:CO
ATTACH;FMTTYPE=image/png:https://buildinghopesummit.org/wp-content/uploads/2024/09/Mom-Talk.png
END:VEVENT
BEGIN:VEVENT
DTSTART;TZID=America/Denver:20241220T180000
DTEND;TZID=America/Denver:20241220T210000
DTSTAMP:20260423T034413
CREATED:20241115T154805Z
LAST-MODIFIED:20241115T154805Z
UID:16358-1734717600-1734728400@buildinghopesummit.org
SUMMARY:HYPE: Teen Movie Night  **SEE EVENT DESCRIPTION FOR PROCESS CHANGES**
DESCRIPTION:In collaboration with YESS (The Youth Empowerment Society of Summit )\, enjoy a free night at the movies with your friends! \nVouchers for tickets will be distributed between 6-7 pm on the day of the show. If pre-reserved vouchers are not picked up by 6:45 pm\, these vouchers will be released to youth who are either on the waitlist or who did not register ahead of time. \nYour voucher includes a snack pack! \nFilm availability to be determined at the theater. Vouchers can be used for select films scheduled for 6 pm or later on the day of this event \nThis month’s movie is: \nVouchers will be distributed to registered Summit County Residents ages 12-18. \n*Please note\, attendees are subject to all rules of Skyline Cinema. No supervision of children/teens is being provided by Building Hope or CTC/YESS. Parents are welcome to attend with the purchase of an adult ticket. \nThanks. \n– ——————————————————————————————————– \n¡En colaboración con YESS (The Youth Empowerment Society of Summit)\, disfruta de una noche gratis de película con todos tus amigos! Estaremos rentando una sala entera para que puedas ver una película con tus amigos en un ambiente amigable. \nLos cupones para las entradas seran distribuidas entre 6-7pm el dia del evento. Si los cupones pre reservandos no son retirados hasta las 6:45pm estos se entregaran a los participantes que esten en lista de espera o los que no se registraron a tiempo. \nEl cupon incluye un snack. \nLa disponibilidad de las películas las determinará el teatro. Los cupones se podrán usar en las películas desde las 6:00 pm el día del evento. \nLa película de este mes será : \nLos cupones se distribuiran a los residentes de Summit County que esten registrados en el evento de edad entre 12 y 18 anos. \nPor favor poner atencion\, los participantes deben regirse a todas las normas de Skyline Cinema. No abra supervision para ninos / adolescentes por parte de Building Hope or CTC/YESS. \nPadres son bienvenidos a unirse adquiriendo su respectivo ticket. \nGracias.
URL:https://buildinghopesummit.org/calendar_default/hype-teen-movie-night-see-event-description-for-process-changes/
LOCATION:Skyline Cinema 8\, 312 Dillon Ridge Road\, Dillon\, CO\, 80435\, United States
CATEGORIES:Hype
END:VEVENT
BEGIN:VEVENT
DTSTART;TZID=America/Denver:20241226T120000
DTEND;TZID=America/Denver:20241226T130000
DTSTAMP:20260423T034413
CREATED:20240912T151404Z
LAST-MODIFIED:20240912T151404Z
UID:15700-1735214400-1735218000@buildinghopesummit.org
SUMMARY:Mom Talk: FREE therapist-led support group for moms with kids aged 1-5
DESCRIPTION:Virtual
URL:https://buildinghopesummit.org/calendar_default/mom-talk-free-therapist-led-support-group-for-moms-with-kids-aged-1-5-13/
LOCATION:CO
ATTACH;FMTTYPE=image/png:https://buildinghopesummit.org/wp-content/uploads/2024/09/Mom-Talk.png
END:VEVENT
BEGIN:VEVENT
DTSTART;TZID=America/Denver:20241230T130000
DTEND;TZID=America/Denver:20241230T160000
DTSTAMP:20260423T034413
CREATED:20241104T222909Z
LAST-MODIFIED:20241104T222909Z
UID:16059-1735563600-1735574400@buildinghopesummit.org
SUMMARY:FIRC Open Enrollment Walk-ins
DESCRIPTION:
URL:https://buildinghopesummit.org/calendar_default/firc-open-enrollment-walk-ins-21/
LOCATION:CO
ATTACH;FMTTYPE=image/png:https://buildinghopesummit.org/wp-content/uploads/2024/10/OE-November-2.png
END:VEVENT
END:VCALENDAR