BEGIN:VCALENDAR
VERSION:2.0
PRODID:-//Building Hope Summit -&nbsp; - ECPv6.15.18//NONSGML v1.0//EN
CALSCALE:GREGORIAN
METHOD:PUBLISH
X-ORIGINAL-URL:https://buildinghopesummit.org
X-WR-CALDESC:Events for Building Hope Summit -&nbsp;
REFRESH-INTERVAL;VALUE=DURATION:PT1H
X-Robots-Tag:noindex
X-PUBLISHED-TTL:PT1H
BEGIN:VTIMEZONE
TZID:America/Denver
BEGIN:DAYLIGHT
TZOFFSETFROM:-0700
TZOFFSETTO:-0600
TZNAME:MDT
DTSTART:20200308T090000
END:DAYLIGHT
BEGIN:STANDARD
TZOFFSETFROM:-0600
TZOFFSETTO:-0700
TZNAME:MST
DTSTART:20201101T080000
END:STANDARD
BEGIN:DAYLIGHT
TZOFFSETFROM:-0700
TZOFFSETTO:-0600
TZNAME:MDT
DTSTART:20210314T090000
END:DAYLIGHT
BEGIN:STANDARD
TZOFFSETFROM:-0600
TZOFFSETTO:-0700
TZNAME:MST
DTSTART:20211107T080000
END:STANDARD
BEGIN:DAYLIGHT
TZOFFSETFROM:-0700
TZOFFSETTO:-0600
TZNAME:MDT
DTSTART:20220313T090000
END:DAYLIGHT
BEGIN:STANDARD
TZOFFSETFROM:-0600
TZOFFSETTO:-0700
TZNAME:MST
DTSTART:20221106T080000
END:STANDARD
END:VTIMEZONE
BEGIN:VEVENT
DTSTART;TZID=America/Denver:20210414T173000
DTEND;TZID=America/Denver:20210414T173000
DTSTAMP:20260419T193530
CREATED:20210519T043931Z
LAST-MODIFIED:20210602T143510Z
UID:2605-1618421400-1618421400@buildinghopesummit.org
SUMMARY:The HYPE Yoga & Mindfulness Ages 13-18
DESCRIPTION:
URL:https://buildinghopesummit.org/calendar_default/the-hype-yoga-mindfulness-ages-13-18/
LOCATION:CO
CATEGORIES:Hype
END:VEVENT
BEGIN:VEVENT
DTSTART;TZID=America/Denver:20210415T153000
DTEND;TZID=America/Denver:20210415T153000
DTSTAMP:20260419T193530
CREATED:20210519T043931Z
LAST-MODIFIED:20210602T143510Z
UID:2606-1618500600-1618500600@buildinghopesummit.org
SUMMARY:The HYPE:  Assemblage Action Figures 12-20
DESCRIPTION:
URL:https://buildinghopesummit.org/calendar_default/the-hype-assemblage-action-figures-12-20/
LOCATION:CO
CATEGORIES:Hype
END:VEVENT
BEGIN:VEVENT
DTSTART;TZID=America/Denver:20210420T180000
DTEND;TZID=America/Denver:20210420T180000
DTSTAMP:20260419T193530
CREATED:20210519T043932Z
LAST-MODIFIED:20210519T043932Z
UID:2607-1618941600-1618941600@buildinghopesummit.org
SUMMARY:Expressive Art: Nurture into Nature
DESCRIPTION:
URL:https://buildinghopesummit.org/calendar_default/expressive-art-nurture-into-nature/
LOCATION:CO
END:VEVENT
BEGIN:VEVENT
DTSTART;TZID=America/Denver:20210422T100000
DTEND;TZID=America/Denver:20210422T100000
DTSTAMP:20260419T193530
CREATED:20210519T043945Z
LAST-MODIFIED:20210519T043945Z
UID:2633-1619085600-1619085600@buildinghopesummit.org
SUMMARY:Guided Hike/Skin/Snowshoe with Go4Graham
DESCRIPTION:
URL:https://buildinghopesummit.org/calendar_default/guided-hike-skin-snowshoe-with-go4graham/
LOCATION:CO
END:VEVENT
BEGIN:VEVENT
DTSTART;TZID=America/Denver:20210423T090000
DTEND;TZID=America/Denver:20210423T090000
DTSTAMP:20260419T193530
CREATED:20210519T043932Z
LAST-MODIFIED:20210519T043932Z
UID:2608-1619168400-1619168400@buildinghopesummit.org
SUMMARY:April Volunteer Ambassador Training
DESCRIPTION:
URL:https://buildinghopesummit.org/calendar_default/april-volunteer-ambassador-training/
LOCATION:CO
END:VEVENT
BEGIN:VEVENT
DTSTART;TZID=America/Denver:20210427T120000
DTEND;TZID=America/Denver:20210427T120000
DTSTAMP:20260419T193530
CREATED:20210519T043933Z
LAST-MODIFIED:20210519T043933Z
UID:2609-1619524800-1619524800@buildinghopesummit.org
SUMMARY:Psychedelics and the Future of Mental Health
DESCRIPTION:
URL:https://buildinghopesummit.org/calendar_default/psychedelics-and-the-future-of-mental-health/
LOCATION:CO
END:VEVENT
BEGIN:VEVENT
DTSTART;TZID=America/Denver:20210427T180000
DTEND;TZID=America/Denver:20210427T180000
DTSTAMP:20260419T193530
CREATED:20210519T043934Z
LAST-MODIFIED:20210519T043934Z
UID:2610-1619546400-1619546400@buildinghopesummit.org
SUMMARY:Connection and Compassion: Gentle Community Yoga
DESCRIPTION:
URL:https://buildinghopesummit.org/calendar_default/connection-and-compassion-gentle-community-yoga/
LOCATION:CO
END:VEVENT
BEGIN:VEVENT
DTSTART;TZID=America/Denver:20210427T190000
DTEND;TZID=America/Denver:20210427T190000
DTSTAMP:20260419T193530
CREATED:20210519T043409Z
LAST-MODIFIED:20210602T143517Z
UID:2340-1619550000-1619550000@buildinghopesummit.org
SUMMARY:the hype sample event
DESCRIPTION:
URL:https://buildinghopesummit.org/calendar_default/the-hype-sample-event/
LOCATION:CO
CATEGORIES:Hype
END:VEVENT
BEGIN:VEVENT
DTSTART;TZID=America/Denver:20210504T180000
DTEND;TZID=America/Denver:20210504T180000
DTSTAMP:20260419T193530
CREATED:20210519T043934Z
LAST-MODIFIED:20210519T043934Z
UID:2611-1620151200-1620151200@buildinghopesummit.org
SUMMARY:Mindfulness at  Mtn Axe
DESCRIPTION:
URL:https://buildinghopesummit.org/calendar_default/mindfulness-at-mtn-axe-2/
LOCATION:CO
END:VEVENT
BEGIN:VEVENT
DTSTART;TZID=America/Denver:20210505T153000
DTEND;TZID=America/Denver:20210505T153000
DTSTAMP:20260419T193530
CREATED:20210519T043934Z
LAST-MODIFIED:20210602T143510Z
UID:2612-1620228600-1620228600@buildinghopesummit.org
SUMMARY:The HYPE:  Frosted Flamingo: Mountain Embroidery Wall Hanging
DESCRIPTION:
URL:https://buildinghopesummit.org/calendar_default/the-hype-frosted-flamingo-mountain-embroidery-wall-hanging/
LOCATION:CO
CATEGORIES:Hype
END:VEVENT
BEGIN:VEVENT
DTSTART;TZID=America/Denver:20210505T190000
DTEND;TZID=America/Denver:20210505T190000
DTSTAMP:20260419T193530
CREATED:20210519T043409Z
LAST-MODIFIED:20210519T043409Z
UID:2341-1620241200-1620241200@buildinghopesummit.org
SUMMARY:Practice
DESCRIPTION:
URL:https://buildinghopesummit.org/calendar_default/practice/
LOCATION:CO
END:VEVENT
BEGIN:VEVENT
DTSTART;TZID=America/Denver:20210506T180000
DTEND;TZID=America/Denver:20210506T180000
DTSTAMP:20260419T193530
CREATED:20210519T043934Z
LAST-MODIFIED:20210519T043934Z
UID:2613-1620324000-1620324000@buildinghopesummit.org
SUMMARY:Women's Circle with Mia
DESCRIPTION:
URL:https://buildinghopesummit.org/calendar_default/womens-circle-with-mia-6/
LOCATION:CO
END:VEVENT
BEGIN:VEVENT
DTSTART;TZID=America/Denver:20210511T110000
DTEND;TZID=America/Denver:20210511T110000
DTSTAMP:20260419T193530
CREATED:20210519T043936Z
LAST-MODIFIED:20210519T043936Z
UID:2614-1620730800-1620730800@buildinghopesummit.org
SUMMARY:Mental Health Navigation Training
DESCRIPTION:
URL:https://buildinghopesummit.org/calendar_default/mental-health-navigation-training/
LOCATION:CO
END:VEVENT
BEGIN:VEVENT
DTSTART;TZID=America/Denver:20210511T153000
DTEND;TZID=America/Denver:20210511T153000
DTSTAMP:20260419T193530
CREATED:20210519T043946Z
LAST-MODIFIED:20210602T143509Z
UID:2634-1620747000-1620747000@buildinghopesummit.org
SUMMARY:The HYPE:  Frosted Flamingo: Fabric Bowls
DESCRIPTION:
URL:https://buildinghopesummit.org/calendar_default/the-hype-frosted-flamingo-fabric-bowls/
LOCATION:CO
CATEGORIES:Hype
END:VEVENT
BEGIN:VEVENT
DTSTART;TZID=America/Denver:20210513T180000
DTEND;TZID=America/Denver:20210513T180000
DTSTAMP:20260419T193530
CREATED:20210519T043936Z
LAST-MODIFIED:20210519T043936Z
UID:2615-1620928800-1620928800@buildinghopesummit.org
SUMMARY:Connectedness Conversation: Re-Entry Anxiety
DESCRIPTION:
URL:https://buildinghopesummit.org/calendar_default/connectedness-conversation-re-entry-anxiety/
LOCATION:CO
END:VEVENT
BEGIN:VEVENT
DTSTART;TZID=America/Denver:20210524T180000
DTEND;TZID=America/Denver:20210524T193000
DTSTAMP:20260419T193530
CREATED:20210519T111831Z
LAST-MODIFIED:20210519T111831Z
UID:2703-1621879200-1621884600@buildinghopesummit.org
SUMMARY:The Mindful Man
DESCRIPTION:The Mindful Man\n\n\nJoin us for a unique workshop meant to address issues faced by the modern man. Learn practical ways to deal with stresses and frustrations faced in daily life. Explore proven techniques to relax your mind\, manage your feelings\, develop healthy relationships\, achieve your goals\, and grow your happiness. Take away concrete tips\, methods and practices that will immediately help you feel more fulfilled\, joyous and connected to yourself and everyone around you. \n*Please note\, this event is intended for men only.  \nWorkshop will be held on line through Zoom and can be accessed from your phone\, ipad/notebook or computer. Pre registration is required to access the workshop.
URL:https://buildinghopesummit.org/calendar_default/the-mindful-man-8/
LOCATION:CO
ATTACH;FMTTYPE=image/jpeg:https://buildinghopesummit.org/wp-content/uploads/2021/05/7784d087bf47386fab128079be80d437.jpg
END:VEVENT
BEGIN:VEVENT
DTSTART;TZID=America/Denver:20210602T153000
DTEND;TZID=America/Denver:20210602T170000
DTSTAMP:20260419T193530
CREATED:20210519T035605Z
LAST-MODIFIED:20210602T143519Z
UID:2300-1622647800-1622653200@buildinghopesummit.org
SUMMARY:The HYPE: Art with Frosted Flamingo
DESCRIPTION:The HYPE:  Art with the Frosted Flamingo Ages 12-20
URL:https://buildinghopesummit.org/calendar_default/the-hype-art-with-frosted-flamingo/
LOCATION:frisco historic park\, 120 main street\, frisco\, CO\, 80434\, United States
CATEGORIES:Hype
ATTACH;FMTTYPE=image/jpeg:https://buildinghopesummit.org/wp-content/uploads/2021/05/dfdd4b46063d64b266f03f1bbc4592a0.jpg
END:VEVENT
BEGIN:VEVENT
DTSTART;TZID=America/Denver:20210608T130000
DTEND;TZID=America/Denver:20210608T160000
DTSTAMP:20260419T193530
CREATED:20210519T112516Z
LAST-MODIFIED:20210714T101510Z
UID:2720-1623157200-1623168000@buildinghopesummit.org
SUMMARY:The HYPE:  Rock Climbing at Swan Mountain
DESCRIPTION:The HYPE: BOEC Rock Climbing at Swan Mountain for Ages 12-20
URL:https://buildinghopesummit.org/calendar_default/the-hype-rock-climbing-at-swan-mountain-2/
LOCATION:Swan Mountain-Prospector Campground\, White River National Forest\, Dillon\, CO\, 80435\, United States
CATEGORIES:Hype
ATTACH;FMTTYPE=image/jpeg:https://buildinghopesummit.org/wp-content/uploads/2021/05/33d28e96d13816ff6101308dfef5e8bc.jpg
END:VEVENT
BEGIN:VEVENT
DTSTART;TZID=America/Denver:20210610T180000
DTEND;TZID=America/Denver:20210610T180000
DTSTAMP:20260419T193530
CREATED:20210519T043351Z
LAST-MODIFIED:20210519T043351Z
UID:2324-1623348000-1623348000@buildinghopesummit.org
SUMMARY:Connectedness Conversation: Burnout
DESCRIPTION:
URL:https://buildinghopesummit.org/calendar_default/connectedness-conversation-burnout/
LOCATION:CO
END:VEVENT
BEGIN:VEVENT
DTSTART;TZID=America/Denver:20210615T090000
DTEND;TZID=America/Denver:20210615T090000
DTSTAMP:20260419T193530
CREATED:20210519T043351Z
LAST-MODIFIED:20210602T143517Z
UID:2325-1623747600-1623747600@buildinghopesummit.org
SUMMARY:The HYPE:  Lake Dillon Kayak
DESCRIPTION:
URL:https://buildinghopesummit.org/calendar_default/the-hype-lake-dillon-kayak/
LOCATION:CO
CATEGORIES:Hype
END:VEVENT
BEGIN:VEVENT
DTSTART;TZID=America/Denver:20210615T180000
DTEND;TZID=America/Denver:20210615T193000
DTSTAMP:20260419T193530
CREATED:20210519T113405Z
LAST-MODIFIED:20210519T113405Z
UID:2733-1623780000-1623785400@buildinghopesummit.org
SUMMARY:Expressive Art
DESCRIPTION:Join Expressive Artist Kathye Conti to explore the role art plays in promoting personal well-being and connectedness
URL:https://buildinghopesummit.org/calendar_default/expressive-art-3/
LOCATION:Silverthorne Pavilion\, 400 Blue River Pkwy\, Silverthorne\, CO\, 80498\, United States
ATTACH;FMTTYPE=image/jpeg:https://buildinghopesummit.org/wp-content/uploads/2021/05/0f4a286759edd1838a76649743ff9fbe.jpg
END:VEVENT
BEGIN:VEVENT
DTSTART;TZID=America/Denver:20210622T180000
DTEND;TZID=America/Denver:20210622T193000
DTSTAMP:20260419T193530
CREATED:20210519T113440Z
LAST-MODIFIED:20210714T101457Z
UID:2737-1624384800-1624390200@buildinghopesummit.org
SUMMARY:LIVE  Sound Healing
DESCRIPTION:Let the waves of sound wash over you in this relaxing in person Sound Bath experience.\n\n\nLed by Emma\,  let the waves of sound wash over you in this relaxing Sound Bath experience. The element of sound: it runs through every facet of our life. Our bodies are made up of vibrations and frequency all the way down to the movement of our cells. It is no wonder that the journey of a sound bath brings our bodies back into a homeostatic state\, nourishing our blood flow & our nervous system to enter into deep relaxation. This flow in our bodies also stimulates our energy lines\, breaking through blocks\, moving stagnation & uprooting old patterns that no longer serve us. \nPlease bring a yoga mat\, blanket\, comfy clothing\, and anything else you may want during this sound bath experience. \nTHIS IS AN IN-PERSON EVENT.  \nCAPACITY IS LIMITED & PARTICIPANTS MUST WEAR MASKS.
URL:https://buildinghopesummit.org/calendar_default/live-sound-healing-2/
LOCATION:Silverthorne Pavilion\, 400 Blue River Pkwy\, Silverthorne\, CO\, 80498\, United States
ATTACH;FMTTYPE=image/jpeg:https://buildinghopesummit.org/wp-content/uploads/2021/05/934011791d3c0fb7d1a6b198ccb7357f.jpg
END:VEVENT
BEGIN:VEVENT
DTSTART;TZID=America/Denver:20210623T090000
DTEND;TZID=America/Denver:20210623T120000
DTSTAMP:20260419T193530
CREATED:20210519T113517Z
LAST-MODIFIED:20210714T101504Z
UID:2740-1624438800-1624449600@buildinghopesummit.org
SUMMARY:The HYPE:  Ropes Course 12-20
DESCRIPTION:The HYPE:  Ropes Course 12-20
URL:https://buildinghopesummit.org/calendar_default/the-hype-ropes-course-12-20-7/
LOCATION:BOEC Griffith Lodge\, 300 Snowy Ridge Road\, Breckenridge\, CO\, 80424\, United States
CATEGORIES:Hype
ATTACH;FMTTYPE=image/jpeg:https://buildinghopesummit.org/wp-content/uploads/2021/05/eb25d8d86e137b0d018626a94d74d8ab.jpg
END:VEVENT
BEGIN:VEVENT
DTSTART;TZID=America/Denver:20210629T173000
DTEND;TZID=America/Denver:20210629T184500
DTSTAMP:20260419T193530
CREATED:20210519T113622Z
LAST-MODIFIED:20210714T101445Z
UID:2746-1624987800-1624992300@buildinghopesummit.org
SUMMARY:Gentle Community Yoga- Finding Emotional Balance
DESCRIPTION:Yoga helps clear the mind\, offers calm and healing and helps unite communities. Join Leslie Glenn and Amy Sabreen for this hour class\n\n\nYoga helps clear the mind\, offers calm and healing and helps unite communities. Join Leslie Glenn and Amy Sabreen for this hour class designed to create an open\, safe place for anyone who wants to stretch\, breathe and experience a sense of community\, connection and healing. All ages and levels welcome to join us. \nWe will be practicing outside on the Library Lawn \nTHIS IS AN IN-PERSON EVENT. CAPACITY IS LIMITED & PARTICIPANTS MUST WEAR MASKS.
URL:https://buildinghopesummit.org/calendar_default/gentle-community-yoga-finding-emotional-balance-2/
LOCATION:Summit County Library South Branch\, 103 Harris St\, Breckenridge\, CO\, 80424\, United States
ATTACH;FMTTYPE=image/jpeg:https://buildinghopesummit.org/wp-content/uploads/2021/05/3ef57aa05f4a6e60b19bb0a8e5fda60a.jpg
END:VEVENT
BEGIN:VEVENT
DTSTART;TZID=America/Denver:20210630T153000
DTEND;TZID=America/Denver:20210630T170000
DTSTAMP:20260419T193530
CREATED:20210519T035607Z
LAST-MODIFIED:20210602T143519Z
UID:2302-1625067000-1625072400@buildinghopesummit.org
SUMMARY:The HYPE: Art with Frosted Flamingo
DESCRIPTION:The HYPE:  Art with the Frosted Flamingo Ages 12-20
URL:https://buildinghopesummit.org/calendar_default/the-hype-art-with-frosted-flamingo-2/
LOCATION:frisco historic park\, 120 main street\, frisco\, CO\, 80434\, United States
CATEGORIES:Hype
ATTACH;FMTTYPE=image/jpeg:https://buildinghopesummit.org/wp-content/uploads/2021/05/dfdd4b46063d64b266f03f1bbc4592a0.jpg
END:VEVENT
BEGIN:VEVENT
DTSTART;TZID=America/Denver:20210701T130000
DTEND;TZID=America/Denver:20210701T160000
DTSTAMP:20260419T193530
CREATED:20210519T113518Z
LAST-MODIFIED:20210714T101450Z
UID:2742-1625144400-1625155200@buildinghopesummit.org
SUMMARY:The HYPE:  Ropes Course 12-20
DESCRIPTION:The HYPE:  Ropes Course 12-20
URL:https://buildinghopesummit.org/calendar_default/the-hype-ropes-course-12-20-8/
LOCATION:BOEC Griffith Lodge\, 300 Snowy Ridge Road\, Breckenridge\, CO\, 80424\, United States
CATEGORIES:Hype
ATTACH;FMTTYPE=image/jpeg:https://buildinghopesummit.org/wp-content/uploads/2021/05/eb25d8d86e137b0d018626a94d74d8ab.jpg
END:VEVENT
BEGIN:VEVENT
DTSTART;TZID=America/Denver:20210706T090000
DTEND;TZID=America/Denver:20210706T120000
DTSTAMP:20260419T193530
CREATED:20210519T112517Z
LAST-MODIFIED:20210714T101430Z
UID:2722-1625562000-1625572800@buildinghopesummit.org
SUMMARY:The HYPE:  Rock Climbing at Swan Mountain
DESCRIPTION:The HYPE: BOEC Rock Climbing at Swan Mountain for Ages 12-20
URL:https://buildinghopesummit.org/calendar_default/the-hype-rock-climbing-at-swan-mountain-3/
LOCATION:Swan Mountain-Prospector Campground\, White River National Forest\, Dillon\, CO\, 80435\, United States
CATEGORIES:Hype
ATTACH;FMTTYPE=image/jpeg:https://buildinghopesummit.org/wp-content/uploads/2021/05/33d28e96d13816ff6101308dfef5e8bc.jpg
END:VEVENT
BEGIN:VEVENT
DTSTART;TZID=America/Denver:20210708T180000
DTEND;TZID=America/Denver:20210708T193000
DTSTAMP:20260419T193530
CREATED:20210519T113657Z
LAST-MODIFIED:20210714T100050Z
UID:2748-1625767200-1625772600@buildinghopesummit.org
SUMMARY:Connectedness Conversation: Boundaries
DESCRIPTION:with Jane Hahn\n\n\nBoundaries: We talk a lot about boundaries these days\, but what are they really? And how do we actually stick to our boundaries in the real world? \nJoin Jane Thatcher Hahn of Grit Therapy for a presentation and guided discussion about how to successfully set and keep boundaries (even when it feels uncomfortable or hard) at work\, with friends\, and at home. \nEach participant will have a chance to complete a boundary and values audit\, and consider what positive changes they would like to make in their life.
URL:https://buildinghopesummit.org/calendar_default/connectedness-conversation-boundaries-2/
LOCATION:CO
CATEGORIES:Connecting Events
END:VEVENT
BEGIN:VEVENT
DTSTART;TZID=America/Denver:20210713T090000
DTEND;TZID=America/Denver:20210713T120000
DTSTAMP:20260419T193530
CREATED:20210519T113728Z
LAST-MODIFIED:20210714T100122Z
UID:2752-1626166800-1626177600@buildinghopesummit.org
SUMMARY:The HYPE:  Lake Dillon Paddleboarding
DESCRIPTION:The HYPE: BOEC Lake Dillon Adventure for Ages 12-18\n\n\nThe HYPE\, Building Hope’s Youth Connection Program\, and Breckenridge Outdoor Education Center (BOEC) present an opportunity to get out on the water and connect with your friends. Following a short orientation we will head out on the water for a relaxing beautiful and fun paddle. Everyone will have their own paddleboard that has been sanitized. \nAdvance registration is required with a waiver signed by an adult/legal guardian. Before proceeding with registration\, please complete the BOEC/Move United Release of Risk and Liability \nLook for the big BOEC flag!  \nWhat to bring: \n• Masks required for orientation\, launching\, and landing \n• Warm clothes or layers as it gets cold out on the water \n• Raincoat \n• Sunblock \n• Personal water bottle \n• Snacks \n• Your own hand sanitizer (we will provide it too but we would love if you had your own bottle) \n• Shade hat and sunglasses \nThis event is limited to 9 participants.
URL:https://buildinghopesummit.org/calendar_default/the-hype-lake-dillon-paddleboarding-2/
LOCATION:Frisco Bay Marina\, 267 Marina Road\, Frisco\, CO\, 80443\, United States
CATEGORIES:Hype
ATTACH;FMTTYPE=image/jpeg:https://buildinghopesummit.org/wp-content/uploads/2021/05/1a41a6ca8a1a6d511cd8315de1fb871e.jpg
END:VEVENT
BEGIN:VEVENT
DTSTART;TZID=America/Denver:20210714T153000
DTEND;TZID=America/Denver:20210714T170000
DTSTAMP:20260419T193530
CREATED:20210519T035608Z
LAST-MODIFIED:20210602T143518Z
UID:2304-1626276600-1626282000@buildinghopesummit.org
SUMMARY:The HYPE: Art with Frosted Flamingo
DESCRIPTION:The HYPE:  Art with the Frosted Flamingo Ages 12-20
URL:https://buildinghopesummit.org/calendar_default/the-hype-art-with-frosted-flamingo-3/
LOCATION:frisco historic park\, 120 main street\, frisco\, CO\, 80434\, United States
CATEGORIES:Hype
ATTACH;FMTTYPE=image/jpeg:https://buildinghopesummit.org/wp-content/uploads/2021/05/dfdd4b46063d64b266f03f1bbc4592a0.jpg
END:VEVENT
END:VCALENDAR