BEGIN:VCALENDAR
VERSION:2.0
PRODID:-//Building Hope Summit -&nbsp; - ECPv6.15.20//NONSGML v1.0//EN
CALSCALE:GREGORIAN
METHOD:PUBLISH
X-ORIGINAL-URL:https://buildinghopesummit.org
X-WR-CALDESC:Events for Building Hope Summit -&nbsp;
REFRESH-INTERVAL;VALUE=DURATION:PT1H
X-Robots-Tag:noindex
X-PUBLISHED-TTL:PT1H
BEGIN:VTIMEZONE
TZID:America/Denver
BEGIN:DAYLIGHT
TZOFFSETFROM:-0700
TZOFFSETTO:-0600
TZNAME:MDT
DTSTART:20220313T090000
END:DAYLIGHT
BEGIN:STANDARD
TZOFFSETFROM:-0600
TZOFFSETTO:-0700
TZNAME:MST
DTSTART:20221106T080000
END:STANDARD
BEGIN:DAYLIGHT
TZOFFSETFROM:-0700
TZOFFSETTO:-0600
TZNAME:MDT
DTSTART:20230312T090000
END:DAYLIGHT
BEGIN:STANDARD
TZOFFSETFROM:-0600
TZOFFSETTO:-0700
TZNAME:MST
DTSTART:20231105T080000
END:STANDARD
BEGIN:DAYLIGHT
TZOFFSETFROM:-0700
TZOFFSETTO:-0600
TZNAME:MDT
DTSTART:20240310T090000
END:DAYLIGHT
BEGIN:STANDARD
TZOFFSETFROM:-0600
TZOFFSETTO:-0700
TZNAME:MST
DTSTART:20241103T080000
END:STANDARD
BEGIN:DAYLIGHT
TZOFFSETFROM:-0700
TZOFFSETTO:-0600
TZNAME:MDT
DTSTART:20250309T090000
END:DAYLIGHT
BEGIN:STANDARD
TZOFFSETFROM:-0600
TZOFFSETTO:-0700
TZNAME:MST
DTSTART:20251102T080000
END:STANDARD
END:VTIMEZONE
BEGIN:VEVENT
DTSTART;TZID=America/Denver:20231101T180000
DTEND;TZID=America/Denver:20231101T193000
DTSTAMP:20260423T035205
CREATED:20231010T190343Z
LAST-MODIFIED:20231010T190505Z
UID:12800-1698861600-1698867000@buildinghopesummit.org
SUMMARY:Expressive Art
DESCRIPTION:Join Expressive Artist Kathye Conti to explore the role art plays in promoting personal well-being and connectedness
URL:https://buildinghopesummit.org/calendar_default/expressive-art-11/
LOCATION:CO
CATEGORIES:Connecting Events
ATTACH;FMTTYPE=image/jpeg:https://buildinghopesummit.org/wp-content/uploads/2023/09/hearts-renee-fisher-1000px.jpeg
END:VEVENT
BEGIN:VEVENT
DTSTART;TZID=America/Denver:20231102T150000
DTEND;TZID=America/Denver:20231102T170000
DTSTAMP:20260423T035205
CREATED:20231023T160126Z
LAST-MODIFIED:20231023T160126Z
UID:12898-1698937200-1698944400@buildinghopesummit.org
SUMMARY:HYPE: Art with Ms.Paige | Ages 12-18
DESCRIPTION:Join the HYPE to create your own art project! Ages 12-18
URL:https://buildinghopesummit.org/calendar_default/hype-art-with-ms-paige-ages-12-18-8/
LOCATION:CO
CATEGORIES:Hype
ATTACH;FMTTYPE=image/jpeg:https://buildinghopesummit.org/wp-content/uploads/2023/09/IMG-1376-rotated.jpg
END:VEVENT
BEGIN:VEVENT
DTSTART;TZID=America/Denver:20231106T180000
DTEND;TZID=America/Denver:20231106T191500
DTSTAMP:20260423T035205
CREATED:20231018T214113Z
LAST-MODIFIED:20231018T214113Z
UID:12874-1699293600-1699298100@buildinghopesummit.org
SUMMARY:Bilingüe: meditación guiada y sanación auditiva
DESCRIPTION:Únase a Sarah Antonucci para una tarde de meditación y sanación auditiva que proveerá en ambos lenguajes\, español e inglés.
URL:https://buildinghopesummit.org/calendar_default/bilingue-meditacion-guiada-y-sanacion-auditiva-3/
LOCATION:CO
CATEGORIES:Connecting Events
ATTACH;FMTTYPE=image/jpeg:https://buildinghopesummit.org/wp-content/uploads/2023/08/unnamed.jpg
END:VEVENT
BEGIN:VEVENT
DTSTART;TZID=America/Denver:20231107T130000
DTEND;TZID=America/Denver:20231107T170000
DTSTAMP:20260423T035205
CREATED:20230914T185426Z
LAST-MODIFIED:20230914T185426Z
UID:12649-1699362000-1699376400@buildinghopesummit.org
SUMMARY:Peer Support Program Training
DESCRIPTION:Our Peer Support Program assists local community members in dealing with their struggles by offering an open ear. Complete this training to volunteer for our Peer Support Program!
URL:https://buildinghopesummit.org/calendar_default/peer-support-program-training-5/
LOCATION:CO
CATEGORIES:Trainings
ATTACH;FMTTYPE=image/jpeg:https://buildinghopesummit.org/wp-content/uploads/2023/09/debby-hudson-jcc8sxK2Adw-unsplash-1000px.jpeg
END:VEVENT
BEGIN:VEVENT
DTSTART;TZID=America/Denver:20231107T183000
DTEND;TZID=America/Denver:20231107T193000
DTSTAMP:20260423T035205
CREATED:20231018T214353Z
LAST-MODIFIED:20231024T223102Z
UID:12878-1699381800-1699385400@buildinghopesummit.org
SUMMARY:(Men's Only) PFX: A Psychology-Fitness Experience powered by PSYFI
DESCRIPTION:A revolutionary group fitness class that combines psychology and neuroscience training with a HIIT workout\, breathwork\, and meditation. \n  \nMust be 18+ to participate \nThis Event is Intended for male-identifying folks
URL:https://buildinghopesummit.org/calendar_default/mens-only-pfx-a-psychology-fitness-experience-powered-by-psyfi/
LOCATION:CO
CATEGORIES:Connecting Events
ATTACH;FMTTYPE=image/jpeg:https://buildinghopesummit.org/wp-content/uploads/2023/10/IMG_7977.jpg
END:VEVENT
BEGIN:VEVENT
DTSTART;TZID=America/Denver:20231108T130000
DTEND;TZID=America/Denver:20231108T170000
DTSTAMP:20260423T035205
CREATED:20230914T185530Z
LAST-MODIFIED:20230914T185530Z
UID:12652-1699448400-1699462800@buildinghopesummit.org
SUMMARY:Peer Support Program Training
DESCRIPTION:Our Peer Support Program assists local community members in dealing with their struggles by offering an open ear. Complete this training to volunteer for our Peer Support Program!
URL:https://buildinghopesummit.org/calendar_default/peer-support-program-training-6/
LOCATION:CO
CATEGORIES:Trainings
ATTACH;FMTTYPE=image/jpeg:https://buildinghopesummit.org/wp-content/uploads/2023/09/debby-hudson-jcc8sxK2Adw-unsplash-1000px.jpeg
END:VEVENT
BEGIN:VEVENT
DTSTART;TZID=America/Denver:20231108T171500
DTEND;TZID=America/Denver:20231108T184500
DTSTAMP:20260423T035205
CREATED:20231010T190934Z
LAST-MODIFIED:20231010T192214Z
UID:12805-1699463700-1699469100@buildinghopesummit.org
SUMMARY:HYPE: Self Defense and Martial Arts Introduction | Ages 12-18
DESCRIPTION:Join The HYPE at the Mountain Wellness Collective to learn about self defense and self confidence. \nParticipation Limited to ages 12-18
URL:https://buildinghopesummit.org/calendar_default/hype-self-defense-and-martial-arts-introduction-ages-12-18/
LOCATION:CO
CATEGORIES:Hype
ATTACH;FMTTYPE=image/jpeg:https://buildinghopesummit.org/wp-content/uploads/2023/10/1.jpg
END:VEVENT
BEGIN:VEVENT
DTSTART;TZID=America/Denver:20231111T100000
DTEND;TZID=America/Denver:20231111T113000
DTSTAMP:20260423T035205
CREATED:20231030T175333Z
LAST-MODIFIED:20231030T175333Z
UID:12923-1699696800-1699702200@buildinghopesummit.org
SUMMARY:Capacitación para voluntarios de embajadores de eventos
DESCRIPTION:Capacitación para embajadores voluntarios
URL:https://buildinghopesummit.org/calendar_default/capacitacion-para-voluntarios-de-embajadores-de-eventos/
LOCATION:CO
CATEGORIES:Trainings
ATTACH;FMTTYPE=image/jpeg:https://buildinghopesummit.org/wp-content/uploads/2023/09/hearts-renee-fisher-1000px.jpeg
END:VEVENT
BEGIN:VEVENT
DTSTART;TZID=America/Denver:20231113T180000
DTEND;TZID=America/Denver:20231113T190000
DTSTAMP:20260423T035205
CREATED:20231010T191149Z
LAST-MODIFIED:20231010T191252Z
UID:12809-1699898400-1699902000@buildinghopesummit.org
SUMMARY:Yoga Bilingüe
DESCRIPTION:Fluye con tus movimientos y respiración / Flow with your motion and your breath \nParticipation Limited to ages 16+
URL:https://buildinghopesummit.org/calendar_default/yoga-bilingue-6/
LOCATION:CO
CATEGORIES:Connecting Events
ATTACH;FMTTYPE=image/jpeg:https://buildinghopesummit.org/wp-content/uploads/2023/04/7245e85a34a4492de44d05b15410b9ba.jpg
END:VEVENT
BEGIN:VEVENT
DTSTART;TZID=America/Denver:20231116T150000
DTEND;TZID=America/Denver:20231116T170000
DTSTAMP:20260423T035205
CREATED:20231010T191526Z
LAST-MODIFIED:20231010T191526Z
UID:12814-1700146800-1700154000@buildinghopesummit.org
SUMMARY:HYPE: Art with Ms.Paige | Ages 12-18
DESCRIPTION:Join the HYPE to create your own art project!  \nParticipation limited to ages 12-18 \n 
URL:https://buildinghopesummit.org/calendar_default/hype-art-with-ms-paige-ages-12-18-6/
LOCATION:CO
CATEGORIES:Hype
END:VEVENT
BEGIN:VEVENT
DTSTART;TZID=America/Denver:20231117T183000
DTEND;TZID=America/Denver:20231117T203000
DTSTAMP:20260423T035205
CREATED:20231023T162032Z
LAST-MODIFIED:20231023T162032Z
UID:12901-1700245800-1700253000@buildinghopesummit.org
SUMMARY:HYPE+YESS: Movie Night | Ages 12-18
DESCRIPTION:Enjoy a free night at the movies with your friends! \nParticipation limited to Ages 12-18
URL:https://buildinghopesummit.org/calendar_default/hypeyess-movie-night-ages-12-18-3/
LOCATION:CO
CATEGORIES:Hype
END:VEVENT
BEGIN:VEVENT
DTSTART;TZID=America/Denver:20231128T183000
DTEND;TZID=America/Denver:20231128T193000
DTSTAMP:20260423T035205
CREATED:20231023T162302Z
LAST-MODIFIED:20231026T193337Z
UID:12904-1701196200-1701199800@buildinghopesummit.org
SUMMARY:PFX: A Psychology-Fitness Experience powered by PSYFI
DESCRIPTION:A revolutionary group fitness class that combines psychology and neuroscience training with a HIIT workout\, breathwork\, and meditation. \nParticipation limited to ages 18+
URL:https://buildinghopesummit.org/calendar_default/pfx-a-psychology-fitness-experience-powered-by-psyfi/
LOCATION:CO
CATEGORIES:Connecting Events
ATTACH;FMTTYPE=image/jpeg:https://buildinghopesummit.org/wp-content/uploads/2023/06/IMG_6691.jpg
END:VEVENT
BEGIN:VEVENT
DTSTART;TZID=America/Denver:20231130T150000
DTEND;TZID=America/Denver:20231130T170000
DTSTAMP:20260423T035205
CREATED:20231010T192021Z
LAST-MODIFIED:20231010T192021Z
UID:12816-1701356400-1701363600@buildinghopesummit.org
SUMMARY:HYPE: Art with Ms.Paige | Ages 12-18
DESCRIPTION:Join the HYPE to create your own art project! \nParticipation limited to ages 12-18
URL:https://buildinghopesummit.org/calendar_default/hype-art-with-ms-paige-ages-12-18-7/
LOCATION:CO
CATEGORIES:Hype
ATTACH;FMTTYPE=image/jpeg:https://buildinghopesummit.org/wp-content/uploads/2023/09/IMG-1376-rotated.jpg
END:VEVENT
BEGIN:VEVENT
DTSTART;TZID=America/Denver:20231205T173000
DTEND;TZID=America/Denver:20231205T210000
DTSTAMP:20260423T035205
CREATED:20231113T154843Z
LAST-MODIFIED:20231113T155046Z
UID:12998-1701797400-1701810000@buildinghopesummit.org
SUMMARY:Eclipse Movie Night Featuring 5Point Film
DESCRIPTION:Join us at the Eclipse Theater in Breckenridge for a screening of some of the short films from this years 5Point Adventure Film Festival!
URL:https://buildinghopesummit.org/calendar_default/eclipse-movie-night-featuring-5point-film/
LOCATION:CO
CATEGORIES:Connecting Events
ATTACH;FMTTYPE=image/png:https://buildinghopesummit.org/wp-content/uploads/2023/11/5Point-Website-Banner-1700x900-1.png
END:VEVENT
BEGIN:VEVENT
DTSTART;TZID=America/Denver:20231206T180000
DTEND;TZID=America/Denver:20231206T193000
DTSTAMP:20260423T035205
CREATED:20231120T161223Z
LAST-MODIFIED:20231120T161223Z
UID:13047-1701885600-1701891000@buildinghopesummit.org
SUMMARY:Arte para relajarse y equilibrar
DESCRIPTION:Explora con Building Hope y Simple Art Studio algunos ejercicios cortos para liberar estrés y calmarnos por
URL:https://buildinghopesummit.org/calendar_default/arte-para-relajarse-y-equilibrar/
LOCATION:CO
CATEGORIES:Connecting Events
ATTACH;FMTTYPE=image/jpeg:https://buildinghopesummit.org/wp-content/uploads/2023/11/IMG_3188.jpeg
END:VEVENT
BEGIN:VEVENT
DTSTART;TZID=America/Denver:20231208T183000
DTEND;TZID=America/Denver:20231208T194500
DTSTAMP:20260423T035205
CREATED:20231120T154636Z
LAST-MODIFIED:20231120T154636Z
UID:13044-1702060200-1702064700@buildinghopesummit.org
SUMMARY:Yoga and Mindfulness
DESCRIPTION:Join Leslie Glenn for a special yoga and meditation experience designed to strengthen awareness\, presence and connection
URL:https://buildinghopesummit.org/calendar_default/yoga-and-mindfulness/
LOCATION:CO
CATEGORIES:Connecting Events
ATTACH;FMTTYPE=image/jpeg:https://buildinghopesummit.org/wp-content/uploads/2023/11/IMG_0702.jpg
END:VEVENT
BEGIN:VEVENT
DTSTART;TZID=America/Denver:20231212T180000
DTEND;TZID=America/Denver:20231212T193000
DTSTAMP:20260423T035205
CREATED:20231102T170606Z
LAST-MODIFIED:20231102T170606Z
UID:12949-1702404000-1702409400@buildinghopesummit.org
SUMMARY:Event Ambassador Volunteer Training
DESCRIPTION:Volunteer Ambassador Training
URL:https://buildinghopesummit.org/calendar_default/event-ambassador-volunteer-training-6/
LOCATION:CO
CATEGORIES:Trainings
ATTACH;FMTTYPE=image/jpeg:https://buildinghopesummit.org/wp-content/uploads/2023/09/hearts-renee-fisher-1000px.jpeg
END:VEVENT
BEGIN:VEVENT
DTSTART;TZID=America/Denver:20231214T150000
DTEND;TZID=America/Denver:20231214T170000
DTSTAMP:20260423T035205
CREATED:20231120T161709Z
LAST-MODIFIED:20231120T161709Z
UID:13051-1702566000-1702573200@buildinghopesummit.org
SUMMARY:HYPE: Art with Ms.Paige | Ages 12-18
DESCRIPTION:Join the HYPE to create your own art project! Ages 12-18
URL:https://buildinghopesummit.org/calendar_default/hype-art-with-ms-paige-ages-12-18-9/
LOCATION:CO
CATEGORIES:Hype
ATTACH;FMTTYPE=image/jpeg:https://buildinghopesummit.org/wp-content/uploads/2023/09/IMG-1376-rotated.jpg
END:VEVENT
BEGIN:VEVENT
DTSTART;TZID=America/Denver:20231215T183000
DTEND;TZID=America/Denver:20231215T203000
DTSTAMP:20260423T035205
CREATED:20231120T163243Z
LAST-MODIFIED:20231120T163243Z
UID:13055-1702665000-1702672200@buildinghopesummit.org
SUMMARY:HYPE+YESS: Movie Night | Ages 12-18
DESCRIPTION:Enjoy a free night at the movies with your friends!
URL:https://buildinghopesummit.org/calendar_default/hypeyess-movie-night-ages-12-18-4/
LOCATION:CO
CATEGORIES:Hype
END:VEVENT
BEGIN:VEVENT
DTSTART;TZID=America/Denver:20240107T140000
DTEND;TZID=America/Denver:20240107T160000
DTSTAMP:20260423T035205
CREATED:20240102T182230Z
LAST-MODIFIED:20240102T182230Z
UID:13259-1704636000-1704643200@buildinghopesummit.org
SUMMARY:Charlie's Walk and Mental Health Fair
DESCRIPTION:In loving memory of Charlie Foster and for anyone affected my mental illness.
URL:https://buildinghopesummit.org/calendar_default/charlies-walk-and-mental-health-fair/
LOCATION:CO
ATTACH;FMTTYPE=image/jpeg:https://buildinghopesummit.org/wp-content/uploads/2024/01/Charlies-Walk-Flyer-8.5x11-Final-1.pdf.jpg
END:VEVENT
BEGIN:VEVENT
DTSTART;TZID=America/Denver:20240109T180000
DTEND;TZID=America/Denver:20240109T193000
DTSTAMP:20260423T035205
CREATED:20231219T180119Z
LAST-MODIFIED:20231219T180119Z
UID:13171-1704823200-1704828600@buildinghopesummit.org
SUMMARY:Insanity Fitness (Bilingüe)
DESCRIPTION:Rutinas de ejercicios de alta intensidad que trabajan todo el cuerpo utilizando entrenamiento cardiovascular y de fuerza
URL:https://buildinghopesummit.org/calendar_default/insanity-fitness-bilingue/
LOCATION:CO
CATEGORIES:Connecting Events
ATTACH;FMTTYPE=image/jpeg:https://buildinghopesummit.org/wp-content/uploads/2023/12/https___cdn.evbuc_.com_images_656970859_1395634227893_1_original.jpg
END:VEVENT
BEGIN:VEVENT
DTSTART;TZID=America/Denver:20240111T150000
DTEND;TZID=America/Denver:20240111T170000
DTSTAMP:20260423T035205
CREATED:20231219T180408Z
LAST-MODIFIED:20231219T180408Z
UID:13175-1704985200-1704992400@buildinghopesummit.org
SUMMARY:HYPE: Art with Ms.Paige | Ages 12-18
DESCRIPTION:Join the HYPE with Ms. Scheuermann to learn how to create your own art projects!\nParticipation limited to Summit County residents ages 12-18.
URL:https://buildinghopesummit.org/calendar_default/hype-art-with-ms-paige-ages-12-18-10/
LOCATION:CO
CATEGORIES:Hype
ATTACH;FMTTYPE=image/jpeg:https://buildinghopesummit.org/wp-content/uploads/2023/04/144c2158f83cf23fda514f2c8eefde07.jpg
END:VEVENT
BEGIN:VEVENT
DTSTART;TZID=America/Denver:20240115T180000
DTEND;TZID=America/Denver:20240115T193000
DTSTAMP:20260423T035205
CREATED:20231102T170744Z
LAST-MODIFIED:20240104T164828Z
UID:12951-1705341600-1705347000@buildinghopesummit.org
SUMMARY:Capacitación para voluntarios de embajadores de eventos
DESCRIPTION:Capacitación para embajadores voluntarios
URL:https://buildinghopesummit.org/calendar_default/capacitacion-para-voluntarios-de-embajadores-de-eventos-2/
LOCATION:CO
CATEGORIES:Trainings
ATTACH;FMTTYPE=image/jpeg:https://buildinghopesummit.org/wp-content/uploads/2023/09/hearts-renee-fisher-1000px.jpeg
END:VEVENT
BEGIN:VEVENT
DTSTART;TZID=America/Denver:20240116T170000
DTEND;TZID=America/Denver:20240116T183000
DTSTAMP:20260423T035205
CREATED:20240116T223134Z
LAST-MODIFIED:20240116T223520Z
UID:13391-1705424400-1705429800@buildinghopesummit.org
SUMMARY:Calming The Nervous System
DESCRIPTION:Join Nicole\, a Registered Art Therapist and Licensed Counselor for group art therapy centered on learning about and soothing the nervous system. This group will support understanding natural responses and allow for healing and maintaining homeostasis. A variety of art materials will be offered to use during the session and you do not need to be an artist to participate in art therapy. This is a limited seat event\, please RSVP.
URL:https://buildinghopesummit.org/calendar_default/calming-the-nervous-system/
LOCATION:CO
ATTACH;FMTTYPE=image/png:https://buildinghopesummit.org/wp-content/uploads/2024/01/Calming-the-nervous-system-Nicole-Nepote.png
END:VEVENT
BEGIN:VEVENT
DTSTART;TZID=America/Denver:20240120T180000
DTEND;TZID=America/Denver:20240120T210000
DTSTAMP:20260423T035205
CREATED:20240103T004854Z
LAST-MODIFIED:20240103T004854Z
UID:13299-1705773600-1705784400@buildinghopesummit.org
SUMMARY:Paradise Paradox Screening and Wellness Fair
DESCRIPTION:Join Arapahoe Basin\, Building Hope and Town of Silverthorne for a screening of Paradise Paradox. \nProduced by Olympic ski racer Bode Miller and Emmy Award-winning impact sports filmmaker Brett Rapkin\, The Paradise Paradox explores the mental health crisis affecting America’s mountain towns and the innovative solutions being developed in response. \nThis community event is FREE and open to the public.
URL:https://buildinghopesummit.org/calendar_default/paradise-paradox-screening-and-wellness-fair/
LOCATION:CO
ATTACH;FMTTYPE=image/png:https://buildinghopesummit.org/wp-content/uploads/2024/01/Paradise-Paradox-Static-Trailer.png
END:VEVENT
BEGIN:VEVENT
DTSTART;TZID=America/Denver:20240122T170000
DTEND;TZID=America/Denver:20240122T183000
DTSTAMP:20260423T035205
CREATED:20240116T223648Z
LAST-MODIFIED:20240116T223648Z
UID:13397-1705942800-1705948200@buildinghopesummit.org
SUMMARY:The Purpose of Anxiety
DESCRIPTION:Join Nicole\, a Registered Art Therapist and Professional Counselor for art therapy centered on revealing the mysteries of helpful anxiety. During this session\, we will be using oil pastels. Art materials are included.
URL:https://buildinghopesummit.org/calendar_default/the-purpose-of-anxiety/
LOCATION:CO
ATTACH;FMTTYPE=image/png:https://buildinghopesummit.org/wp-content/uploads/2024/01/The-Purpose-of-Anxiety-Nicole-Nepote.png
END:VEVENT
BEGIN:VEVENT
DTSTART;TZID=America/Denver:20240123T173000
DTEND;TZID=America/Denver:20240123T200000
DTSTAMP:20260423T035205
CREATED:20240109T155344Z
LAST-MODIFIED:20240109T155344Z
UID:13366-1706031000-1706040000@buildinghopesummit.org
SUMMARY:Community Conversation: Summit County Behavioral Health Mobile Crisis Response System
DESCRIPTION:Join Building Hope for an evening of discussion and learning with our Summit County partners involved in providing Behavioral Health Mobile Crisis Response and Intervention to the community.
URL:https://buildinghopesummit.org/calendar_default/community-conversation-summit-county-behavioral-health-mobile-crisis-response-system/
LOCATION:CO
ATTACH;FMTTYPE=image/png:https://buildinghopesummit.org/wp-content/uploads/2024/01/head-and-hands-pic.png
END:VEVENT
BEGIN:VEVENT
DTSTART;TZID=America/Denver:20240123T173000
DTEND;TZID=America/Denver:20240123T200000
DTSTAMP:20260423T035205
CREATED:20240116T184048Z
LAST-MODIFIED:20240116T184048Z
UID:13381-1706031000-1706040000@buildinghopesummit.org
SUMMARY:Community Conversation: Summit County Behavioral Health Mobile Crisis Response System
DESCRIPTION:Join Building Hope for an evening of discussion and learning with our Summit County partners involved in providing Behavioral Health Mobile Crisis Response and Intervention to the community.
URL:https://buildinghopesummit.org/calendar_default/community-conversation-summit-county-behavioral-health-mobile-crisis-response-system-2/
LOCATION:CO
ATTACH;FMTTYPE=image/png:https://buildinghopesummit.org/wp-content/uploads/2024/01/head-and-hands-pic.png
END:VEVENT
BEGIN:VEVENT
DTSTART;TZID=America/Denver:20240123T180000
DTEND;TZID=America/Denver:20240123T193000
DTSTAMP:20260423T035205
CREATED:20231219T181646Z
LAST-MODIFIED:20231219T181646Z
UID:13185-1706032800-1706038200@buildinghopesummit.org
SUMMARY:Expressive Art-Healing Hearts Canvas Bags
DESCRIPTION:Join expressive artist Kathye Conti to explore the role art plays in promoting personal well-being and connectedness
URL:https://buildinghopesummit.org/calendar_default/expressive-art-healing-hearts-canvas-bags-4/
LOCATION:CO
CATEGORIES:Connecting Events
ATTACH;FMTTYPE=image/jpeg:https://buildinghopesummit.org/wp-content/uploads/2023/12/debby-hudson-jcc8sxK2Adw-unsplash-1000px.jpeg
END:VEVENT
BEGIN:VEVENT
DTSTART;TZID=America/Denver:20240124T090000
DTEND;TZID=America/Denver:20240124T170000
DTSTAMP:20260423T035205
CREATED:20240102T231052Z
LAST-MODIFIED:20240102T231052Z
UID:13294-1706086800-1706115600@buildinghopesummit.org
SUMMARY:Mental Health First Aid for Adults Assisting Youth
DESCRIPTION:This training teaches adults who work with youth how to identify\, understand and respond to signs of mental health and substance use challenges among children and adolescents aged 12-18.
URL:https://buildinghopesummit.org/calendar_default/mental-health-first-aid-for-adults-assisting-youth/
LOCATION:CO
ATTACH;FMTTYPE=image/png:https://buildinghopesummit.org/wp-content/uploads/2024/01/YMHFA-1.24.24.png
END:VEVENT
END:VCALENDAR