BEGIN:VCALENDAR
VERSION:2.0
PRODID:-//Building Hope Summit -&nbsp; - ECPv6.15.20//NONSGML v1.0//EN
CALSCALE:GREGORIAN
METHOD:PUBLISH
X-ORIGINAL-URL:https://buildinghopesummit.org
X-WR-CALDESC:Events for Building Hope Summit -&nbsp;
REFRESH-INTERVAL;VALUE=DURATION:PT1H
X-Robots-Tag:noindex
X-PUBLISHED-TTL:PT1H
BEGIN:VTIMEZONE
TZID:America/Denver
BEGIN:DAYLIGHT
TZOFFSETFROM:-0700
TZOFFSETTO:-0600
TZNAME:MDT
DTSTART:20230312T090000
END:DAYLIGHT
BEGIN:STANDARD
TZOFFSETFROM:-0600
TZOFFSETTO:-0700
TZNAME:MST
DTSTART:20231105T080000
END:STANDARD
BEGIN:DAYLIGHT
TZOFFSETFROM:-0700
TZOFFSETTO:-0600
TZNAME:MDT
DTSTART:20240310T090000
END:DAYLIGHT
BEGIN:STANDARD
TZOFFSETFROM:-0600
TZOFFSETTO:-0700
TZNAME:MST
DTSTART:20241103T080000
END:STANDARD
BEGIN:DAYLIGHT
TZOFFSETFROM:-0700
TZOFFSETTO:-0600
TZNAME:MDT
DTSTART:20250309T090000
END:DAYLIGHT
BEGIN:STANDARD
TZOFFSETFROM:-0600
TZOFFSETTO:-0700
TZNAME:MST
DTSTART:20251102T080000
END:STANDARD
END:VTIMEZONE
BEGIN:VEVENT
DTSTART;TZID=America/Denver:20240320T180000
DTEND;TZID=America/Denver:20240320T193000
DTSTAMP:20260423T034758
CREATED:20240129T225158Z
LAST-MODIFIED:20240302T153106Z
UID:13544-1710957600-1710963000@buildinghopesummit.org
SUMMARY:Rock To Recover: Community and Senior Center
DESCRIPTION:Come play music in a sober environment that promotes positive mental health. Use our instruments or bring your own. Perform covers or originals\, solo or with other participants.
URL:https://buildinghopesummit.org/calendar_default/rock-to-recover-community-and-senior-center-4/
LOCATION:CO
ATTACH;FMTTYPE=image/png:https://buildinghopesummit.org/wp-content/uploads/2024/01/RTR-Flyer-March.png
END:VEVENT
BEGIN:VEVENT
DTSTART;TZID=America/Denver:20240320T180000
DTEND;TZID=America/Denver:20240320T203000
DTSTAMP:20260423T034758
CREATED:20240319T152313Z
LAST-MODIFIED:20240319T152313Z
UID:14135-1710957600-1710966600@buildinghopesummit.org
SUMMARY:Outlier Film Screening
DESCRIPTION:In partnership with Mountain Dreamers and SOS Outreach\, OSO outdoors presents: Outlier Film Screening and Panel \n  \nSummit Middle School \n158 School Rd Frisco\, CO \n  \nFilm starts at 7:30pm \n 
URL:https://buildinghopesummit.org/calendar_default/outlier-film-screening/
LOCATION:CO
END:VEVENT
BEGIN:VEVENT
DTSTART;TZID=America/Denver:20240321T093000
DTEND;TZID=America/Denver:20240321T143000
DTSTAMP:20260423T034758
CREATED:20240129T230306Z
LAST-MODIFIED:20240129T230830Z
UID:13557-1711013400-1711031400@buildinghopesummit.org
SUMMARY:Mental Health First Aid Course - Focused on Youth
DESCRIPTION:This course teaches parents\, family members and adults working with adolescents to respond and care for those who may be experiencing a mental health challenge. Participants will learn warning signs\, how to reduce stigma surrounding mental health\, and how to help youth in mental health crises. \nFREE and open to the public \nAdvance registration is required: https://web2.myvscloud.com/wbwsc/cosilverthornewt.wsc/splash.html
URL:https://buildinghopesummit.org/calendar_default/mental-health-first-aid-course-focused-on-youth-2/
LOCATION:CO
END:VEVENT
BEGIN:VEVENT
DTSTART;TZID=America/Denver:20240321T180000
DTEND;TZID=America/Denver:20240321T193000
DTSTAMP:20260423T034758
CREATED:20240314T221423Z
LAST-MODIFIED:20240314T221423Z
UID:14109-1711044000-1711049400@buildinghopesummit.org
SUMMARY:Free Workshop for 5th - 9th Graders: Feeling Calm and Confident
DESCRIPTION:Colorado Learning Connections invites you to their new glow up workshop series starting with: “Feeling Calm & Confident” with certified teen life coach Kath Keen. \n 
URL:https://buildinghopesummit.org/calendar_default/free-workshop-for-5th-9th-graders-feeling-calm-and-confident/
LOCATION:CO
ATTACH;FMTTYPE=image/png:https://buildinghopesummit.org/wp-content/uploads/2024/03/Feeling-calm-and-confident-flyer-.png
END:VEVENT
BEGIN:VEVENT
DTSTART;TZID=America/Denver:20240323T100000
DTEND;TZID=America/Denver:20240323T110000
DTSTAMP:20260423T034758
CREATED:20240220T194413Z
LAST-MODIFIED:20240220T194413Z
UID:13819-1711188000-1711191600@buildinghopesummit.org
SUMMARY:HYPE: Ice Skating | Ages 12-18
DESCRIPTION:Come down to the Stephan C. West Ice Area for a fun day on the rink! \nParticipation is limited to ages 12-18
URL:https://buildinghopesummit.org/calendar_default/hype-ice-skating-ages-12-18/
LOCATION:CO
CATEGORIES:Hype
ATTACH;FMTTYPE=image/jpeg:https://buildinghopesummit.org/wp-content/uploads/2024/02/IMG_20220420_170232260_HDR.jpg
END:VEVENT
BEGIN:VEVENT
DTSTART;TZID=America/Denver:20240326T173000
DTEND;TZID=America/Denver:20240326T190000
DTSTAMP:20260423T034758
CREATED:20240129T225411Z
LAST-MODIFIED:20240302T152931Z
UID:13552-1711474200-1711479600@buildinghopesummit.org
SUMMARY:Rock To Recover: Silverthorne Pavilion
DESCRIPTION:Come play music in a sober environment that promotes positive mental health. Use our instruments or bring your own. Perform covers or originals\, solo or with other participants.
URL:https://buildinghopesummit.org/calendar_default/rock-to-recover-silverthorne-pavilion-4/
LOCATION:CO
ATTACH;FMTTYPE=image/png:https://buildinghopesummit.org/wp-content/uploads/2024/01/RTR-Flyer-March.png
END:VEVENT
BEGIN:VEVENT
DTSTART;TZID=America/Denver:20240326T190000
DTEND;TZID=America/Denver:20240326T203000
DTSTAMP:20260423T034758
CREATED:20240304T204539Z
LAST-MODIFIED:20240304T204539Z
UID:13981-1711479600-1711485000@buildinghopesummit.org
SUMMARY:Family Support Group in Person and Zoom
DESCRIPTION:We are pleased to announce that we will once again meet in-person for our Family Support Group!  The meetings are on the 2nd and 4th Tuesdays at the Summit County Community and Senior Center in Frisco at 83 Nancy’s Place (7-8:30pm)
URL:https://buildinghopesummit.org/calendar_default/family-support-group-in-person-and-zoom-2/
LOCATION:CO
ATTACH;FMTTYPE=image/jpeg:https://buildinghopesummit.org/wp-content/uploads/2023/12/debby-hudson-jcc8sxK2Adw-unsplash-1000px.jpeg
END:VEVENT
BEGIN:VEVENT
DTSTART;TZID=America/Denver:20240327T170000
DTEND;TZID=America/Denver:20240327T183000
DTSTAMP:20260423T034758
CREATED:20240304T201124Z
LAST-MODIFIED:20240320T150136Z
UID:13975-1711558800-1711564200@buildinghopesummit.org
SUMMARY:The Words We Use
DESCRIPTION:This is a guided Art Therapy event to help people of all ages build a healthy mindset. We will explore thoughts that motivate and ones that keep us stuck\, using collages with magazines during this directive. All ages are welcome.
URL:https://buildinghopesummit.org/calendar_default/the-words-we-use/
LOCATION:CO
ATTACH;FMTTYPE=image/png:https://buildinghopesummit.org/wp-content/uploads/2024/03/Art-Therapy-March-2-Nicole-Nepote.png
END:VEVENT
BEGIN:VEVENT
DTSTART;TZID=America/Denver:20240327T170000
DTEND;TZID=America/Denver:20240327T190000
DTSTAMP:20260423T034758
CREATED:20231227T232541Z
LAST-MODIFIED:20240318T183833Z
UID:13250-1711558800-1711566000@buildinghopesummit.org
SUMMARY:MHBHC Free Community Dinner
DESCRIPTION:A free meal for anyone in the community to come together to eat good food\, connect with others\, and have sober fun!!
URL:https://buildinghopesummit.org/calendar_default/mhbhc-free-community-dinner-3/
LOCATION:CO
ATTACH;FMTTYPE=image/png:https://buildinghopesummit.org/wp-content/uploads/2023/12/New-Community-Dinner-Flyer-1.png
END:VEVENT
BEGIN:VEVENT
DTSTART;TZID=America/Denver:20240327T180000
DTEND;TZID=America/Denver:20240327T193000
DTSTAMP:20260423T034758
CREATED:20240220T194551Z
LAST-MODIFIED:20240220T194551Z
UID:13823-1711562400-1711567800@buildinghopesummit.org
SUMMARY:Ecstatic Dance
DESCRIPTION:Join us for an unforgettable journey of self-expression through movement!
URL:https://buildinghopesummit.org/calendar_default/ecstatic-dance-2/
LOCATION:CO
CATEGORIES:Connecting Events
ATTACH;FMTTYPE=image/jpeg:https://buildinghopesummit.org/wp-content/uploads/2024/02/https___cdn.evbuc_.com_images_430604489_424560131083_1_original.jpg
END:VEVENT
BEGIN:VEVENT
DTSTART;TZID=America/Denver:20240327T180000
DTEND;TZID=America/Denver:20240327T200000
DTSTAMP:20260423T034758
CREATED:20240229T190754Z
LAST-MODIFIED:20240229T190754Z
UID:13946-1711562400-1711569600@buildinghopesummit.org
SUMMARY:Tough Guy Sessions with Michael Brand\, NBC-HWC
DESCRIPTION:Join the guys as we gather for conversations about what it means to be a man in 2024
URL:https://buildinghopesummit.org/calendar_default/tough-guy-sessions-with-michael-brand-nbc-hwc-2/
LOCATION:CO
ATTACH;FMTTYPE=image/jpeg:https://buildinghopesummit.org/wp-content/uploads/2024/02/hot-air-balloons-building-hope.jpg
END:VEVENT
BEGIN:VEVENT
DTSTART;TZID=America/Denver:20240327T183000
DTEND;TZID=America/Denver:20240327T214500
DTSTAMP:20260423T034758
CREATED:20240326T143118Z
LAST-MODIFIED:20240326T143118Z
UID:14153-1711564200-1711575900@buildinghopesummit.org
SUMMARY:Longevity Project - Closing Event
DESCRIPTION:6:30-7 p.m. Dessert reception and coffee\n7-7:30 p.m. Panel discussion on substance use with community experts\n7:30-8:30 p.m. Keynote address by Chad Weller\n8:30-9:45 p.m. “Paradise Paradox” film screening\n\nTicket purchase required: https://www.summitdaily.com/longevity/
URL:https://buildinghopesummit.org/calendar_default/longevity-project-closing-event/
LOCATION:CO
END:VEVENT
BEGIN:VEVENT
DTSTART;TZID=America/Denver:20240328T150000
DTEND;TZID=America/Denver:20240328T170000
DTSTAMP:20260423T034758
CREATED:20240220T193302Z
LAST-MODIFIED:20240220T193333Z
UID:13815-1711638000-1711645200@buildinghopesummit.org
SUMMARY:HYPE: Art with Ms.Paige | Ages 12-18
DESCRIPTION:Join the HYPE with Ms. Scheuermann to learn how to create your own art projects! \nParticipation limited to Summit County residents ages 12-18.
URL:https://buildinghopesummit.org/calendar_default/hype-art-with-ms-paige-ages-12-18-15/
LOCATION:CO
CATEGORIES:Hype
ATTACH;FMTTYPE=image/jpeg:https://buildinghopesummit.org/wp-content/uploads/2023/12/IMG-1376-rotated.jpg
END:VEVENT
BEGIN:VEVENT
DTSTART;TZID=America/Denver:20240328T183000
DTEND;TZID=America/Denver:20240328T193000
DTSTAMP:20260423T034758
CREATED:20240129T222253Z
LAST-MODIFIED:20240129T222253Z
UID:13520-1711650600-1711654200@buildinghopesummit.org
SUMMARY:Recovery Group Yoga
DESCRIPTION:Join Mile High Integrated Health Care for a substance recovery yoga group. \nThey also have therapeutic meetings every Thursday 6:30pm – 7:30pm (see flyer for more info)
URL:https://buildinghopesummit.org/calendar_default/recovery-group-yoga-2/
LOCATION:CO
ATTACH;FMTTYPE=image/jpeg:https://buildinghopesummit.org/wp-content/uploads/2024/01/Reovery-Group-updated-Flyer-1.jpeg
END:VEVENT
BEGIN:VEVENT
DTSTART;TZID=America/Denver:20240329T183000
DTEND;TZID=America/Denver:20240329T203000
DTSTAMP:20260423T034758
CREATED:20240220T194722Z
LAST-MODIFIED:20240220T194722Z
UID:13826-1711737000-1711744200@buildinghopesummit.org
SUMMARY:HYPE+YESS: Movie Night | Ages 12 - 18
DESCRIPTION:Enjoy a free night at the movies with your friends! \nParticipation limited to ages 12-18
URL:https://buildinghopesummit.org/calendar_default/hypeyess-movie-night-ages-12-18-7/
LOCATION:CO
CATEGORIES:Hype
ATTACH;FMTTYPE=image/jpeg:https://buildinghopesummit.org/wp-content/uploads/2024/01/IMG_20220318_133110006.jpg
END:VEVENT
BEGIN:VEVENT
DTSTART;TZID=America/Denver:20240330T180000
DTEND;TZID=America/Denver:20240330T210000
DTSTAMP:20260423T034758
CREATED:20240326T143455Z
LAST-MODIFIED:20240326T143455Z
UID:14156-1711821600-1711832400@buildinghopesummit.org
SUMMARY:Apres Ski Drag Show
DESCRIPTION:Come join Mile High Behavioral Healthcare for a free Apres ski drag show hosted by Dr.Zackarina Jenny-Hoe
URL:https://buildinghopesummit.org/calendar_default/apres-ski-drag-show/
LOCATION:CO
ATTACH;FMTTYPE=image/png:https://buildinghopesummit.org/wp-content/uploads/2024/03/Apres-Ski-Drag-Show-Large-Flyer-FINAL-1.png
END:VEVENT
BEGIN:VEVENT
DTSTART;TZID=America/Denver:20240402T183000
DTEND;TZID=America/Denver:20240402T193000
DTSTAMP:20260423T034758
CREATED:20240314T181808Z
LAST-MODIFIED:20240314T181808Z
UID:14098-1712082600-1712086200@buildinghopesummit.org
SUMMARY:Tuesday Men's Meet
DESCRIPTION:Peer-led by Summit County locals\, join this bi-monthly in-person meeting and discuss the challenges men face in our community and beyond.\n\nMeetings are every other tuesday\, 6:30-7:30pm\, and the Summit County Library South Branch in Breckenridge\n\nCall Dylan at 720-608-8912 or email dylan@buildinghopesummit.org
URL:https://buildinghopesummit.org/calendar_default/tuesday-mens-meet-2/
LOCATION:CO
ATTACH;FMTTYPE=image/jpeg:https://buildinghopesummit.org/wp-content/uploads/2024/02/hot-air-balloons-building-hope.jpg
END:VEVENT
BEGIN:VEVENT
DTSTART;TZID=America/Denver:20240403T180000
DTEND;TZID=America/Denver:20240403T193000
DTSTAMP:20260423T034758
CREATED:20240302T153315Z
LAST-MODIFIED:20240302T154134Z
UID:13962-1712167200-1712172600@buildinghopesummit.org
SUMMARY:Rock To Recover: Community and Senior Center
DESCRIPTION:Come play music in a sober environment that promotes positive mental health. Use our instruments or bring your own. Perform covers or originals\, solo or with other participants.
URL:https://buildinghopesummit.org/calendar_default/rock-to-recover-community-and-senior-center-5/
LOCATION:CO
ATTACH;FMTTYPE=image/png:https://buildinghopesummit.org/wp-content/uploads/2024/01/Flyer-12-15-23-Eric-Turner.png
END:VEVENT
BEGIN:VEVENT
DTSTART;TZID=America/Denver:20240406T103000
DTEND;TZID=America/Denver:20240406T120000
DTSTAMP:20260423T034758
CREATED:20240314T222326Z
LAST-MODIFIED:20240314T222326Z
UID:14113-1712399400-1712404800@buildinghopesummit.org
SUMMARY:HYPE: Indoor Rock Climbing at the Breckenridge Rec Center
DESCRIPTION:Join the HYPE at the Breckenridge and get on the wall with your friends!
URL:https://buildinghopesummit.org/calendar_default/hype-indoor-rock-climbing-at-the-breckenridge-rec-center/
LOCATION:CO
CATEGORIES:Hype
ATTACH;FMTTYPE=image/jpeg:https://buildinghopesummit.org/wp-content/uploads/2024/03/IMG-2293.jpg
END:VEVENT
BEGIN:VEVENT
DTSTART;TZID=America/Denver:20240407T171500
DTEND;TZID=America/Denver:20240407T181500
DTSTAMP:20260423T034758
CREATED:20240206T005705Z
LAST-MODIFIED:20240206T005705Z
UID:13653-1712510100-1712513700@buildinghopesummit.org
SUMMARY:Alcoholics Anonymous Open Meeting
DESCRIPTION:Location: Summit County Church of Christ\, Frisco\n\n\nFor more meetings in Summit County\, go to district17coloradoaa.org/meetings.
URL:https://buildinghopesummit.org/calendar_default/alcoholics-anonymous-open-meeting-2/
LOCATION:CO
END:VEVENT
BEGIN:VEVENT
DTSTART;TZID=America/Denver:20240409T173000
DTEND;TZID=America/Denver:20240409T190000
DTSTAMP:20260423T034758
CREATED:20240302T153617Z
LAST-MODIFIED:20240302T153617Z
UID:13967-1712683800-1712689200@buildinghopesummit.org
SUMMARY:Rock To Recover: Silverthorne Pavilion
DESCRIPTION:Come play music in a sober environment that promotes positive mental health. Use our instruments or bring your own. Perform covers or originals\, solo or with other participants.
URL:https://buildinghopesummit.org/calendar_default/rock-to-recover-silverthorne-pavilion-5/
LOCATION:CO
ATTACH;FMTTYPE=image/png:https://buildinghopesummit.org/wp-content/uploads/2024/01/RTR-Flyer-March.png
END:VEVENT
BEGIN:VEVENT
DTSTART;TZID=America/Denver:20240409T180000
DTEND;TZID=America/Denver:20240409T193000
DTSTAMP:20260423T034758
CREATED:20240314T180735Z
LAST-MODIFIED:20240314T180735Z
UID:14090-1712685600-1712691000@buildinghopesummit.org
SUMMARY:Capacitación para voluntarios de embajadores de eventos
DESCRIPTION:Capacitación para embajadores voluntarios
URL:https://buildinghopesummit.org/calendar_default/capacitacion-para-voluntarios-de-embajadores-de-eventos-4/
LOCATION:CO
CATEGORIES:Trainings
ATTACH;FMTTYPE=image/jpeg:https://buildinghopesummit.org/wp-content/uploads/2023/09/hearts-renee-fisher-1000px.jpeg
END:VEVENT
BEGIN:VEVENT
DTSTART;TZID=America/Denver:20240409T190000
DTEND;TZID=America/Denver:20240409T203000
DTSTAMP:20260423T034758
CREATED:20240304T204714Z
LAST-MODIFIED:20240304T204714Z
UID:13983-1712689200-1712694600@buildinghopesummit.org
SUMMARY:Family Support Group in Person and Zoom
DESCRIPTION:We are pleased to announce that we will once again meet in-person for our Family Support Group!  The meetings are on the 2nd and 4th Tuesdays at the Summit County Community and Senior Center in Frisco at 83 Nancy’s Place (7-8:30pm)
URL:https://buildinghopesummit.org/calendar_default/family-support-group-in-person-and-zoom-3/
LOCATION:CO
ATTACH;FMTTYPE=image/jpeg:https://buildinghopesummit.org/wp-content/uploads/2023/12/debby-hudson-jcc8sxK2Adw-unsplash-1000px.jpeg
END:VEVENT
BEGIN:VEVENT
DTSTART;TZID=America/Denver:20240410T173000
DTEND;TZID=America/Denver:20240410T193000
DTSTAMP:20260423T034758
CREATED:20240402T201323Z
LAST-MODIFIED:20240402T201323Z
UID:14213-1712770200-1712777400@buildinghopesummit.org
SUMMARY:Learn How to Connect with Your Teen
DESCRIPTION:Building a community that supports local youth training \nChild care\, interpretation and dinner provided!
URL:https://buildinghopesummit.org/calendar_default/learn-how-to-connect-with-your-teen/
LOCATION:CO
ATTACH;FMTTYPE=image/jpeg:https://buildinghopesummit.org/wp-content/uploads/2024/04/Picture1.jpg
END:VEVENT
BEGIN:VEVENT
DTSTART;TZID=America/Denver:20240410T180000
DTEND;TZID=America/Denver:20240410T200000
DTSTAMP:20260423T034758
CREATED:20240229T191226Z
LAST-MODIFIED:20240229T191226Z
UID:13948-1712772000-1712779200@buildinghopesummit.org
SUMMARY:Tough Guy Sessions with Michael Brand\, NBC-HWC
DESCRIPTION:Join the guys as we gather for conversations about what it means to be a man in 2024
URL:https://buildinghopesummit.org/calendar_default/tough-guy-sessions-with-michael-brand-nbc-hwc-3/
LOCATION:CO
ATTACH;FMTTYPE=image/jpeg:https://buildinghopesummit.org/wp-content/uploads/2024/02/hot-air-balloons-building-hope.jpg
END:VEVENT
BEGIN:VEVENT
DTSTART;TZID=America/Denver:20240415T100000
DTEND;TZID=America/Denver:20240415T233000
DTSTAMP:20260423T034758
CREATED:20240314T175932Z
LAST-MODIFIED:20240314T175932Z
UID:14085-1713175200-1713223800@buildinghopesummit.org
SUMMARY:Event Ambassador Volunteer Training
DESCRIPTION:Event Ambassador Volunteer Training
URL:https://buildinghopesummit.org/calendar_default/event-ambassador-volunteer-training-9/
LOCATION:CO
CATEGORIES:Trainings
ATTACH;FMTTYPE=image/jpeg:https://buildinghopesummit.org/wp-content/uploads/2023/09/hearts-renee-fisher-1000px.jpeg
END:VEVENT
BEGIN:VEVENT
DTSTART;TZID=America/Denver:20240415T180000
DTEND;TZID=America/Denver:20240415T191500
DTSTAMP:20260423T034758
CREATED:20240325T162453Z
LAST-MODIFIED:20240325T162453Z
UID:14144-1713204000-1713208500@buildinghopesummit.org
SUMMARY:Bilingüe: meditación guiada y sanación auditiva
DESCRIPTION:Únase a Sarah Antonucci para una tarde de meditación y sanación auditiva que proveerá en ambos lenguajes\, español e inglés.
URL:https://buildinghopesummit.org/calendar_default/bilingue-meditacion-guiada-y-sanacion-auditiva-5/
LOCATION:CO
CATEGORIES:Connecting Events
ATTACH;FMTTYPE=image/jpeg:https://buildinghopesummit.org/wp-content/uploads/2023/08/unnamed.jpg
END:VEVENT
BEGIN:VEVENT
DTSTART;TZID=America/Denver:20240416T053000
DTEND;TZID=America/Denver:20240416T203000
DTSTAMP:20260423T034758
CREATED:20240307T161833Z
LAST-MODIFIED:20240307T161833Z
UID:14001-1713245400-1713299400@buildinghopesummit.org
SUMMARY:Paradise Paradox Screening @ The Eclipse in Breckenridge
DESCRIPTION:This event is FREE. \nIsolation\, inadequate resources\, substance abuse\, and social stigmas. \nThe Paradise Paradox sheds light on the root causes of the mental health challenges that are plaguing America’s mountain resort towns and how they’re banding together to create innovative solutions that break the cycle. \nBreck Film and Building Hope are partnering together to host a special screening of The Paradise Paradox on April 16th. Please join us for a Wellness Fair featuring local organizations at 5:30pm followed by the film at 6:30pm. After the film\, Building Hope and Vail Health will share a presentation of mental health resources in Summit County.
URL:https://buildinghopesummit.org/calendar_default/paradise-paradox-screening-the-eclipse-in-breckenridge/
LOCATION:CO
ATTACH;FMTTYPE=image/png:https://buildinghopesummit.org/wp-content/uploads/2024/03/BF-ParadiseParadox-1080x1080-1.png
END:VEVENT
BEGIN:VEVENT
DTSTART;TZID=America/Denver:20240416T173000
DTEND;TZID=America/Denver:20240416T183000
DTSTAMP:20260423T034758
CREATED:20240328T171001Z
LAST-MODIFIED:20240328T171001Z
UID:14171-1713288600-1713292200@buildinghopesummit.org
SUMMARY:Parenting Workshop: Understanding Rules\, Rewards\, and Discipline
DESCRIPTION:A presentation and Q&A by experts at Summit County’s Strengthening Families
URL:https://buildinghopesummit.org/calendar_default/parenting-workshop-understanding-rules-rewards-and-discipline/
LOCATION:CO
ATTACH;FMTTYPE=image/png:https://buildinghopesummit.org/wp-content/uploads/2024/03/Screenshot-2024-03-28-110922.png
END:VEVENT
BEGIN:VEVENT
DTSTART;TZID=America/Denver:20240416T183000
DTEND;TZID=America/Denver:20240416T193000
DTSTAMP:20260423T034758
CREATED:20240314T181901Z
LAST-MODIFIED:20240314T181901Z
UID:14100-1713292200-1713295800@buildinghopesummit.org
SUMMARY:Tuesday Men's Meet
DESCRIPTION:Peer-led by Summit County locals\, join this bi-monthly in-person meeting and discuss the challenges men face in our community and beyond.\n\nMeetings are every other tuesday\, 6:30-7:30pm\, and the Summit County Library South Branch in Breckenridge\n\nCall Dylan at 720-608-8912 or email dylan@buildinghopesummit.org
URL:https://buildinghopesummit.org/calendar_default/tuesday-mens-meet-3/
LOCATION:CO
ATTACH;FMTTYPE=image/jpeg:https://buildinghopesummit.org/wp-content/uploads/2024/02/hot-air-balloons-building-hope.jpg
END:VEVENT
END:VCALENDAR