BEGIN:VCALENDAR
VERSION:2.0
PRODID:-//Building Hope Summit -&nbsp; - ECPv6.15.20//NONSGML v1.0//EN
CALSCALE:GREGORIAN
METHOD:PUBLISH
X-ORIGINAL-URL:https://buildinghopesummit.org
X-WR-CALDESC:Events for Building Hope Summit -&nbsp;
REFRESH-INTERVAL;VALUE=DURATION:PT1H
X-Robots-Tag:noindex
X-PUBLISHED-TTL:PT1H
BEGIN:VTIMEZONE
TZID:America/Denver
BEGIN:DAYLIGHT
TZOFFSETFROM:-0700
TZOFFSETTO:-0600
TZNAME:MDT
DTSTART:20230312T090000
END:DAYLIGHT
BEGIN:STANDARD
TZOFFSETFROM:-0600
TZOFFSETTO:-0700
TZNAME:MST
DTSTART:20231105T080000
END:STANDARD
BEGIN:DAYLIGHT
TZOFFSETFROM:-0700
TZOFFSETTO:-0600
TZNAME:MDT
DTSTART:20240310T090000
END:DAYLIGHT
BEGIN:STANDARD
TZOFFSETFROM:-0600
TZOFFSETTO:-0700
TZNAME:MST
DTSTART:20241103T080000
END:STANDARD
BEGIN:DAYLIGHT
TZOFFSETFROM:-0700
TZOFFSETTO:-0600
TZNAME:MDT
DTSTART:20250309T090000
END:DAYLIGHT
BEGIN:STANDARD
TZOFFSETFROM:-0600
TZOFFSETTO:-0700
TZNAME:MST
DTSTART:20251102T080000
END:STANDARD
END:VTIMEZONE
BEGIN:VEVENT
DTSTART;TZID=America/Denver:20241120T120000
DTEND;TZID=America/Denver:20241120T133000
DTSTAMP:20260423T023430
CREATED:20241105T180714Z
LAST-MODIFIED:20241105T180714Z
UID:16090-1732104000-1732109400@buildinghopesummit.org
SUMMARY:Capacitación para voluntarios de embajadores de eventos
DESCRIPTION:Los embajadores de Building Hope reciben capacitación para representar a Building Hope en nuestra comunidad. \nApoyan nuestros Eventos de Conexión y promueven a Building Hope en eventos comunitarios presentando nuestra misión y objetivos. Pueden servir como parte del equipo de bienvenida\, un recurso o un oído amigable durante nuestros eventos\, asegurándose de que todos los invitados se sientan bienvenidos e incluidos. \nLa capacitación para embajadores voluntarios se lleva a cabo mensualmente. Seleccione la fecha y hora que prefiere.
URL:https://buildinghopesummit.org/calendar_default/capacitacion-para-voluntarios-de-embajadores-de-eventos-9/
CATEGORIES:Trainings
END:VEVENT
BEGIN:VEVENT
DTSTART;TZID=America/Denver:20241120T170000
DTEND;TZID=America/Denver:20241120T190000
DTSTAMP:20260423T023430
CREATED:20241015T163853Z
LAST-MODIFIED:20241015T163853Z
UID:15846-1732122000-1732129200@buildinghopesummit.org
SUMMARY:NEUROCONNECTIONS: Empowering Families Together
DESCRIPTION:WHAT: Support\, Connection\, and Training \nWho: Parents and children with neurodivergence and\nbehavioral needs (siblings welcome) \nWhy: Doing this is hard\, and you don’t have to do it alone!\nCreate connections\, build community\, and walk away with\nstrategies each week \nCost: FREE!\nDinner Provided
URL:https://buildinghopesummit.org/calendar_default/neuroconnections-empowering-families-together-5/
ATTACH;FMTTYPE=image/png:https://buildinghopesummit.org/wp-content/uploads/2024/10/Empowering-Fam.png
END:VEVENT
BEGIN:VEVENT
DTSTART;TZID=America/Denver:20241121T090000
DTEND;TZID=America/Denver:20241121T120000
DTSTAMP:20260423T023430
CREATED:20241017T213912Z
LAST-MODIFIED:20241017T213912Z
UID:15919-1732179600-1732190400@buildinghopesummit.org
SUMMARY:FIRC Open Enrollment Walk-ins
DESCRIPTION:
URL:https://buildinghopesummit.org/calendar_default/firc-open-enrollment-walk-ins-9/
ATTACH;FMTTYPE=image/png:https://buildinghopesummit.org/wp-content/uploads/2024/10/OE-November-2.png
END:VEVENT
BEGIN:VEVENT
DTSTART;TZID=America/Denver:20241121T120000
DTEND;TZID=America/Denver:20241121T130000
DTSTAMP:20260423T023430
CREATED:20240912T145947Z
LAST-MODIFIED:20240912T145947Z
UID:15685-1732190400-1732194000@buildinghopesummit.org
SUMMARY:Mom Talk: FREE therapist-led support group for moms with kids aged 1-5
DESCRIPTION:Virtual
URL:https://buildinghopesummit.org/calendar_default/mom-talk-free-therapist-led-support-group-for-moms-with-kids-aged-1-5-9/
ATTACH;FMTTYPE=image/png:https://buildinghopesummit.org/wp-content/uploads/2024/09/Mom-Talk.png
END:VEVENT
BEGIN:VEVENT
DTSTART;TZID=America/Denver:20241121T120000
DTEND;TZID=America/Denver:20241121T133000
DTSTAMP:20260423T023430
CREATED:20241101T174559Z
LAST-MODIFIED:20241101T174559Z
UID:16038-1732190400-1732195800@buildinghopesummit.org
SUMMARY:Event Ambassador Volunteer Training
DESCRIPTION:Building Hope Ambassadors are trained to represent Building Hope in our community. \nThey support (and participate in!) our Connectedness Events and also promote Building Hope at Community Events . They can serve as greeters\, a resource\, or friendly ear during our events and seek to make all guests feel welcome and included. \nEvent Ambassadors are expected to support 3-4 events a year. \nEvents typically last 1-3 hours. \nEvent Ambassador Volunteer Training is offered monthly. Select your preferred date and time.\nIf the available times do not work for you\, please reach out to us at info@buildinghopesummit.org.
URL:https://buildinghopesummit.org/calendar_default/event-ambassador-volunteer-training-14/
CATEGORIES:Trainings
END:VEVENT
BEGIN:VEVENT
DTSTART;TZID=America/Denver:20241121T180000
DTEND;TZID=America/Denver:20241121T193000
DTSTAMP:20260423T023430
CREATED:20240819T233154Z
LAST-MODIFIED:20240819T233154Z
UID:15473-1732212000-1732217400@buildinghopesummit.org
SUMMARY:Crestfallen Gliders
DESCRIPTION:A bereavement group for adults who have lost someone to suicide.
URL:https://buildinghopesummit.org/calendar_default/crestfallen-gliders-6/
ATTACH;FMTTYPE=image/png:https://buildinghopesummit.org/wp-content/uploads/2024/08/Gliders.png
END:VEVENT
BEGIN:VEVENT
DTSTART;TZID=America/Denver:20241122T060000
DTEND;TZID=America/Denver:20241122T200000
DTSTAMP:20260423T023430
CREATED:20241017T161949Z
LAST-MODIFIED:20241017T161949Z
UID:15906-1732255200-1732305600@buildinghopesummit.org
SUMMARY:Movie Night  HYPE Ages 12 -18
DESCRIPTION:Enjoy a free night at the movies with your friends! Summit County residents ages 12-18. \nIn collaboration with YESS (The Youth Empowerment Society of Summit )\, enjoy a free night at the movies with your friends!\nVouchers for tickets will be distributed between 6-7 pm on the day of the show.\nYour voucher includes a snack pack!\nFilm availability to be determined at the theater. Vouchers can be used for select films scheduled for 6 pm or later on the day of this event.\nVouchers will be distributed to registered Summit County Residents ages 12-18.\n*Please note\, attendees are subject to all rules of Skyline Cinema. No supervision of children/teens is being provided by Building Hope or YESS. Parents are welcome to attend with the purchase of an adult ticket. \nThanks. \n——————————————————————————————— \n¡En colaboración con YESS (The Youth Empowerment Society of Summit)\, disfruta de una noche gratis de película con todos tus amigos! Estaremos rentando una sala entera para que puedas ver una película con tus amigos en un ambiente amigable.\nLos cupones para las entradas seran distribuidas entre 6-7pm el dia del evento.\nEl cupon incluye un snack.\nLa disponibilidad de las peliculas las determinara el teatro. Los cupones se podran usar en las peliculas desde las 6:00 pm el dia del evento.\nLos cupones se distribuiran a los residentes de Summit County que esten registrados en el evento de edad entre 12 y 18 anos.\nPor favor poner atencion\, los participantes deben regirse a todas las normas de Skyline Cinema. No abra supervision para ninos / adolescentes por parte de Building Hope or YESS.\nPadres son bienvenidos a unirse adquiriendo su respectivo ticket. \nMuchas gracias.
URL:https://buildinghopesummit.org/calendar_default/movie-night-hype-ages-12-18/
LOCATION:Skyline Cinema 8\, 312 Dillon Ridge Road\, Dillon\, CO\, 80435\, United States
CATEGORIES:Hype
END:VEVENT
BEGIN:VEVENT
DTSTART;TZID=America/Denver:20241125T080000
DTEND;TZID=America/Denver:20241125T120000
DTSTAMP:20260423T023430
CREATED:20241017T213928Z
LAST-MODIFIED:20241017T213928Z
UID:15920-1732521600-1732536000@buildinghopesummit.org
SUMMARY:FIRC Open Enrollment Walk-ins
DESCRIPTION:
URL:https://buildinghopesummit.org/calendar_default/firc-open-enrollment-walk-ins-10/
ATTACH;FMTTYPE=image/png:https://buildinghopesummit.org/wp-content/uploads/2024/10/OE-November-2.png
END:VEVENT
BEGIN:VEVENT
DTSTART;TZID=America/Denver:20241125T140000
DTEND;TZID=America/Denver:20241125T160000
DTSTAMP:20260423T023430
CREATED:20241017T213948Z
LAST-MODIFIED:20241017T213948Z
UID:15921-1732543200-1732550400@buildinghopesummit.org
SUMMARY:FIRC Open Enrollment Walk-ins
DESCRIPTION:
URL:https://buildinghopesummit.org/calendar_default/firc-open-enrollment-walk-ins-11/
ATTACH;FMTTYPE=image/png:https://buildinghopesummit.org/wp-content/uploads/2024/10/OE-November-2.png
END:VEVENT
BEGIN:VEVENT
DTSTART;TZID=America/Denver:20241126T130000
DTEND;TZID=America/Denver:20241126T160000
DTSTAMP:20260423T023430
CREATED:20241017T214003Z
LAST-MODIFIED:20241017T214003Z
UID:15922-1732626000-1732636800@buildinghopesummit.org
SUMMARY:FIRC Open Enrollment Walk-ins
DESCRIPTION:
URL:https://buildinghopesummit.org/calendar_default/firc-open-enrollment-walk-ins-12/
ATTACH;FMTTYPE=image/png:https://buildinghopesummit.org/wp-content/uploads/2024/10/OE-November-2.png
END:VEVENT
BEGIN:VEVENT
DTSTART;TZID=America/Denver:20241126T173000
DTEND;TZID=America/Denver:20241126T190000
DTSTAMP:20260423T023430
CREATED:20241016T173114Z
LAST-MODIFIED:20241016T173114Z
UID:15872-1732642200-1732647600@buildinghopesummit.org
SUMMARY:DIALECTICAL BEHAVIOR THERAPY (DBT) BUILDING RESILIENCY WOMEN’S GROUP
DESCRIPTION:Learn coping skills to to use in daily life to improve relationships\, communication\, self-awareness\, and lessening the impact and intensity of emotional distress
URL:https://buildinghopesummit.org/calendar_default/dialectical-behavior-therapy-dbt-building-resiliency-womens-group-6/
ATTACH;FMTTYPE=image/png:https://buildinghopesummit.org/wp-content/uploads/2024/10/DBT-Womens.png
END:VEVENT
BEGIN:VEVENT
DTSTART;TZID=America/Denver:20241130T150000
DTEND;TZID=America/Denver:20241130T160000
DTSTAMP:20260423T023430
CREATED:20240905T151121Z
LAST-MODIFIED:20240905T151121Z
UID:15609-1732978800-1732982400@buildinghopesummit.org
SUMMARY:Free Whole Person Group (In-Person)
DESCRIPTION:
URL:https://buildinghopesummit.org/calendar_default/free-whole-person-group-in-person-6/
END:VEVENT
BEGIN:VEVENT
DTSTART;TZID=America/Denver:20241202T130000
DTEND;TZID=America/Denver:20241202T160000
DTSTAMP:20260423T023430
CREATED:20241104T222637Z
LAST-MODIFIED:20241104T222637Z
UID:16051-1733144400-1733155200@buildinghopesummit.org
SUMMARY:FIRC Open Enrollment Walk-ins
DESCRIPTION:
URL:https://buildinghopesummit.org/calendar_default/firc-open-enrollment-walk-ins-14/
ATTACH;FMTTYPE=image/png:https://buildinghopesummit.org/wp-content/uploads/2024/10/OE-November-2.png
END:VEVENT
BEGIN:VEVENT
DTSTART;TZID=America/Denver:20241202T160000
DTEND;TZID=America/Denver:20241202T173000
DTSTAMP:20260423T023430
CREATED:20241030T214125Z
LAST-MODIFIED:20241030T214125Z
UID:16007-1733155200-1733160600@buildinghopesummit.org
SUMMARY:Teen Mental Health First Aid
DESCRIPTION:Mental Health First Aid for Teens
URL:https://buildinghopesummit.org/calendar_default/teen-mental-health-first-aid/
END:VEVENT
BEGIN:VEVENT
DTSTART;TZID=America/Denver:20241203T090000
DTEND;TZID=America/Denver:20241203T120000
DTSTAMP:20260423T023430
CREATED:20241104T222659Z
LAST-MODIFIED:20241104T222659Z
UID:16052-1733216400-1733227200@buildinghopesummit.org
SUMMARY:FIRC Open Enrollment Walk-ins
DESCRIPTION:
URL:https://buildinghopesummit.org/calendar_default/firc-open-enrollment-walk-ins-15/
ATTACH;FMTTYPE=image/png:https://buildinghopesummit.org/wp-content/uploads/2024/10/OE-November-2.png
END:VEVENT
BEGIN:VEVENT
DTSTART;TZID=America/Denver:20241203T173000
DTEND;TZID=America/Denver:20241203T190000
DTSTAMP:20260423T023430
CREATED:20241016T173122Z
LAST-MODIFIED:20241016T173122Z
UID:15873-1733247000-1733252400@buildinghopesummit.org
SUMMARY:DIALECTICAL BEHAVIOR THERAPY (DBT) BUILDING RESILIENCY WOMEN’S GROUP
DESCRIPTION:Learn coping skills to to use in daily life to improve relationships\, communication\, self-awareness\, and lessening the impact and intensity of emotional distress
URL:https://buildinghopesummit.org/calendar_default/dialectical-behavior-therapy-dbt-building-resiliency-womens-group-8/
ATTACH;FMTTYPE=image/png:https://buildinghopesummit.org/wp-content/uploads/2024/10/DBT-Womens.png
END:VEVENT
BEGIN:VEVENT
DTSTART;TZID=America/Denver:20241203T173000
DTEND;TZID=America/Denver:20241203T190000
DTSTAMP:20260423T023430
CREATED:20241030T191908Z
LAST-MODIFIED:20241030T191908Z
UID:15989-1733247000-1733252400@buildinghopesummit.org
SUMMARY:Groupo De Apoyo para Nuevos Immigrantes
DESCRIPTION:
URL:https://buildinghopesummit.org/calendar_default/groupo-de-apoyo-para-nuevos-immigrantes-4/
END:VEVENT
BEGIN:VEVENT
DTSTART;TZID=America/Denver:20241204T170000
DTEND;TZID=America/Denver:20241204T190000
DTSTAMP:20260423T023430
CREATED:20241015T163905Z
LAST-MODIFIED:20241015T163905Z
UID:15847-1733331600-1733338800@buildinghopesummit.org
SUMMARY:NEUROCONNECTIONS: Empowering Families Together
DESCRIPTION:WHAT: Support\, Connection\, and Training \nWho: Parents and children with neurodivergence and\nbehavioral needs (siblings welcome) \nWhy: Doing this is hard\, and you don’t have to do it alone!\nCreate connections\, build community\, and walk away with\nstrategies each week \nCost: FREE!\nDinner Provided
URL:https://buildinghopesummit.org/calendar_default/neuroconnections-empowering-families-together-6/
ATTACH;FMTTYPE=image/png:https://buildinghopesummit.org/wp-content/uploads/2024/10/Empowering-Fam.png
END:VEVENT
BEGIN:VEVENT
DTSTART;TZID=America/Denver:20241204T173000
DTEND;TZID=America/Denver:20241204T193000
DTSTAMP:20260423T023430
CREATED:20241115T150704Z
LAST-MODIFIED:20241115T150704Z
UID:16340-1733333400-1733340600@buildinghopesummit.org
SUMMARY:My Sister Liv - Película  y  Panel de  Discusión
DESCRIPTION:My Sister Liv ( Mi Hermana Liv) es un documental que presenta a las hermanas Tess y Liv\, quienes desde pequeñas son inseparables\, con lo que parece ser un vínculo inquebrantable. Sin embargo\, cuando Liv entra en la adolescencia y lucha con las incesantes presiones de las redes sociales\, la depresión\, la dismorfia corporal y\, a menudo\, pensamientos suicidas\, su hermana mayor Tess lucha por ayudarla. \nMY SISTER LIV ( Mi Hermana Liv)\, dirigida por el director ganador del premio Grammy\, Alan Hicks\, y producida por la productora ganadora de premios Oscar\, Emmy y Grammy\, Paula DuPre ́Pesmen\, presenta una variedad de voces jóvenes y conversaciones con profesionales de la salud mental. \nLos realizadores trabajaron con Susan Caso\, LPC\, directora de salud mental de The Liv Project (el proyecto de Liv) y un equipo de terapeutas para crear la película. Además\, la película fue examinada por miembros del equipo del Instituto de Salud Mental Pediátrica del Children’s Hospital Colorado para garantizar que el contenido fuera preciso y seguro\, y que de ninguna manera glorificara este tema. \n\nLa película ha sido aprobada por profesionales de la salud mental para jóvenes de 14 años en adelante.\nEl panel será dirigido por la Terapeuta Mili Shoemaker.\n\nCena incluida\, traducción al español para la proyección de películas y panel de discusión.
URL:https://buildinghopesummit.org/calendar_default/my-sister-liv-pelicula-y-panel-de-discusion/
LOCATION:Frisco Senior and Community Center\, 83 Nancy's Place\, Frisco\, CO\, 80443\, United States
CATEGORIES:Trainings
END:VEVENT
BEGIN:VEVENT
DTSTART;TZID=America/Denver:20241205T120000
DTEND;TZID=America/Denver:20241205T130000
DTSTAMP:20260423T023430
CREATED:20240912T150003Z
LAST-MODIFIED:20240912T150003Z
UID:15686-1733400000-1733403600@buildinghopesummit.org
SUMMARY:Mom Talk: FREE therapist-led support group for moms with kids aged 1-5
DESCRIPTION:Virtual
URL:https://buildinghopesummit.org/calendar_default/mom-talk-free-therapist-led-support-group-for-moms-with-kids-aged-1-5-10/
ATTACH;FMTTYPE=image/png:https://buildinghopesummit.org/wp-content/uploads/2024/09/Mom-Talk.png
END:VEVENT
BEGIN:VEVENT
DTSTART;TZID=America/Denver:20241205T181500
DTEND;TZID=America/Denver:20241205T193000
DTSTAMP:20260423T023430
CREATED:20241115T151947Z
LAST-MODIFIED:20241115T151947Z
UID:16343-1733422500-1733427000@buildinghopesummit.org
SUMMARY:Yoga and Mindfulness with Leslie Glenn
DESCRIPTION:Join Leslie Glenn for a special yoga and meditation experience designed to strengthen awareness\, presence and connection
URL:https://buildinghopesummit.org/calendar_default/yoga-and-mindfulness-with-leslie-glenn/
LOCATION:Summit County Library South Branch\, 103 Harris St\, Breckenridge\, CO\, 80424\, United States
CATEGORIES:Connecting Events
END:VEVENT
BEGIN:VEVENT
DTSTART;TZID=America/Denver:20241207T090000
DTEND;TZID=America/Denver:20241207T140000
DTSTAMP:20260423T023430
CREATED:20240715T205853Z
LAST-MODIFIED:20240715T205853Z
UID:15193-1733562000-1733580000@buildinghopesummit.org
SUMMARY:Mental Health First Aid for Adults Assisting Youth
DESCRIPTION:Youth Mental Health First Aid (YMHFA) teaches adults who work with youth how to identify\, understand and respond to signs of mental health and substance use challenges among children and adolescents aged 12-18.\nThe course:\n– Introduces common mental health challenges for youth\n– Reviews typical adolescent development\n– Teaches a 5-step action plan for how to help young people in both crisis and non-crisis
URL:https://buildinghopesummit.org/calendar_default/mental-health-first-aid-for-adults-assisting-youth-3/
END:VEVENT
BEGIN:VEVENT
DTSTART;TZID=America/Denver:20241207T090000
DTEND;TZID=America/Denver:20241207T140000
DTSTAMP:20260423T023430
CREATED:20240916T175239Z
LAST-MODIFIED:20240916T175239Z
UID:15707-1733562000-1733580000@buildinghopesummit.org
SUMMARY:Mental Health First Aid (English)
DESCRIPTION:
URL:https://buildinghopesummit.org/calendar_default/mental-health-first-aid-english/
ATTACH;FMTTYPE=image/png:https://buildinghopesummit.org/wp-content/uploads/2024/09/YF-Trainings-2024-25.png
END:VEVENT
BEGIN:VEVENT
DTSTART;TZID=America/Denver:20241207T090000
DTEND;TZID=America/Denver:20241207T140000
DTSTAMP:20260423T023430
CREATED:20241030T213940Z
LAST-MODIFIED:20241030T213940Z
UID:16003-1733562000-1733580000@buildinghopesummit.org
SUMMARY:Youth Mental Health First Aid - For Adults Assisting Youth
DESCRIPTION:For Adults Assisting Youth
URL:https://buildinghopesummit.org/calendar_default/youth-mental-health-first-aid-for-adults-assisting-youth/
END:VEVENT
BEGIN:VEVENT
DTSTART;TZID=America/Denver:20241207T150000
DTEND;TZID=America/Denver:20241207T160000
DTSTAMP:20260423T023430
CREATED:20240905T151134Z
LAST-MODIFIED:20240905T151134Z
UID:15610-1733583600-1733587200@buildinghopesummit.org
SUMMARY:Free Whole Person Group (In-Person)
DESCRIPTION:
URL:https://buildinghopesummit.org/calendar_default/free-whole-person-group-in-person-7/
END:VEVENT
BEGIN:VEVENT
DTSTART;TZID=America/Denver:20241207T160000
DTEND;TZID=America/Denver:20241207T180000
DTSTAMP:20260423T023430
CREATED:20241115T152402Z
LAST-MODIFIED:20241115T152402Z
UID:16346-1733587200-1733594400@buildinghopesummit.org
SUMMARY:HYPE Art Spot Teen Art   Ages 12-18.
DESCRIPTION:¡Únase a Building Hope para este divertido taller impartido en español e inglés! Utilizando técnicas de collage\, costura a mano y pintura con acrílicos\, decoras de la mano de Simple Art Studio tu gorro de invierno. Perfecto para estar abrigado este invierno y expresar tu estilo personal. \nEsta es una oportunidad perfecta para que los jóvenes conecten con otros jóvenes con mentalidad creativa y descubran habilidades artísticas\, desarrollen confianza en ellos mismos y disfruten de una artística sin expectativas ni prejuicios artísticos. \nTodos los niveles son bienvenidos\, no necesitas tener conocimientos previos. Los participantes compartirán algunos materiales y herramientas pero \n¡Conservarás tus proyectos terminados! \nEste es un evento es parte del programa Hype y está destinado para edades entre jóvenes de 12-18 años. Asegurarse de registrarse anticipadamente. \nClase Bilingüe \nEste evento está destinado sólo para los residentes del Condado Summit. \n– ————————————————————————————————- \nJoin Building Hope for a fun workshop taught in Spanish and English! Using fabric applique techniques\,acrylic paints and hand sewing\, with the help of Simple Art Studio you will decorate your own winter beanie hat. Perfect to stay warm and also express your personal style. \nThis is a perfect opportunity for young people to connect with other creatively minded and discover artistic skills\, develop self-confidence and enjoy an artistic experience without expectations or artistic prejudices. \nAll levels are welcome\, you do not need to have previous knowledge to make this project. Participants will share some materials and tools but you will keep your finished projects! \nThis is an event that is part of the Hype program and is intended for ages 12-18. \nBe sure to register in advance. \nBilingual Class \nThis event is intended for Summit County residents only.
URL:https://buildinghopesummit.org/calendar_default/hype-art-spot-teen-art-ages-12-18-2/
LOCATION:Art Spot Silverthorne Makerspace\, 401 Blue River Parkway\, Silverthorne\, CO\, 80498\, United States
CATEGORIES:Hype
END:VEVENT
BEGIN:VEVENT
DTSTART;TZID=America/Denver:20241207T190000
DTEND;TZID=America/Denver:20241207T203000
DTSTAMP:20260423T023430
CREATED:20241126T164004Z
LAST-MODIFIED:20241126T164004Z
UID:16754-1733598000-1733603400@buildinghopesummit.org
SUMMARY:Finding Light in the Darkness
DESCRIPTION:For many\, the holiday season can be\nfilled with joy and celebration. Yet for\nothers\, it can feel overwhelming\,\nexhausting\, or even isolating. We invite\nyou to join us for a special\, gentle\ngathering—a time to find peace and\ncomfort in the midst of the holiday\nrush.
URL:https://buildinghopesummit.org/calendar_default/finding-light-in-the-darkness/
ATTACH;FMTTYPE=image/png:https://buildinghopesummit.org/wp-content/uploads/2024/11/Find-Light-in-Darkness.png
END:VEVENT
BEGIN:VEVENT
DTSTART;TZID=America/Denver:20241209T150000
DTEND;TZID=America/Denver:20241209T180000
DTSTAMP:20260423T023430
CREATED:20241104T222719Z
LAST-MODIFIED:20241104T222719Z
UID:16054-1733756400-1733767200@buildinghopesummit.org
SUMMARY:FIRC Open Enrollment Walk-ins
DESCRIPTION:
URL:https://buildinghopesummit.org/calendar_default/firc-open-enrollment-walk-ins-16/
ATTACH;FMTTYPE=image/png:https://buildinghopesummit.org/wp-content/uploads/2024/10/OE-November-2.png
END:VEVENT
BEGIN:VEVENT
DTSTART;TZID=America/Denver:20241209T160000
DTEND;TZID=America/Denver:20241209T173000
DTSTAMP:20260423T023430
CREATED:20241030T214218Z
LAST-MODIFIED:20241030T214218Z
UID:16011-1733760000-1733765400@buildinghopesummit.org
SUMMARY:Teen Mental Health First Aid
DESCRIPTION:Mental Health First Aid for Teens
URL:https://buildinghopesummit.org/calendar_default/teen-mental-health-first-aid-2/
END:VEVENT
BEGIN:VEVENT
DTSTART;TZID=America/Denver:20241209T180000
DTEND;TZID=America/Denver:20241209T193000
DTSTAMP:20260423T023430
CREATED:20241115T160057Z
LAST-MODIFIED:20241115T160729Z
UID:16362-1733767200-1733772600@buildinghopesummit.org
SUMMARY:Connectedness- Salsa Dance Class
DESCRIPTION:Let’s celebrate life by dancing salsa. You don’t need to be a professional\, just have fun and let your body express itself with music. \nVamos a celebrar la vida bailando salsa. No necesitas ser un o una profesional\, solo divertirte y dejar que tu cuerpo se exprese con la música. \n¿Qué necesitas? \nRopa ligera \nZapatos cómodos \nAgua para hidratación \n** Todas las personas mayores de 16 años son bienvenidas.
URL:https://buildinghopesummit.org/calendar_default/connectedness-salsa-dance-class-2/
LOCATION:Silverthorne Pavilion\, 400 Blue River Pkwy\, Silverthorne\, CO\, 80498\, United States
CATEGORIES:Connecting Events
END:VEVENT
END:VCALENDAR