BEGIN:VCALENDAR
VERSION:2.0
PRODID:-//Building Hope Summit -&nbsp; - ECPv6.15.18//NONSGML v1.0//EN
CALSCALE:GREGORIAN
METHOD:PUBLISH
X-WR-CALNAME:Building Hope Summit -&nbsp;
X-ORIGINAL-URL:https://buildinghopesummit.org
X-WR-CALDESC:Events for Building Hope Summit -&nbsp;
REFRESH-INTERVAL;VALUE=DURATION:PT1H
X-Robots-Tag:noindex
X-PUBLISHED-TTL:PT1H
BEGIN:VTIMEZONE
TZID:America/Denver
BEGIN:DAYLIGHT
TZOFFSETFROM:-0700
TZOFFSETTO:-0600
TZNAME:MDT
DTSTART:20250309T090000
END:DAYLIGHT
BEGIN:STANDARD
TZOFFSETFROM:-0600
TZOFFSETTO:-0700
TZNAME:MST
DTSTART:20251102T080000
END:STANDARD
BEGIN:DAYLIGHT
TZOFFSETFROM:-0700
TZOFFSETTO:-0600
TZNAME:MDT
DTSTART:20260308T090000
END:DAYLIGHT
BEGIN:STANDARD
TZOFFSETFROM:-0600
TZOFFSETTO:-0700
TZNAME:MST
DTSTART:20261101T080000
END:STANDARD
BEGIN:DAYLIGHT
TZOFFSETFROM:-0700
TZOFFSETTO:-0600
TZNAME:MDT
DTSTART:20270314T090000
END:DAYLIGHT
BEGIN:STANDARD
TZOFFSETFROM:-0600
TZOFFSETTO:-0700
TZNAME:MST
DTSTART:20271107T080000
END:STANDARD
END:VTIMEZONE
BEGIN:VEVENT
DTSTART;TZID=America/Denver:20260305T164500
DTEND;TZID=America/Denver:20260305T180000
DTSTAMP:20260421T073449
CREATED:20260221T145826Z
LAST-MODIFIED:20260225T175204Z
UID:22352-1772729100-1772733600@buildinghopesummit.org
SUMMARY:Snow Tubing | Family Event
DESCRIPTION:Join Building Hope for a Snow Tubing Adventure. Please note that riders must be at least 36 inches tall and must be able to ride a tube on their own. No tube sharing or lap-riding is permitted. \nFamily Connectedness Event: These events are designed to encourage engagement of the whole family. Children are welcome to attend with their parent(s) or guardian. No childcare is provided as the whole family is participating together. Attendance is limited to those who live or work in Summit County\, CO. \n 
URL:https://buildinghopesummit.org/calendar_default/family-snow-tubing/
LOCATION:Frisco Adventure Park\, 621 Recreation Way\, Frisco\, CO\, 80443\, United States
CATEGORIES:Family Connectedness
END:VEVENT
BEGIN:VEVENT
DTSTART;TZID=America/Denver:20260311T180000
DTEND;TZID=America/Denver:20260311T193000
DTSTAMP:20260421T073449
CREATED:20260222T015259Z
LAST-MODIFIED:20260222T015259Z
UID:22355-1773252000-1773257400@buildinghopesummit.org
SUMMARY:Yoga with Yess--Bilingual
DESCRIPTION:Únete a una sesión de yoga con nosotros para fortalecer el corazón. \n¿Qué necesitas? \nRopa ligera (shorts\, licras\, tops\, camiseta) \nAgua para hidratación \nColchoneta de yoga \n\nEste evento está destinado únicamente a los residentes del condado de Summit.\nEvento facilitado en inglés y español.\n\n————————– \nJoin us for a yoga session that will strengthen your heart and body. \nWhat do you need? \nLight clothing (shorts\, leggings\, tops\, t-shirt) \nWater for hydration \nYoga mat \n\nThis event is intended for Summit County residents only.\nEvent Facilitated in English and Spanish.
URL:https://buildinghopesummit.org/calendar_default/yoga-with-yess-bilingual/
LOCATION:Summit County Community and Senior Center\, 83 Nancy's Place\, Frisco\, CO\, 80443\, United States
CATEGORIES:Connecting Events
END:VEVENT
BEGIN:VEVENT
DTSTART;TZID=America/Denver:20260314T120000
DTEND;TZID=America/Denver:20260314T140000
DTSTAMP:20260421T073449
CREATED:20260219T204227Z
LAST-MODIFIED:20260225T175120Z
UID:22340-1773489600-1773496800@buildinghopesummit.org
SUMMARY:Make Your Own Trucker Hat | HYPE event for ages 11-18
DESCRIPTION:Using sublimation techniques and acrylic paints\, you will create fun compositions and layering designs to decorate your own trucker hat. Ages 11-18
URL:https://buildinghopesummit.org/calendar_default/hype-make-your-own-trucker-hat/
LOCATION:Old Masonic Hall\, 136 S Main St\, Breckenridge\, CO\, 80424\, United States
CATEGORIES:Hype
END:VEVENT
BEGIN:VEVENT
DTSTART;TZID=America/Denver:20260321T100000
DTEND;TZID=America/Denver:20260321T120000
DTSTAMP:20260421T073449
CREATED:20260219T214958Z
LAST-MODIFIED:20260225T175056Z
UID:22346-1774087200-1774094400@buildinghopesummit.org
SUMMARY:Creative Ceramics | HYPE event for ages 11-18
DESCRIPTION:Working with clay is not only super fun\, but it calms the mind and boosts creativity.
URL:https://buildinghopesummit.org/calendar_default/hype-creative-ceramics/
LOCATION:Art Spot Silverthorne Makerspace\, 401 Blue River Parkway\, Silverthorne\, CO\, 80498\, United States
CATEGORIES:Hype
END:VEVENT
BEGIN:VEVENT
DTSTART;TZID=America/Denver:20260324T190000
DTEND;TZID=America/Denver:20260324T201500
DTSTAMP:20260421T073449
CREATED:20260219T205252Z
LAST-MODIFIED:20260219T205445Z
UID:22343-1774378800-1774383300@buildinghopesummit.org
SUMMARY:Journaling for Clarity
DESCRIPTION:Join local author Lisa Blake for a relaxed evening of meditation\, writing\, and connection.
URL:https://buildinghopesummit.org/calendar_default/journaling-for-clarity-2/
LOCATION:Thrive Yoga Summit\, 101 3rd Ave\, Unit C\, Frisco\, CO\, 80443\, United States
CATEGORIES:Connecting Events
END:VEVENT
BEGIN:VEVENT
DTSTART;TZID=America/Denver:20260326T180000
DTEND;TZID=America/Denver:20260326T200000
DTSTAMP:20260421T073449
CREATED:20260222T021822Z
LAST-MODIFIED:20260225T175028Z
UID:22357-1774548000-1774555200@buildinghopesummit.org
SUMMARY:Game Night | Family Event
DESCRIPTION:Join Building Hope and “Hidden Table Games” to experience interactive fantasy and mystery table games with buildable kits like Dungeons and Dragons\, “Magic: The Gathering”\, “Pokémon”\, and much more. \nEnjoy imaginative board gaming in a state-of-the-art facility and let your imagination soar to distant lands and other worlds! \n\nNo childcare or supervision of children is being provided.\nThis event is intended for Summit County residents only.\nEvent Facilitated in English.
URL:https://buildinghopesummit.org/calendar_default/family-game-night-2/
LOCATION:Hidden Table Games\, 246 RAINBOW DRIVE SILVERTHORNE\, Silverthorne\, CO\, 80498\, United States
CATEGORIES:Family Connectedness
END:VEVENT
BEGIN:VEVENT
DTSTART;TZID=America/Denver:20260409T170000
DTEND;TZID=America/Denver:20260409T190000
DTSTAMP:20260421T073449
CREATED:20260323T220308Z
LAST-MODIFIED:20260323T220308Z
UID:22706-1775754000-1775761200@buildinghopesummit.org
SUMMARY:Pysanky: Ukrainian Egg Decorating | HYPE event for ages 11-18
DESCRIPTION:Enjoy an evening learning the special technique of Pysanky\, the Ukrainian tradition of decorating and dyeing eggs using a wax resist method. The eggs you create will be heirlooms you can enjoy for years to come. 
URL:https://buildinghopesummit.org/calendar_default/pysanky-ukrainian-egg-decorating-hype-event-for-ages-11-18/
LOCATION:BreckCreate Art District\, 111 Washington Ave\, Breckenridge\, CO\, 80424\, United States
CATEGORIES:Hype
END:VEVENT
BEGIN:VEVENT
DTSTART;TZID=America/Denver:20260414T190000
DTEND;TZID=America/Denver:20260414T203000
DTSTAMP:20260421T073449
CREATED:20260323T220806Z
LAST-MODIFIED:20260323T220806Z
UID:22709-1776193200-1776198600@buildinghopesummit.org
SUMMARY:Inner Coherence: Breath and Sound (Bilingual)
DESCRIPTION:Join us for a transformative evening combining breathwork and sound healing to release stress\, anxiety\, and stored emotions. \nÚnete a nosotros para una noche transformadora combinando trabajo de respiración y sanación sonora para liberar estrés\, ansiedad y emociones almacenadas.  
URL:https://buildinghopesummit.org/calendar_default/inner-coherence-breath-and-sound-bilingual/
LOCATION:Thrive Yoga Summit\, 101 3rd Ave\, Unit C\, Frisco\, CO\, 80443\, United States
CATEGORIES:Connecting Events
END:VEVENT
BEGIN:VEVENT
DTSTART;TZID=America/Denver:20260416T173000
DTEND;TZID=America/Denver:20260416T190000
DTSTAMP:20260421T073449
CREATED:20260323T221236Z
LAST-MODIFIED:20260323T221236Z
UID:22713-1776360600-1776366000@buildinghopesummit.org
SUMMARY:Tie Dye Workshop | Family Event
DESCRIPTION:Bring your family to this special workshop hosted by MaryB Go Round Tie Dyes. Get ready to be hands on as you and your family learn the Ice Tie Dye method and create your own Tie Dye tote bag or bandana
URL:https://buildinghopesummit.org/calendar_default/tie-dye-workshop-family-event/
LOCATION:Mary B Go Round\, 411 S. Main St Unit 21\, Breckennridge\, CO\, 80424\, United States
CATEGORIES:Family Connectedness
END:VEVENT
BEGIN:VEVENT
DTSTART;TZID=America/Denver:20260417T180000
DTEND;TZID=America/Denver:20260417T190000
DTSTAMP:20260421T073449
CREATED:20260323T221539Z
LAST-MODIFIED:20260323T221539Z
UID:22718-1776448800-1776452400@buildinghopesummit.org
SUMMARY:Sound Healing with EJ
DESCRIPTION:End your week with some well deserved relaxation. Join us and allow the sound waves to wash over you in this relaxing Sound Bath experience led by EJ.
URL:https://buildinghopesummit.org/calendar_default/sound-healing-with-ej/
LOCATION:Summit County Community and Senior Center\, 83 Nancy's Place\, Frisco\, CO\, 80443\, United States
CATEGORIES:Connecting Events
END:VEVENT
BEGIN:VEVENT
DTSTART;TZID=America/Denver:20260418T100000
DTEND;TZID=America/Denver:20260418T120000
DTSTAMP:20260421T073449
CREATED:20260323T221902Z
LAST-MODIFIED:20260323T221902Z
UID:22721-1776506400-1776513600@buildinghopesummit.org
SUMMARY:Crystal Suncatcher Workshop (Bilingual)
DESCRIPTION:We invite you to a morning of connection and creativity to design your own suncatcher using natural crystals and gems. As we string together pieces that capture the light to brighten your home\, we will create new bonds with members of our Summit County community. \nTe invitamos a una mañana de conexión y creatividad para diseñar tu propio atrapa rayos utilizando cristales y gemas naturales. Mientras unimos piezas que capturan la luz para iluminar tu hogar\, crearemos nuevos lazos con miembros de nuestra comunidad del Condado de Summit.  
URL:https://buildinghopesummit.org/calendar_default/crystal-suncatcher-workshop-bilingual/
LOCATION:Art Spot Silverthorne Makerspace\, 401 Blue River Parkway\, Silverthorne\, CO\, 80498\, United States
CATEGORIES:Connecting Events
END:VEVENT
BEGIN:VEVENT
DTSTART;TZID=America/Denver:20260418T150000
DTEND;TZID=America/Denver:20260418T163000
DTSTAMP:20260421T073449
CREATED:20260323T222310Z
LAST-MODIFIED:20260323T222310Z
UID:22724-1776524400-1776529800@buildinghopesummit.org
SUMMARY:Flow with Nature Guided Walk | HYPE event for ages 11-18
DESCRIPTION:Take a break from screens\, stress\, and busy schedules\, and spend some time outside on a gentle mountain trail.  You will enjoy being guided through simple\, interactive moments to reconnect with the elements of nature.
URL:https://buildinghopesummit.org/calendar_default/flow-with-nature-guided-walk-hype-event-for-ages-11-18/
LOCATION:North Tenmile Creek Trailhead\, 400 W. Main Street\, Frisco\, CO\, 80443\, United States
CATEGORIES:Hype
END:VEVENT
BEGIN:VEVENT
DTSTART;TZID=America/Denver:20260427T160000
DTEND;TZID=America/Denver:20260427T170000
DTSTAMP:20260421T073449
CREATED:20260323T222646Z
LAST-MODIFIED:20260323T222646Z
UID:22729-1777305600-1777309200@buildinghopesummit.org
SUMMARY:Family Yoga Dance | Family Event
DESCRIPTION:Family Yoga Dance is a playful\, heart-opening experience where kids and parents move\, laugh\, and connect together. Families share joyful moments that build connection and trust. All ages\, from infants to grandparents\, will enjoy this playful time together.
URL:https://buildinghopesummit.org/calendar_default/family-yoga-dance-family-event/
LOCATION:Summit Sol Yoga\, 256 Dillon Ridge Rd\, 2nd Floor\, Dillon\, CO\, 80435\, United States
CATEGORIES:Family Connectedness
END:VEVENT
BEGIN:VEVENT
DTSTART;TZID=America/Denver:20260428T170000
DTEND;TZID=America/Denver:20260428T190000
DTSTAMP:20260421T073449
CREATED:20260323T222908Z
LAST-MODIFIED:20260323T223114Z
UID:22734-1777395600-1777402800@buildinghopesummit.org
SUMMARY:Mandala Art for Mental Balance | HYPE event for ages 11-18
DESCRIPTION:Join Kathye Conti as she leads us through the rhythmic art of making your own mandala.  Making a mandala does not require artistic skill and you will be amazed by the sense of calm and wholeness you feel.
URL:https://buildinghopesummit.org/calendar_default/mandala-art-for-mental-balance-hype-event-for-ages-11-18/
LOCATION:Summit County Library South Branch\, 103 Harris St\, Breckenridge\, CO\, 80424\, United States
CATEGORIES:Hype
END:VEVENT
BEGIN:VEVENT
DTSTART;TZID=America/Denver:20260429T164500
DTEND;TZID=America/Denver:20260429T180000
DTSTAMP:20260421T073449
CREATED:20260323T223438Z
LAST-MODIFIED:20260323T223438Z
UID:22737-1777481100-1777485600@buildinghopesummit.org
SUMMARY:Ice Skating | Family Event
DESCRIPTION:Bring the whole family and join Building Hope for ice skating! Whether you’re a beginner or looking to sharpen your skills\, instructors will offer short lessons throughout the event.
URL:https://buildinghopesummit.org/calendar_default/ice-skating-family-event/
LOCATION:Stephen C West Ice Arena\, 189 Boreas Pass Rd.\, Breckenridge\, CO\, 80424\, United States
CATEGORIES:Family Connectedness
END:VEVENT
BEGIN:VEVENT
DTSTART;TZID=America/Denver:20260503T090000
DTEND;TZID=America/Denver:20260503T103000
DTSTAMP:20260421T073449
CREATED:20260420T184048Z
LAST-MODIFIED:20260420T184048Z
UID:22916-1777798800-1777804200@buildinghopesummit.org
SUMMARY:Fly Fishing Lesson
DESCRIPTION: A unique opportunity to learn the art of fly fishing.  Experience the calming connection fly fishing fosters with the river and the natural world.  
URL:https://buildinghopesummit.org/calendar_default/fly-fishing-lesson/
LOCATION:Breckenridge Recreation Center\, 880 Airport Road\, Breckenridge\, CO\, 80424\, United States
CATEGORIES:Connecting Events
END:VEVENT
BEGIN:VEVENT
DTSTART;TZID=America/Denver:20260507T180000
DTEND;TZID=America/Denver:20260507T200000
DTSTAMP:20260421T073449
CREATED:20260420T184636Z
LAST-MODIFIED:20260420T184636Z
UID:22927-1778176800-1778184000@buildinghopesummit.org
SUMMARY:Community Stress Management and Resilience (SMART) training
DESCRIPTION: In honor of Mental Health Awareness Month\, Building Hope is hosting a free community SMART Training. SMART integrates neuroscience\, positive psychology\, mindfulness and resilience building. 
URL:https://buildinghopesummit.org/calendar_default/community-stress-management-and-resilience-smart-training/
LOCATION:Summit County Community and Senior Center\, 83 Nancy's Place\, Frisco\, CO\, 80443\, United States
CATEGORIES:Trainings
END:VEVENT
BEGIN:VEVENT
DTSTART;TZID=America/Denver:20260511T173000
DTEND;TZID=America/Denver:20260511T190000
DTSTAMP:20260421T073449
CREATED:20260420T184454Z
LAST-MODIFIED:20260420T191438Z
UID:22923-1778520600-1778526000@buildinghopesummit.org
SUMMARY:Family Wheel Throwing | Family Event
DESCRIPTION: Join us for a hands-on pottery experience\, specifically designed for adults and children to create together. In this workshop\, each family will work together on a pottery throwing wheel\, shaping clay into unique\, functional pieces.
URL:https://buildinghopesummit.org/calendar_default/family-wheel-throwing/
LOCATION:BreckCreate Art District\, 111 Washington Ave\, Breckenridge\, CO\, 80424\, United States
CATEGORIES:Family Connectedness
END:VEVENT
BEGIN:VEVENT
DTSTART;TZID=America/Denver:20260512T180000
DTEND;TZID=America/Denver:20260512T190000
DTSTAMP:20260421T073449
CREATED:20260420T184808Z
LAST-MODIFIED:20260420T184808Z
UID:22930-1778608800-1778612400@buildinghopesummit.org
SUMMARY:Sound Healing with EJ
DESCRIPTION: Break up your week with some well deserved relaxation. Join us and allow the sound waves to wash over you in this relaxing Sound Bath experience led by EJ.
URL:https://buildinghopesummit.org/calendar_default/sound-healing-with-ej-2/
LOCATION:Summit County Community and Senior Center\, 83 Nancy's Place\, Frisco\, CO\, 80443\, United States
CATEGORIES:Connecting Events
END:VEVENT
BEGIN:VEVENT
DTSTART;TZID=America/Denver:20260513T180000
DTEND;TZID=America/Denver:20260513T193000
DTSTAMP:20260421T073449
CREATED:20260420T185008Z
LAST-MODIFIED:20260420T185008Z
UID:22933-1778695200-1778700600@buildinghopesummit.org
SUMMARY:Bilingual Yoga with Yess
DESCRIPTION: Join us for a yoga session that will strengthen your heart and body\, cleanse your body of impurities\, and regulate your metabolism and immune system.
URL:https://buildinghopesummit.org/calendar_default/bilingual-yoga-with-yess-2/
LOCATION:Summit County Community and Senior Center\, 83 Nancy's Place\, Frisco\, CO\, 80443\, United States
CATEGORIES:Connecting Events
END:VEVENT
BEGIN:VEVENT
DTSTART;TZID=America/Denver:20260514T170000
DTEND;TZID=America/Denver:20260514T183000
DTSTAMP:20260421T073449
CREATED:20260420T185158Z
LAST-MODIFIED:20260420T191356Z
UID:22937-1778778000-1778783400@buildinghopesummit.org
SUMMARY:Body Weight Workout for Families | Family Event
DESCRIPTION: This workout will engage the whole family with no equipment needed!  Using body weight only\, we will complete a full body workout\, building trust and confidence in ourselves and each other.
URL:https://buildinghopesummit.org/calendar_default/body-weight-workout-for-families/
LOCATION:Summit County Community and Senior Center\, 83 Nancy's Place\, Frisco\, CO\, 80443\, United States
CATEGORIES:Family Connectedness
END:VEVENT
BEGIN:VEVENT
DTSTART;TZID=America/Denver:20260516T100000
DTEND;TZID=America/Denver:20260516T120000
DTSTAMP:20260421T073449
CREATED:20260420T185327Z
LAST-MODIFIED:20260420T191309Z
UID:22941-1778925600-1778932800@buildinghopesummit.org
SUMMARY:“Make a Fish” Windsock Workshop | Family Event
DESCRIPTION: Inspired by the Japanese tradition of Koinobori (carp streamers)\, we’re bringing a local twist to the High Country. In this all ages\, family friendly workshop\, we’ll create trout shaped windsocks to celebrate the coming summer!
URL:https://buildinghopesummit.org/calendar_default/make-a-fish-windsock-workshop/
LOCATION:Art Spot Silverthorne Makerspace\, 401 Blue River Parkway\, Silverthorne\, CO\, 80498\, United States
CATEGORIES:Family Connectedness
END:VEVENT
BEGIN:VEVENT
DTSTART;TZID=America/Denver:20260516T130000
DTEND;TZID=America/Denver:20260516T143000
DTSTAMP:20260421T073449
CREATED:20260420T185709Z
LAST-MODIFIED:20260420T191157Z
UID:22945-1778936400-1778941800@buildinghopesummit.org
SUMMARY:Archery and Frisbee Golf | HYPE event for ages 11-18
DESCRIPTION:Join us for a fun and active teen outing in Dillon! ECHO Adventures will help you practice your technique\, with time at both the archery range and frisbee golf course. Participants will be able to move between the archery range and the course and choose to try both activities or focus on their favorite.
URL:https://buildinghopesummit.org/calendar_default/hype-archery-and-frisbee-golf/
LOCATION:Dillon Archery Range\, 19186 US-6\, Dillon\, CO\, 80435\, United States
CATEGORIES:Hype
END:VEVENT
BEGIN:VEVENT
DTSTART;TZID=America/Denver:20260517T100000
DTEND;TZID=America/Denver:20260517T120000
DTSTAMP:20260421T073449
CREATED:20260420T185848Z
LAST-MODIFIED:20260420T191106Z
UID:22951-1779012000-1779019200@buildinghopesummit.org
SUMMARY:Summit Valley Horse Center | HYPE event for ages 11-18
DESCRIPTION: Join us for a morning at the Summit Valley Horse Center and learn about the connection between humans and horses!  This class is designed to introduce participants to basic horse safety and handling and gives hands-on experience. 
URL:https://buildinghopesummit.org/calendar_default/hype-summit-valley-horse-center/
LOCATION:Summit Valley Horse Center\, 35405\, Silverthorne\, CO\, 80498\, United States
CATEGORIES:Hype
END:VEVENT
BEGIN:VEVENT
DTSTART;TZID=America/Denver:20260517T140000
DTEND;TZID=America/Denver:20260517T150000
DTSTAMP:20260421T073449
CREATED:20260420T190041Z
LAST-MODIFIED:20260420T191007Z
UID:22957-1779026400-1779030000@buildinghopesummit.org
SUMMARY:Pickleball Lesson | HYPE event for ages 11-18
DESCRIPTION: Have you been wondering why everyone loves to play Pickleball?  Learn the rules and techniques that make this sport so much fun!
URL:https://buildinghopesummit.org/calendar_default/hype-pickleball-lesson/
LOCATION:Breckenridge Recreation Center\, 880 Airport Road\, Breckenridge\, CO\, 80424\, United States
CATEGORIES:Hype
END:VEVENT
BEGIN:VEVENT
DTSTART;TZID=America/Denver:20260518T193000
DTEND;TZID=America/Denver:20260518T203000
DTSTAMP:20260421T073449
CREATED:20260420T190204Z
LAST-MODIFIED:20260420T190204Z
UID:22965-1779132600-1779136200@buildinghopesummit.org
SUMMARY:Journaling for Grief & Loss
DESCRIPTION:Grief can feel isolating—but you don’t have to move through it alone. This gentle\, supportive gathering invites you to explore your experience of loss through guided meditation\, journaling and community support.
URL:https://buildinghopesummit.org/calendar_default/journaling-for-grief-loss/
LOCATION:Thrive Yoga Summit\, 101 3rd Ave\, Unit C\, Frisco\, CO\, 80443\, United States
CATEGORIES:Connecting Events
END:VEVENT
BEGIN:VEVENT
DTSTART;TZID=America/Denver:20260519T183000
DTEND;TZID=America/Denver:20260519T193000
DTSTAMP:20260421T073449
CREATED:20260420T190508Z
LAST-MODIFIED:20260420T190508Z
UID:22969-1779215400-1779219000@buildinghopesummit.org
SUMMARY:PFX: A Psychology-Fitness Experience powered by PSYFI
DESCRIPTION: A revolutionary group fitness class that combines psychology and neuroscience training with a HIIT workout\, breathwork\, and meditation.
URL:https://buildinghopesummit.org/calendar_default/pfx-a-psychology-fitness-experience-powered-by-psyfi-3/
LOCATION:The Block\, 491 Rainbow Drive\, Silverthorne\, CO\, 80498\, United States
CATEGORIES:Connecting Events
END:VEVENT
BEGIN:VEVENT
DTSTART;TZID=America/Denver:20260521T180000
DTEND;TZID=America/Denver:20260521T200000
DTSTAMP:20260421T073449
CREATED:20260420T190712Z
LAST-MODIFIED:20260420T190712Z
UID:22973-1779386400-1779393600@buildinghopesummit.org
SUMMARY:Dude Talk Dinner
DESCRIPTION:Dude Talk Dinners bring men together in a relaxed\, nonjudgmental\, drug and alcohol free environment for a free meal and an opportunity to connect via facilitated conversations. The goal is fostering a culture where men support one another and strengthen their social networks.
URL:https://buildinghopesummit.org/calendar_default/dude-talk-dinner/
LOCATION:Summit County Community and Senior Center\, 83 Nancy's Place\, Frisco\, CO\, 80443\, United States
CATEGORIES:Recurring Events
END:VEVENT
BEGIN:VEVENT
DTSTART;TZID=America/Denver:20260623T180000
DTEND;TZID=America/Denver:20260623T200000
DTSTAMP:20260421T073449
CREATED:20260421T103918Z
LAST-MODIFIED:20260421T104149Z
UID:22988-1782237600-1782244800@buildinghopesummit.org
SUMMARY:Guy's Night
DESCRIPTION:Guys Night is being held in recognition of June as Men’s Mental Health Awareness Month. We are bringing men together in a relaxed\, welcoming environment with food\, connection\, and some fun woven in. The goal is simple but important—create space for men to show up\, build relationships and community\, and feel a little less alone. \nCome for the food\, stay for the stories\, genuine local guys\, free-for-all games\, and AWESOME giveaways.
URL:https://buildinghopesummit.org/calendar_default/guys-night/
LOCATION:Summit County Community and Senior Center\, 83 Nancy's Place\, Frisco\, CO\, 80443\, United States
CATEGORIES:Trainings
END:VEVENT
END:VCALENDAR