BEGIN:VCALENDAR
VERSION:2.0
PRODID:-//Building Hope Summit -&nbsp; - ECPv6.15.18//NONSGML v1.0//EN
CALSCALE:GREGORIAN
METHOD:PUBLISH
X-ORIGINAL-URL:https://buildinghopesummit.org
X-WR-CALDESC:Events for Building Hope Summit -&nbsp;
REFRESH-INTERVAL;VALUE=DURATION:PT1H
X-Robots-Tag:noindex
X-PUBLISHED-TTL:PT1H
BEGIN:VTIMEZONE
TZID:America/Denver
BEGIN:DAYLIGHT
TZOFFSETFROM:-0700
TZOFFSETTO:-0600
TZNAME:MDT
DTSTART:20180311T090000
END:DAYLIGHT
BEGIN:STANDARD
TZOFFSETFROM:-0600
TZOFFSETTO:-0700
TZNAME:MST
DTSTART:20181104T080000
END:STANDARD
BEGIN:DAYLIGHT
TZOFFSETFROM:-0700
TZOFFSETTO:-0600
TZNAME:MDT
DTSTART:20190310T090000
END:DAYLIGHT
BEGIN:STANDARD
TZOFFSETFROM:-0600
TZOFFSETTO:-0700
TZNAME:MST
DTSTART:20191103T080000
END:STANDARD
BEGIN:DAYLIGHT
TZOFFSETFROM:-0700
TZOFFSETTO:-0600
TZNAME:MDT
DTSTART:20200308T090000
END:DAYLIGHT
BEGIN:STANDARD
TZOFFSETFROM:-0600
TZOFFSETTO:-0700
TZNAME:MST
DTSTART:20201101T080000
END:STANDARD
END:VTIMEZONE
BEGIN:VEVENT
DTSTART;TZID=America/Denver:20190911T173000
DTEND;TZID=America/Denver:20190911T173000
DTSTAMP:20260420T060206
CREATED:20210519T043714Z
LAST-MODIFIED:20210519T043714Z
UID:2433-1568223000-1568223000@buildinghopesummit.org
SUMMARY:Embracing Change - Guided Hike
DESCRIPTION:
URL:https://buildinghopesummit.org/calendar_default/embracing-change-guided-hike/
LOCATION:CO
END:VEVENT
BEGIN:VEVENT
DTSTART;TZID=America/Denver:20190912T180000
DTEND;TZID=America/Denver:20190912T180000
DTSTAMP:20260420T060206
CREATED:20210519T043715Z
LAST-MODIFIED:20210519T043715Z
UID:2434-1568311200-1568311200@buildinghopesummit.org
SUMMARY:Healing Through Yoga
DESCRIPTION:
URL:https://buildinghopesummit.org/calendar_default/healing-through-yoga/
LOCATION:CO
END:VEVENT
BEGIN:VEVENT
DTSTART;TZID=America/Denver:20190917T180000
DTEND;TZID=America/Denver:20190917T180000
DTSTAMP:20260420T060206
CREATED:20210519T043715Z
LAST-MODIFIED:20210519T043715Z
UID:2435-1568743200-1568743200@buildinghopesummit.org
SUMMARY:Community QPR Mental Health Training/Dinner
DESCRIPTION:
URL:https://buildinghopesummit.org/calendar_default/community-qpr-mental-health-training-dinner-2/
LOCATION:CO
END:VEVENT
BEGIN:VEVENT
DTSTART;TZID=America/Denver:20190918T180000
DTEND;TZID=America/Denver:20190918T180000
DTSTAMP:20260420T060206
CREATED:20210519T043716Z
LAST-MODIFIED:20210519T043716Z
UID:2436-1568829600-1568829600@buildinghopesummit.org
SUMMARY:Gentle Community Yoga
DESCRIPTION:
URL:https://buildinghopesummit.org/calendar_default/gentle-community-yoga/
LOCATION:CO
END:VEVENT
BEGIN:VEVENT
DTSTART;TZID=America/Denver:20190919T180000
DTEND;TZID=America/Denver:20190919T180000
DTSTAMP:20260420T060206
CREATED:20210519T043716Z
LAST-MODIFIED:20210519T043716Z
UID:2437-1568916000-1568916000@buildinghopesummit.org
SUMMARY:Transforming Grief: Healing and Hope
DESCRIPTION:
URL:https://buildinghopesummit.org/calendar_default/transforming-grief-healing-and-hope/
LOCATION:CO
END:VEVENT
BEGIN:VEVENT
DTSTART;TZID=America/Denver:20190920T083000
DTEND;TZID=America/Denver:20190920T083000
DTSTAMP:20260420T060206
CREATED:20210519T043716Z
LAST-MODIFIED:20210519T043716Z
UID:2438-1568968200-1568968200@buildinghopesummit.org
SUMMARY:Community Mental Health First Aid (MHFA)
DESCRIPTION:
URL:https://buildinghopesummit.org/calendar_default/community-mental-health-first-aid-mhfa/
LOCATION:CO
END:VEVENT
BEGIN:VEVENT
DTSTART;TZID=America/Denver:20190924T180000
DTEND;TZID=America/Denver:20190924T180000
DTSTAMP:20260420T060206
CREATED:20210519T043718Z
LAST-MODIFIED:20210519T043718Z
UID:2439-1569348000-1569348000@buildinghopesummit.org
SUMMARY:Arts Series: Expressing Hope Greeting Cards
DESCRIPTION:
URL:https://buildinghopesummit.org/calendar_default/arts-series-expressing-hope-greeting-cards/
LOCATION:CO
END:VEVENT
END:VCALENDAR