BEGIN:VCALENDAR
VERSION:2.0
PRODID:-//Building Hope Summit -&nbsp; - ECPv6.15.18//NONSGML v1.0//EN
CALSCALE:GREGORIAN
METHOD:PUBLISH
X-WR-CALNAME:Building Hope Summit -&nbsp;
X-ORIGINAL-URL:https://buildinghopesummit.org/es
X-WR-CALDESC:Eventos para Building Hope Summit -&nbsp;
REFRESH-INTERVAL;VALUE=DURATION:PT1H
X-Robots-Tag:noindex
X-PUBLISHED-TTL:PT1H
BEGIN:VTIMEZONE
TZID:America/Denver
BEGIN:DAYLIGHT
TZOFFSETFROM:-0700
TZOFFSETTO:-0600
TZNAME:MDT
DTSTART:20170312T090000
END:DAYLIGHT
BEGIN:STANDARD
TZOFFSETFROM:-0600
TZOFFSETTO:-0700
TZNAME:MST
DTSTART:20171105T080000
END:STANDARD
BEGIN:DAYLIGHT
TZOFFSETFROM:-0700
TZOFFSETTO:-0600
TZNAME:MDT
DTSTART:20180311T090000
END:DAYLIGHT
BEGIN:STANDARD
TZOFFSETFROM:-0600
TZOFFSETTO:-0700
TZNAME:MST
DTSTART:20181104T080000
END:STANDARD
BEGIN:DAYLIGHT
TZOFFSETFROM:-0700
TZOFFSETTO:-0600
TZNAME:MDT
DTSTART:20190310T090000
END:DAYLIGHT
BEGIN:STANDARD
TZOFFSETFROM:-0600
TZOFFSETTO:-0700
TZNAME:MST
DTSTART:20191103T080000
END:STANDARD
END:VTIMEZONE
BEGIN:VEVENT
DTSTART;TZID=America/Denver:20180604T180000
DTEND;TZID=America/Denver:20180604T180000
DTSTAMP:20260419T091807
CREATED:20210519T043427Z
LAST-MODIFIED:20210519T043427Z
UID:2350-1528135200-1528135200@buildinghopesummit.org
SUMMARY:June Event - Cooking Up Hope with CMC
DESCRIPTION:
URL:https://buildinghopesummit.org/es/calendar_default/june-event-cooking-up-hope-with-cmc/
END:VEVENT
BEGIN:VEVENT
DTSTART;TZID=America/Denver:20180613T173000
DTEND;TZID=America/Denver:20180613T173000
DTSTAMP:20260419T091807
CREATED:20210519T043427Z
LAST-MODIFIED:20210519T043427Z
UID:2351-1528911000-1528911000@buildinghopesummit.org
SUMMARY:Outdoor Community Yoga
DESCRIPTION:
URL:https://buildinghopesummit.org/es/calendar_default/outdoor-community-yoga/
END:VEVENT
BEGIN:VEVENT
DTSTART;TZID=America/Denver:20180614T183000
DTEND;TZID=America/Denver:20180614T183000
DTSTAMP:20260419T091807
CREATED:20210519T043427Z
LAST-MODIFIED:20210519T043427Z
UID:2352-1529001000-1529001000@buildinghopesummit.org
SUMMARY:Yogic Breathing to Promote Inner Peace
DESCRIPTION:
URL:https://buildinghopesummit.org/es/calendar_default/yogic-breathing-to-promote-inner-peace/
END:VEVENT
BEGIN:VEVENT
DTSTART;TZID=America/Denver:20180620T180000
DTEND;TZID=America/Denver:20180620T180000
DTSTAMP:20260419T091807
CREATED:20210519T043427Z
LAST-MODIFIED:20210519T043427Z
UID:2353-1529517600-1529517600@buildinghopesummit.org
SUMMARY:Community Yoga
DESCRIPTION:
URL:https://buildinghopesummit.org/es/calendar_default/community-yoga-2/
END:VEVENT
BEGIN:VEVENT
DTSTART;TZID=America/Denver:20180621T180000
DTEND;TZID=America/Denver:20180621T180000
DTSTAMP:20260419T091807
CREATED:20210519T043508Z
LAST-MODIFIED:20210519T043508Z
UID:2354-1529604000-1529604000@buildinghopesummit.org
SUMMARY:Improv Comedy Night benefitting Building Hope
DESCRIPTION:
URL:https://buildinghopesummit.org/es/calendar_default/improv-comedy-night-benefitting-building-hope/
END:VEVENT
END:VCALENDAR