BEGIN:VCALENDAR
VERSION:2.0
PRODID:-//Building Hope Summit -&nbsp; - ECPv6.15.18//NONSGML v1.0//EN
CALSCALE:GREGORIAN
METHOD:PUBLISH
X-WR-CALNAME:Building Hope Summit -&nbsp;
X-ORIGINAL-URL:https://buildinghopesummit.org/es
X-WR-CALDESC:Eventos para Building Hope Summit -&nbsp;
REFRESH-INTERVAL;VALUE=DURATION:PT1H
X-Robots-Tag:noindex
X-PUBLISHED-TTL:PT1H
BEGIN:VTIMEZONE
TZID:America/Denver
BEGIN:DAYLIGHT
TZOFFSETFROM:-0700
TZOFFSETTO:-0600
TZNAME:MDT
DTSTART:20190310T090000
END:DAYLIGHT
BEGIN:STANDARD
TZOFFSETFROM:-0600
TZOFFSETTO:-0700
TZNAME:MST
DTSTART:20191103T080000
END:STANDARD
BEGIN:DAYLIGHT
TZOFFSETFROM:-0700
TZOFFSETTO:-0600
TZNAME:MDT
DTSTART:20200308T090000
END:DAYLIGHT
BEGIN:STANDARD
TZOFFSETFROM:-0600
TZOFFSETTO:-0700
TZNAME:MST
DTSTART:20201101T080000
END:STANDARD
BEGIN:DAYLIGHT
TZOFFSETFROM:-0700
TZOFFSETTO:-0600
TZNAME:MDT
DTSTART:20210314T090000
END:DAYLIGHT
BEGIN:STANDARD
TZOFFSETFROM:-0600
TZOFFSETTO:-0700
TZNAME:MST
DTSTART:20211107T080000
END:STANDARD
END:VTIMEZONE
BEGIN:VEVENT
DTSTART;TZID=America/Denver:20200610T180000
DTEND;TZID=America/Denver:20200610T180000
DTSTAMP:20260424T045434
CREATED:20210519T043815Z
LAST-MODIFIED:20210519T043815Z
UID:2494-1591812000-1591812000@buildinghopesummit.org
SUMMARY:Prevención de Suicidio: QPR
DESCRIPTION:
URL:https://buildinghopesummit.org/es/calendar_default/prevencion-de-suicidio-qpr/
END:VEVENT
BEGIN:VEVENT
DTSTART;TZID=America/Denver:20200611T180000
DTEND;TZID=America/Denver:20200611T180000
DTSTAMP:20260424T045434
CREATED:20210519T043815Z
LAST-MODIFIED:20210519T043815Z
UID:2495-1591898400-1591898400@buildinghopesummit.org
SUMMARY:QPR Training to Prevent Suicide
DESCRIPTION:
URL:https://buildinghopesummit.org/es/calendar_default/qpr-training-to-prevent-suicide/
END:VEVENT
BEGIN:VEVENT
DTSTART;TZID=America/Denver:20200618T090000
DTEND;TZID=America/Denver:20200618T090000
DTSTAMP:20260424T045434
CREATED:20210519T043816Z
LAST-MODIFIED:20210602T143517Z
UID:2496-1592470800-1592470800@buildinghopesummit.org
SUMMARY:The HYPE:  Lake Dillon Adventure Ages 14-16
DESCRIPTION:
URL:https://buildinghopesummit.org/es/calendar_default/the-hype-lake-dillon-adventure-ages-14-16/
CATEGORIES:Hype
END:VEVENT
BEGIN:VEVENT
DTSTART;TZID=America/Denver:20200618T130000
DTEND;TZID=America/Denver:20200618T130000
DTSTAMP:20260424T045434
CREATED:20210519T043816Z
LAST-MODIFIED:20210602T143517Z
UID:2497-1592485200-1592485200@buildinghopesummit.org
SUMMARY:The HYPE:  Lake Dillon Adventure Ages 17-20
DESCRIPTION:
URL:https://buildinghopesummit.org/es/calendar_default/the-hype-lake-dillon-adventure-ages-17-20/
CATEGORIES:Hype
END:VEVENT
BEGIN:VEVENT
DTSTART;TZID=America/Denver:20200625T110000
DTEND;TZID=America/Denver:20200625T110000
DTSTAMP:20260424T045434
CREATED:20210519T043816Z
LAST-MODIFIED:20210602T143516Z
UID:2498-1593082800-1593082800@buildinghopesummit.org
SUMMARY:The HYPE:  Ropes Course Challenge Ages 14-20
DESCRIPTION:
URL:https://buildinghopesummit.org/es/calendar_default/the-hype-ropes-course-challenge-ages-14-20/
CATEGORIES:Hype
END:VEVENT
BEGIN:VEVENT
DTSTART;TZID=America/Denver:20200625T180000
DTEND;TZID=America/Denver:20200625T180000
DTSTAMP:20260424T045434
CREATED:20210519T043818Z
LAST-MODIFIED:20210519T043818Z
UID:2499-1593108000-1593108000@buildinghopesummit.org
SUMMARY:Planting the Seeds of Change
DESCRIPTION:
URL:https://buildinghopesummit.org/es/calendar_default/planting-the-seeds-of-change/
END:VEVENT
BEGIN:VEVENT
DTSTART;TZID=America/Denver:20200630T110000
DTEND;TZID=America/Denver:20200630T110000
DTSTAMP:20260424T045434
CREATED:20210519T043818Z
LAST-MODIFIED:20210602T143516Z
UID:2500-1593514800-1593514800@buildinghopesummit.org
SUMMARY:The HYPE:  Rock Climbing and SUP 14-20
DESCRIPTION:
URL:https://buildinghopesummit.org/es/calendar_default/the-hype-rock-climbing-and-sup-14-20/
CATEGORIES:Hype
END:VEVENT
BEGIN:VEVENT
DTSTART;TZID=America/Denver:20200630T180000
DTEND;TZID=America/Denver:20200630T180000
DTSTAMP:20260424T045434
CREATED:20210519T043818Z
LAST-MODIFIED:20210519T043818Z
UID:2501-1593540000-1593540000@buildinghopesummit.org
SUMMARY:Expressive Art: Drawing
DESCRIPTION:
URL:https://buildinghopesummit.org/es/calendar_default/expressive-art-drawing/
END:VEVENT
END:VCALENDAR