BEGIN:VCALENDAR
VERSION:2.0
PRODID:-//Building Hope Summit -&nbsp; - ECPv6.15.18//NONSGML v1.0//EN
CALSCALE:GREGORIAN
METHOD:PUBLISH
X-WR-CALNAME:Building Hope Summit -&nbsp;
X-ORIGINAL-URL:https://buildinghopesummit.org/es
X-WR-CALDESC:Eventos para Building Hope Summit -&nbsp;
REFRESH-INTERVAL;VALUE=DURATION:PT1H
X-Robots-Tag:noindex
X-PUBLISHED-TTL:PT1H
BEGIN:VTIMEZONE
TZID:America/Denver
BEGIN:DAYLIGHT
TZOFFSETFROM:-0700
TZOFFSETTO:-0600
TZNAME:MDT
DTSTART:20190310T090000
END:DAYLIGHT
BEGIN:STANDARD
TZOFFSETFROM:-0600
TZOFFSETTO:-0700
TZNAME:MST
DTSTART:20191103T080000
END:STANDARD
BEGIN:DAYLIGHT
TZOFFSETFROM:-0700
TZOFFSETTO:-0600
TZNAME:MDT
DTSTART:20200308T090000
END:DAYLIGHT
BEGIN:STANDARD
TZOFFSETFROM:-0600
TZOFFSETTO:-0700
TZNAME:MST
DTSTART:20201101T080000
END:STANDARD
BEGIN:DAYLIGHT
TZOFFSETFROM:-0700
TZOFFSETTO:-0600
TZNAME:MDT
DTSTART:20210314T090000
END:DAYLIGHT
BEGIN:STANDARD
TZOFFSETFROM:-0600
TZOFFSETTO:-0700
TZNAME:MST
DTSTART:20211107T080000
END:STANDARD
END:VTIMEZONE
BEGIN:VEVENT
DTSTART;TZID=America/Denver:20201201T180000
DTEND;TZID=America/Denver:20201201T180000
DTSTAMP:20260423T142820
CREATED:20210519T043908Z
LAST-MODIFIED:20210519T043908Z
UID:2559-1606845600-1606845600@buildinghopesummit.org
SUMMARY:Embody- Dance to Heal with Alia
DESCRIPTION:
URL:https://buildinghopesummit.org/es/calendar_default/embody-dance-to-heal-with-alia/
END:VEVENT
BEGIN:VEVENT
DTSTART;TZID=America/Denver:20201203T140000
DTEND;TZID=America/Denver:20201203T140000
DTSTAMP:20260423T142820
CREATED:20210519T043908Z
LAST-MODIFIED:20210519T043908Z
UID:2560-1607004000-1607004000@buildinghopesummit.org
SUMMARY:Yin Yoga & Mental Wellness
DESCRIPTION:
URL:https://buildinghopesummit.org/es/calendar_default/yin-yoga-mental-wellness-2/
END:VEVENT
BEGIN:VEVENT
DTSTART;TZID=America/Denver:20201203T180000
DTEND;TZID=America/Denver:20201203T180000
DTSTAMP:20260423T142820
CREATED:20210519T043909Z
LAST-MODIFIED:20210519T043909Z
UID:2562-1607018400-1607018400@buildinghopesummit.org
SUMMARY:Self Acceptance with Phil Gallagher
DESCRIPTION:
URL:https://buildinghopesummit.org/es/calendar_default/self-acceptance-with-phil-gallagher/
END:VEVENT
BEGIN:VEVENT
DTSTART;TZID=America/Denver:20201208T180000
DTEND;TZID=America/Denver:20201208T180000
DTSTAMP:20260423T142820
CREATED:20210519T043942Z
LAST-MODIFIED:20210519T043942Z
UID:2628-1607450400-1607450400@buildinghopesummit.org
SUMMARY:Self Care Strategies for Cancer Survivors and Supporters
DESCRIPTION:
URL:https://buildinghopesummit.org/es/calendar_default/self-care-strategies-for-cancer-survivors-and-supporters/
END:VEVENT
BEGIN:VEVENT
DTSTART;TZID=America/Denver:20201209T180000
DTEND;TZID=America/Denver:20201209T180000
DTSTAMP:20260423T142820
CREATED:20210519T043944Z
LAST-MODIFIED:20210519T043944Z
UID:2629-1607536800-1607536800@buildinghopesummit.org
SUMMARY:QPR Training to Prevent Suicide
DESCRIPTION:
URL:https://buildinghopesummit.org/es/calendar_default/qpr-training-to-prevent-suicide-5/
END:VEVENT
BEGIN:VEVENT
DTSTART;TZID=America/Denver:20201210T180000
DTEND;TZID=America/Denver:20201210T180000
DTSTAMP:20260423T142820
CREATED:20210519T043911Z
LAST-MODIFIED:20210519T043911Z
UID:2564-1607623200-1607623200@buildinghopesummit.org
SUMMARY:Brave Spaces-trauma informed movement
DESCRIPTION:
URL:https://buildinghopesummit.org/es/calendar_default/brave-spaces-trauma-informed-movement/
END:VEVENT
BEGIN:VEVENT
DTSTART;TZID=America/Denver:20201210T180000
DTEND;TZID=America/Denver:20201210T180000
DTSTAMP:20260423T142820
CREATED:20210519T043944Z
LAST-MODIFIED:20210519T043944Z
UID:2630-1607623200-1607623200@buildinghopesummit.org
SUMMARY:QPR Training en Español
DESCRIPTION:
URL:https://buildinghopesummit.org/es/calendar_default/qpr-training-en-espanol-3/
END:VEVENT
BEGIN:VEVENT
DTSTART;TZID=America/Denver:20201214T180000
DTEND;TZID=America/Denver:20201214T180000
DTSTAMP:20260423T142820
CREATED:20210519T043911Z
LAST-MODIFIED:20210519T043911Z
UID:2565-1607968800-1607968800@buildinghopesummit.org
SUMMARY:The Mindful Man
DESCRIPTION:
URL:https://buildinghopesummit.org/es/calendar_default/the-mindful-man-7/
END:VEVENT
BEGIN:VEVENT
DTSTART;TZID=America/Denver:20201215T180000
DTEND;TZID=America/Denver:20201215T180000
DTSTAMP:20260423T142820
CREATED:20210519T043911Z
LAST-MODIFIED:20210519T043911Z
UID:2566-1608055200-1608055200@buildinghopesummit.org
SUMMARY:Intention Jars: A Creative Zoom Session with The Frosted Flamingo
DESCRIPTION:
URL:https://buildinghopesummit.org/es/calendar_default/intention-jars-a-creative-zoom-session-with-the-frosted-flamingo/
END:VEVENT
BEGIN:VEVENT
DTSTART;TZID=America/Denver:20201217T150000
DTEND;TZID=America/Denver:20201217T150000
DTSTAMP:20260423T142820
CREATED:20210519T043912Z
LAST-MODIFIED:20210602T143512Z
UID:2568-1608217200-1608217200@buildinghopesummit.org
SUMMARY:The HYPE:  Winter Land Art 12-20
DESCRIPTION:
URL:https://buildinghopesummit.org/es/calendar_default/the-hype-winter-land-art-12-20/
CATEGORIES:Hype
END:VEVENT
BEGIN:VEVENT
DTSTART;TZID=America/Denver:20201217T180000
DTEND;TZID=America/Denver:20201217T180000
DTSTAMP:20260423T142820
CREATED:20210519T043913Z
LAST-MODIFIED:20210519T043913Z
UID:2569-1608228000-1608228000@buildinghopesummit.org
SUMMARY:Clases de relajación y estiramiento con Yoga
DESCRIPTION:
URL:https://buildinghopesummit.org/es/calendar_default/clases-de-relajacion-y-estiramiento-con-yoga-4/
END:VEVENT
BEGIN:VEVENT
DTSTART;TZID=America/Denver:20201217T181500
DTEND;TZID=America/Denver:20201217T181500
DTSTAMP:20260423T142820
CREATED:20210519T043914Z
LAST-MODIFIED:20210519T043914Z
UID:2570-1608228900-1608228900@buildinghopesummit.org
SUMMARY:Gentle Community Yoga
DESCRIPTION:
URL:https://buildinghopesummit.org/es/calendar_default/gentle-community-yoga-14/
END:VEVENT
BEGIN:VEVENT
DTSTART;TZID=America/Denver:20201222T180000
DTEND;TZID=America/Denver:20201222T180000
DTSTAMP:20260423T142820
CREATED:20210519T043914Z
LAST-MODIFIED:20210519T043914Z
UID:2571-1608660000-1608660000@buildinghopesummit.org
SUMMARY:Women's Circle with Mia
DESCRIPTION:
URL:https://buildinghopesummit.org/es/calendar_default/womens-circle-with-mia-2/
END:VEVENT
END:VCALENDAR