BEGIN:VCALENDAR
VERSION:2.0
PRODID:-//Building Hope Summit -&nbsp; - ECPv6.15.20//NONSGML v1.0//EN
CALSCALE:GREGORIAN
METHOD:PUBLISH
X-WR-CALNAME:Building Hope Summit -&nbsp;
X-ORIGINAL-URL:https://buildinghopesummit.org/es
X-WR-CALDESC:Eventos para Building Hope Summit -&nbsp;
REFRESH-INTERVAL;VALUE=DURATION:PT1H
X-Robots-Tag:noindex
X-PUBLISHED-TTL:PT1H
BEGIN:VTIMEZONE
TZID:America/Denver
BEGIN:DAYLIGHT
TZOFFSETFROM:-0700
TZOFFSETTO:-0600
TZNAME:MDT
DTSTART:20230312T090000
END:DAYLIGHT
BEGIN:STANDARD
TZOFFSETFROM:-0600
TZOFFSETTO:-0700
TZNAME:MST
DTSTART:20231105T080000
END:STANDARD
BEGIN:DAYLIGHT
TZOFFSETFROM:-0700
TZOFFSETTO:-0600
TZNAME:MDT
DTSTART:20240310T090000
END:DAYLIGHT
BEGIN:STANDARD
TZOFFSETFROM:-0600
TZOFFSETTO:-0700
TZNAME:MST
DTSTART:20241103T080000
END:STANDARD
BEGIN:DAYLIGHT
TZOFFSETFROM:-0700
TZOFFSETTO:-0600
TZNAME:MDT
DTSTART:20250309T090000
END:DAYLIGHT
BEGIN:STANDARD
TZOFFSETFROM:-0600
TZOFFSETTO:-0700
TZNAME:MST
DTSTART:20251102T080000
END:STANDARD
END:VTIMEZONE
BEGIN:VEVENT
DTSTART;TZID=America/Denver:20240801T160000
DTEND;TZID=America/Denver:20240801T190000
DTSTAMP:20260422T164617
CREATED:20240718T172923Z
LAST-MODIFIED:20240718T172923Z
UID:15238-1722528000-1722538800@buildinghopesummit.org
SUMMARY:Resource Palooza
DESCRIPTION:Fabulous Community Resources \nFREE Headphones and Learning Supplies \nJoin Us for a Fun\, FREE\, Community Event for All Ages
URL:https://buildinghopesummit.org/es/calendar_default/resource-palooza/
ATTACH;FMTTYPE=image/png:https://buildinghopesummit.org/wp-content/uploads/2024/07/R-Palooza.png
END:VEVENT
BEGIN:VEVENT
DTSTART;TZID=America/Denver:20240803T170000
DTEND;TZID=America/Denver:20240803T183000
DTSTAMP:20260422T164617
CREATED:20240627T194907Z
LAST-MODIFIED:20240627T194907Z
UID:15072-1722704400-1722709800@buildinghopesummit.org
SUMMARY:GRUPO DE APOYO PARA MAMÁS EXPECTANTES O  POSPARTO
DESCRIPTION:Estoy emocionada de ofrecer apoyo emocional y mental a este\nnuevo grupo de personas que se identifican como Latinas\, mamás\nexpectantes\, mamás con un recién nacido e hispano-hablantes. \nÚnase a nosotros en un lugar seguro para compartir experiencias\,\nreír\, llorar\, practicar habilidades de afrontamiento\, construir\namistades y aprender a que en la vida NO ESTAS SOLA.
URL:https://buildinghopesummit.org/es/calendar_default/grupo-de-apoyo-para-mamas-expectantes-o-posparto/
ATTACH;FMTTYPE=image/png:https://buildinghopesummit.org/wp-content/uploads/2024/06/Spanish-Group.png
END:VEVENT
BEGIN:VEVENT
DTSTART;TZID=America/Denver:20240806T173000
DTEND;TZID=America/Denver:20240806T183000
DTSTAMP:20260422T164617
CREATED:20240627T200502Z
LAST-MODIFIED:20240627T200502Z
UID:15109-1722965400-1722969000@buildinghopesummit.org
SUMMARY:Family Unity Network
DESCRIPTION:Helping and assisting fellow parents \nA place for discussion and listening to better understand parenting needs \n 
URL:https://buildinghopesummit.org/es/calendar_default/family-unity-network-2/
ATTACH;FMTTYPE=image/png:https://buildinghopesummit.org/wp-content/uploads/2024/06/Family-Support-Group-MHBHC.png
END:VEVENT
BEGIN:VEVENT
DTSTART;TZID=America/Denver:20240807T090000
DTEND;TZID=America/Denver:20240807T170000
DTSTAMP:20260422T164617
CREATED:20240718T173350Z
LAST-MODIFIED:20240718T173350Z
UID:15242-1723021200-1723050000@buildinghopesummit.org
SUMMARY:Storytelling Retreat
DESCRIPTION:Facilitated by Sarah Gaer\, MA and Dr. Sally Spencer-Thomas \nAt SpeakUpReachOut\, we believe that storytelling saves lives. If you are a person who has faced adversity and life challenges\, like mental illness\, suicidal thoughts\, addiction\, alcohol and substance misuse\, post-traumatic stress disorder\, or any other trauma\, and you want to learn how to share your story with others\, this is for you. \nJoin us to learn the “hero’s journey” strategy for how to tell your personal story\, to share how you lived through the trials and tribulations of recovery\, and to be part of an effort to help others who are now facing similar situations. With group feedback\, stories will be perfected and shared. This day-long retreat is facilitated by Sarah Gaer and Dr. Sally Spencer-Thomas\, storytelling mental health advocates with their own lived experience with mental health and suicide. \nOpen to community members 18+ who are interested in developing their stories around mental illness\, suicidal ideation\, substance misuse or other life challenges.
URL:https://buildinghopesummit.org/es/calendar_default/storytelling-retreat/
ATTACH;FMTTYPE=image/png:https://buildinghopesummit.org/wp-content/uploads/2024/07/StorytellingRetreat.png
END:VEVENT
BEGIN:VEVENT
DTSTART;TZID=America/Denver:20240807T100000
DTEND;TZID=America/Denver:20240807T120000
DTSTAMP:20260422T164617
CREATED:20240719T191843Z
LAST-MODIFIED:20240722T143900Z
UID:15275-1723024800-1723032000@buildinghopesummit.org
SUMMARY:HYPE: Day at Summit Valley Horse Center
DESCRIPTION:Join the HYPE for a day at the Summit Valley Horse Center and learn about the connection between humans and horses!
URL:https://buildinghopesummit.org/es/calendar_default/hype-day-at-summit-valley-horse-center-2/
LOCATION:35405 Colorado 9 Silverthorne\, 35405\, Silverthorne\, CO\, 80498\, United States
CATEGORIES:Hype
END:VEVENT
BEGIN:VEVENT
DTSTART;TZID=America/Denver:20240807T110000
DTEND;TZID=America/Denver:20240807T114500
DTSTAMP:20260422T164617
CREATED:20240529T163759Z
LAST-MODIFIED:20240529T163759Z
UID:14740-1723028400-1723031100@buildinghopesummit.org
SUMMARY:Stress Less at SMS (Girls Group)
DESCRIPTION:This group is for students transitioning from Summit Elementary schools into Summit Middle School \nFolleto español
URL:https://buildinghopesummit.org/es/calendar_default/stress-less-at-sms-girls-group-4/
ATTACH;FMTTYPE=image/png:https://buildinghopesummit.org/wp-content/uploads/2024/05/Picture1.png
END:VEVENT
BEGIN:VEVENT
DTSTART;TZID=America/Denver:20240807T130000
DTEND;TZID=America/Denver:20240807T134500
DTSTAMP:20260422T164617
CREATED:20240529T163401Z
LAST-MODIFIED:20240529T163401Z
UID:14727-1723035600-1723038300@buildinghopesummit.org
SUMMARY:Stress Less at SMS (Boys Group)
DESCRIPTION:This group is for students transitioning from Summit Elementary schools into Summit Middle School \nFolleto español
URL:https://buildinghopesummit.org/es/calendar_default/stress-less-at-sms-boys-group-5/
ATTACH;FMTTYPE=image/png:https://buildinghopesummit.org/wp-content/uploads/2024/05/Picture1.png
END:VEVENT
BEGIN:VEVENT
DTSTART;TZID=America/Denver:20240807T170000
DTEND;TZID=America/Denver:20240807T180000
DTSTAMP:20260422T164617
CREATED:20240716T195219Z
LAST-MODIFIED:20240716T195219Z
UID:15204-1723050000-1723053600@buildinghopesummit.org
SUMMARY:Peer Recovery Group
DESCRIPTION:As peers\, we’re here to support each other on our journeys. Our mission is to heal\, inspire and transform our lives\, one step at a time. Whether you’re actively using substances or not\, you’re welcome here. Let’s share our stories\, uplift one another\, and create a brighter future together.
URL:https://buildinghopesummit.org/es/calendar_default/peer-recovery-group/
END:VEVENT
BEGIN:VEVENT
DTSTART;TZID=America/Denver:20240808T180000
DTEND;TZID=America/Denver:20240808T203000
DTSTAMP:20260422T164617
CREATED:20240718T204905Z
LAST-MODIFIED:20240722T154108Z
UID:15271-1723140000-1723149000@buildinghopesummit.org
SUMMARY:Community Conversation - Substance Use Disorder Treatment in Summit County
DESCRIPTION:Join us for an important community event focused on reducing stigma around Substance Use Disorders (SUD). Food will be provided. This event is free and open to everyone.
URL:https://buildinghopesummit.org/es/calendar_default/community-conversation-substance-use-disorder-treatment-in-summit-county/
CATEGORIES:Trainings
ATTACH;FMTTYPE=image/png:https://buildinghopesummit.org/wp-content/uploads/2024/07/Community-Convo-24.png
END:VEVENT
BEGIN:VEVENT
DTSTART;TZID=America/Denver:20240810T170000
DTEND;TZID=America/Denver:20240810T183000
DTSTAMP:20260422T164617
CREATED:20240627T195419Z
LAST-MODIFIED:20240627T195419Z
UID:15089-1723309200-1723314600@buildinghopesummit.org
SUMMARY:GRUPO DE APOYO PARA MAMÁS EXPECTANTES O  POSPARTO
DESCRIPTION:Estoy emocionada de ofrecer apoyo emocional y mental a este\nnuevo grupo de personas que se identifican como Latinas\, mamás\nexpectantes\, mamás con un recién nacido e hispano-hablantes. \nÚnase a nosotros en un lugar seguro para compartir experiencias\,\nreír\, llorar\, practicar habilidades de afrontamiento\, construir\namistades y aprender a que en la vida NO ESTAS SOLA.
URL:https://buildinghopesummit.org/es/calendar_default/grupo-de-apoyo-para-mamas-expectantes-o-posparto-2/
ATTACH;FMTTYPE=image/png:https://buildinghopesummit.org/wp-content/uploads/2024/06/Spanish-Group.png
END:VEVENT
BEGIN:VEVENT
DTSTART;TZID=America/Denver:20240812T170000
DTEND;TZID=America/Denver:20240812T183000
DTSTAMP:20260422T164617
CREATED:20240730T160335Z
LAST-MODIFIED:20240730T160335Z
UID:15321-1723482000-1723487400@buildinghopesummit.org
SUMMARY:Genuine Art Therapy
DESCRIPTION:This art therapy support group will guide you through a series of Art Therapy Directives focused on learning interpersonal skills\, boundary setting\, and mindfulness based techniques to enlighten and encourage the best you to emerge. \nEmail for details: creatalityrelations@gmail.com \n 
URL:https://buildinghopesummit.org/es/calendar_default/genuine-art-therapy/
ATTACH;FMTTYPE=image/png:https://buildinghopesummit.org/wp-content/uploads/2024/07/Art-Therapy-Support-Group-August-October.png
END:VEVENT
BEGIN:VEVENT
DTSTART;TZID=America/Denver:20240813T190000
DTEND;TZID=America/Denver:20240813T203000
DTSTAMP:20260422T164617
CREATED:20240618T193811Z
LAST-MODIFIED:20240618T193811Z
UID:14967-1723575600-1723581000@buildinghopesummit.org
SUMMARY:Family Support Group in Person and Zoom
DESCRIPTION:We are pleased to announce that we will once again meet in-person for our Family Support Group!  The meetings are on the 2nd and 4th Tuesdays at the Summit County Community and Senior Center in Frisco at 83 Nancy’s Place (7-8:30pm)
URL:https://buildinghopesummit.org/es/calendar_default/family-support-group-in-person-and-zoom-10/
ATTACH;FMTTYPE=image/jpeg:https://buildinghopesummit.org/wp-content/uploads/2023/12/debby-hudson-jcc8sxK2Adw-unsplash-1000px.jpeg
END:VEVENT
BEGIN:VEVENT
DTSTART;TZID=America/Denver:20240814T100000
DTEND;TZID=America/Denver:20240814T123000
DTSTAMP:20260422T164617
CREATED:20240719T193140Z
LAST-MODIFIED:20240722T153820Z
UID:15281-1723629600-1723638600@buildinghopesummit.org
SUMMARY:HYPE Aerial Adventure
DESCRIPTION:Challenge yourself and build confidence with an Aerial Adventure! Participation is limited to Summit County Residents ages 12-18
URL:https://buildinghopesummit.org/es/calendar_default/aerial-adventure/
LOCATION:Arapahoe Basin Dillon\, Dillon\, Dillon\, CO\, 80435\, United States
CATEGORIES:Hype
END:VEVENT
BEGIN:VEVENT
DTSTART;TZID=America/Denver:20240814T110000
DTEND;TZID=America/Denver:20240814T114500
DTSTAMP:20260422T164617
CREATED:20240529T163808Z
LAST-MODIFIED:20240529T163808Z
UID:14741-1723633200-1723635900@buildinghopesummit.org
SUMMARY:Stress Less at SMS (Girls Group)
DESCRIPTION:This group is for students transitioning from Summit Elementary schools into Summit Middle School \nFolleto español
URL:https://buildinghopesummit.org/es/calendar_default/stress-less-at-sms-girls-group-5/
ATTACH;FMTTYPE=image/png:https://buildinghopesummit.org/wp-content/uploads/2024/05/Picture1.png
END:VEVENT
BEGIN:VEVENT
DTSTART;TZID=America/Denver:20240814T110000
DTEND;TZID=America/Denver:20240814T160000
DTSTAMP:20260422T164617
CREATED:20240618T195320Z
LAST-MODIFIED:20240618T195320Z
UID:15008-1723633200-1723651200@buildinghopesummit.org
SUMMARY:FREE Rapid STI Testing
DESCRIPTION:
URL:https://buildinghopesummit.org/es/calendar_default/free-rapid-sti-testing-6/
ATTACH;FMTTYPE=image/png:https://buildinghopesummit.org/wp-content/uploads/2024/04/Rapid-STI-testing.png
END:VEVENT
BEGIN:VEVENT
DTSTART;TZID=America/Denver:20240814T130000
DTEND;TZID=America/Denver:20240814T134500
DTSTAMP:20260422T164617
CREATED:20240529T163410Z
LAST-MODIFIED:20240529T163410Z
UID:14728-1723640400-1723643100@buildinghopesummit.org
SUMMARY:Stress Less at SMS (Boys Group)
DESCRIPTION:This group is for students transitioning from Summit Elementary schools into Summit Middle School \nFolleto español
URL:https://buildinghopesummit.org/es/calendar_default/stress-less-at-sms-boys-group-6/
ATTACH;FMTTYPE=image/png:https://buildinghopesummit.org/wp-content/uploads/2024/05/Picture1.png
END:VEVENT
BEGIN:VEVENT
DTSTART;TZID=America/Denver:20240814T170000
DTEND;TZID=America/Denver:20240814T180000
DTSTAMP:20260422T164617
CREATED:20240716T201018Z
LAST-MODIFIED:20240716T201018Z
UID:15215-1723654800-1723658400@buildinghopesummit.org
SUMMARY:Peer Recovery Group
DESCRIPTION:As peers\, we’re here to support each other on our journeys. Our mission is to heal\, inspire and transform our lives\, one step at a time. Whether you’re actively using substances or not\, you’re welcome here. Let’s share our stories\, uplift one another\, and create a brighter future together.
URL:https://buildinghopesummit.org/es/calendar_default/peer-recovery-group-2/
END:VEVENT
BEGIN:VEVENT
DTSTART;TZID=America/Denver:20240815T090000
DTEND;TZID=America/Denver:20240815T123000
DTSTAMP:20260422T164617
CREATED:20240719T194245Z
LAST-MODIFIED:20240719T194245Z
UID:15285-1723712400-1723725000@buildinghopesummit.org
SUMMARY:HYPE: Kayaking on Lake Dillon with BOEC | Ages 12 -18
DESCRIPTION:Kayaking on Lake Dillon with BOEC! Participation is limited to Summit County Residents ages 12-18.
URL:https://buildinghopesummit.org/es/calendar_default/hype-kayaking-on-lake-dillon-with-boec-ages-12-18/
LOCATION:FRISCO BAY\, 267 Marina Road Frisco\, Dillon\, CO\, 80435\, United States
CATEGORIES:Hype
END:VEVENT
BEGIN:VEVENT
DTSTART;TZID=America/Denver:20240816T100000
DTEND;TZID=America/Denver:20240816T120000
DTSTAMP:20260422T164617
CREATED:20240719T195115Z
LAST-MODIFIED:20240719T195115Z
UID:15290-1723802400-1723809600@buildinghopesummit.org
SUMMARY:Mindfulness Hike along Trail Mix
DESCRIPTION:Immerse yourself in the healing powers of art and nature on these excursions featuring the Breckenridge International Festival of Arts art installation by Megan Geckler and Gerald Clarke. Mindfulness expert\, Leslie Glenn\, guides participants through personal reflection and creates meaningful conversations centered on mental health and wellbeing along the trail.
URL:https://buildinghopesummit.org/es/calendar_default/mindfulness-hike-along-trail-mix/
LOCATION:Iowa Hill Trail\, W. Airport Rd Breckenridge\, Breckenridge\, CO\, 80424\, United States
CATEGORIES:Connecting Events
END:VEVENT
BEGIN:VEVENT
DTSTART;TZID=America/Denver:20240817T170000
DTEND;TZID=America/Denver:20240817T183000
DTSTAMP:20260422T164617
CREATED:20240627T195427Z
LAST-MODIFIED:20240627T195427Z
UID:15088-1723914000-1723919400@buildinghopesummit.org
SUMMARY:GRUPO DE APOYO PARA MAMÁS EXPECTANTES O  POSPARTO
DESCRIPTION:Estoy emocionada de ofrecer apoyo emocional y mental a este\nnuevo grupo de personas que se identifican como Latinas\, mamás\nexpectantes\, mamás con un recién nacido e hispano-hablantes. \nÚnase a nosotros en un lugar seguro para compartir experiencias\,\nreír\, llorar\, practicar habilidades de afrontamiento\, construir\namistades y aprender a que en la vida NO ESTAS SOLA.
URL:https://buildinghopesummit.org/es/calendar_default/grupo-de-apoyo-para-mamas-expectantes-o-posparto-3/
ATTACH;FMTTYPE=image/png:https://buildinghopesummit.org/wp-content/uploads/2024/06/Spanish-Group.png
END:VEVENT
BEGIN:VEVENT
DTSTART;TZID=America/Denver:20240818T090000
DTEND;TZID=America/Denver:20240818T120000
DTSTAMP:20260422T164617
CREATED:20240812T214205Z
LAST-MODIFIED:20240812T214205Z
UID:15425-1723971600-1723982400@buildinghopesummit.org
SUMMARY:Mountain Mentors Fundraiser Breakfast
DESCRIPTION:
URL:https://buildinghopesummit.org/es/calendar_default/mountain-mentors-fundraiser-breakfast/
END:VEVENT
BEGIN:VEVENT
DTSTART;TZID=America/Denver:20240818T190000
DTEND;TZID=America/Denver:20240818T200000
DTSTAMP:20260422T164617
CREATED:20240718T190926Z
LAST-MODIFIED:20240718T190926Z
UID:15248-1724007600-1724011200@buildinghopesummit.org
SUMMARY:Acoustic Flow - Breckenridge International Festival of Arts
DESCRIPTION:These 60-minute morning classes combine music\, nature and wellness along the relaxing shores of the Blue River. Each day features a different local yoga instructor and musical ensemble. Linger before or after class to enjoy a cup of coffee with friends and visit the Building Hope table providing mental health and wellness resources.
URL:https://buildinghopesummit.org/es/calendar_default/acoustic-flow-breckenridge-international-festival-of-arts/
ATTACH;FMTTYPE=image/jpeg:https://buildinghopesummit.org/wp-content/uploads/2024/07/4d9ad949a612b2575e8d108eb027be96.jpeg
END:VEVENT
BEGIN:VEVENT
DTSTART;TZID=America/Denver:20240819T080000
DTEND;TZID=America/Denver:20240819T090000
DTSTAMP:20260422T164617
CREATED:20240718T191225Z
LAST-MODIFIED:20240718T191225Z
UID:15252-1724054400-1724058000@buildinghopesummit.org
SUMMARY:Acoustic Flow - Breckenridge International Festival of Arts
DESCRIPTION:These 60-minute morning classes combine music\, nature and wellness along the relaxing shores of the Blue River. Each day features a different local yoga instructor and musical ensemble. Linger before or after class to enjoy a cup of coffee with friends and visit the Building Hope table providing mental health and wellness resources.
URL:https://buildinghopesummit.org/es/calendar_default/acoustic-flow-breckenridge-international-festival-of-arts-2/
ATTACH;FMTTYPE=image/jpeg:https://buildinghopesummit.org/wp-content/uploads/2024/07/4d9ad949a612b2575e8d108eb027be96.jpeg
END:VEVENT
BEGIN:VEVENT
DTSTART;TZID=America/Denver:20240819T170000
DTEND;TZID=America/Denver:20240819T183000
DTSTAMP:20260422T164617
CREATED:20240730T160650Z
LAST-MODIFIED:20240730T160650Z
UID:15326-1724086800-1724092200@buildinghopesummit.org
SUMMARY:Genuine Art Therapy
DESCRIPTION:This art therapy support group will guide you through a series of Art Therapy Directives focused on learning interpersonal skills\, boundary setting\, and mindfulness based techniques to enlighten and encourage the best you to emerge. \nEmail for details: creatalityrelations@gmail.com \n 
URL:https://buildinghopesummit.org/es/calendar_default/genuine-art-therapy-2/
ATTACH;FMTTYPE=image/png:https://buildinghopesummit.org/wp-content/uploads/2024/07/Art-Therapy-Support-Group-August-October.png
END:VEVENT
BEGIN:VEVENT
DTSTART;TZID=America/Denver:20240820T080000
DTEND;TZID=America/Denver:20240820T090000
DTSTAMP:20260422T164617
CREATED:20240718T191308Z
LAST-MODIFIED:20240718T191308Z
UID:15255-1724140800-1724144400@buildinghopesummit.org
SUMMARY:Acoustic Flow - Breckenridge International Festival of Arts
DESCRIPTION:These 60-minute morning classes combine music\, nature and wellness along the relaxing shores of the Blue River. Each day features a different local yoga instructor and musical ensemble. Linger before or after class to enjoy a cup of coffee with friends and visit the Building Hope table providing mental health and wellness resources.
URL:https://buildinghopesummit.org/es/calendar_default/acoustic-flow-breckenridge-international-festival-of-arts-3/
ATTACH;FMTTYPE=image/jpeg:https://buildinghopesummit.org/wp-content/uploads/2024/07/4d9ad949a612b2575e8d108eb027be96.jpeg
END:VEVENT
BEGIN:VEVENT
DTSTART;TZID=America/Denver:20240820T090000
DTEND;TZID=America/Denver:20240820T140000
DTSTAMP:20260422T164617
CREATED:20240715T205515Z
LAST-MODIFIED:20240715T205515Z
UID:15185-1724144400-1724162400@buildinghopesummit.org
SUMMARY:Mental Health First Aid for Adults Assisting Youth
DESCRIPTION:Youth Mental Health First Aid (YMHFA) teaches adults who work with youth how to identify\, understand and respond to signs of mental health and substance use challenges among children and adolescents aged 12-18.\nThe course:\n– Introduces common mental health challenges for youth\n– Reviews typical adolescent development\n– Teaches a 5-step action plan for how to help young people in both crisis and non-crisis
URL:https://buildinghopesummit.org/es/calendar_default/mental-health-first-aid-for-adults-assisting-youth-2/
ATTACH;FMTTYPE=image/png:https://buildinghopesummit.org/wp-content/uploads/2024/07/YMHFA-August-Flyer-Nicole-Batway.png
END:VEVENT
BEGIN:VEVENT
DTSTART;TZID=America/Denver:20240820T180000
DTEND;TZID=America/Denver:20240820T200000
DTSTAMP:20260422T164617
CREATED:20240719T195524Z
LAST-MODIFIED:20240719T195524Z
UID:15295-1724176800-1724184000@buildinghopesummit.org
SUMMARY:Mindfulness Hike Along Trail Mix
DESCRIPTION:Immerse yourself in the healing powers of art and nature on these excursions featuring the Breckenridge International Festival of Arts art installation by Megan Geckler and Gerald Clarke. Mindfulness expert\, Leslie Glenn\, guides participants through personal reflection and creates meaningful conversations centered on mental health and wellbeing along the trail.
URL:https://buildinghopesummit.org/es/calendar_default/mindfulness-hike-along-trail-mix-2/
LOCATION:Moonstone Trail\, Breckenridge\, Breckenridge\, CO\, 80424\, United States
CATEGORIES:Connecting Events
END:VEVENT
BEGIN:VEVENT
DTSTART;TZID=America/Denver:20240821T080000
DTEND;TZID=America/Denver:20240821T090000
DTSTAMP:20260422T164617
CREATED:20240718T191315Z
LAST-MODIFIED:20240718T191315Z
UID:15256-1724227200-1724230800@buildinghopesummit.org
SUMMARY:Acoustic Flow - Breckenridge International Festival of Arts
DESCRIPTION:These 60-minute morning classes combine music\, nature and wellness along the relaxing shores of the Blue River. Each day features a different local yoga instructor and musical ensemble. Linger before or after class to enjoy a cup of coffee with friends and visit the Building Hope table providing mental health and wellness resources.
URL:https://buildinghopesummit.org/es/calendar_default/acoustic-flow-breckenridge-international-festival-of-arts-4/
ATTACH;FMTTYPE=image/jpeg:https://buildinghopesummit.org/wp-content/uploads/2024/07/4d9ad949a612b2575e8d108eb027be96.jpeg
END:VEVENT
BEGIN:VEVENT
DTSTART;TZID=America/Denver:20240821T170000
DTEND;TZID=America/Denver:20240821T180000
DTSTAMP:20260422T164617
CREATED:20240716T201026Z
LAST-MODIFIED:20240716T201026Z
UID:15214-1724259600-1724263200@buildinghopesummit.org
SUMMARY:Peer Recovery Group
DESCRIPTION:As peers\, we’re here to support each other on our journeys. Our mission is to heal\, inspire and transform our lives\, one step at a time. Whether you’re actively using substances or not\, you’re welcome here. Let’s share our stories\, uplift one another\, and create a brighter future together.
URL:https://buildinghopesummit.org/es/calendar_default/peer-recovery-group-3/
END:VEVENT
BEGIN:VEVENT
DTSTART;TZID=America/Denver:20240822T080000
DTEND;TZID=America/Denver:20240822T090000
DTSTAMP:20260422T164617
CREATED:20240718T191325Z
LAST-MODIFIED:20240718T191325Z
UID:15257-1724313600-1724317200@buildinghopesummit.org
SUMMARY:Acoustic Flow - Breckenridge International Festival of Arts
DESCRIPTION:These 60-minute morning classes combine music\, nature and wellness along the relaxing shores of the Blue River. Each day features a different local yoga instructor and musical ensemble. Linger before or after class to enjoy a cup of coffee with friends and visit the Building Hope table providing mental health and wellness resources.
URL:https://buildinghopesummit.org/es/calendar_default/acoustic-flow-breckenridge-international-festival-of-arts-5/
ATTACH;FMTTYPE=image/jpeg:https://buildinghopesummit.org/wp-content/uploads/2024/07/4d9ad949a612b2575e8d108eb027be96.jpeg
END:VEVENT
END:VCALENDAR