BEGIN:VCALENDAR
VERSION:2.0
PRODID:-//Building Hope Summit -&nbsp; - ECPv6.15.18//NONSGML v1.0//EN
CALSCALE:GREGORIAN
METHOD:PUBLISH
X-ORIGINAL-URL:https://buildinghopesummit.org/es
X-WR-CALDESC:Eventos para Building Hope Summit -&nbsp;
REFRESH-INTERVAL;VALUE=DURATION:PT1H
X-Robots-Tag:noindex
X-PUBLISHED-TTL:PT1H
BEGIN:VTIMEZONE
TZID:America/Denver
BEGIN:DAYLIGHT
TZOFFSETFROM:-0700
TZOFFSETTO:-0600
TZNAME:MDT
DTSTART:20180311T090000
END:DAYLIGHT
BEGIN:STANDARD
TZOFFSETFROM:-0600
TZOFFSETTO:-0700
TZNAME:MST
DTSTART:20181104T080000
END:STANDARD
BEGIN:DAYLIGHT
TZOFFSETFROM:-0700
TZOFFSETTO:-0600
TZNAME:MDT
DTSTART:20190310T090000
END:DAYLIGHT
BEGIN:STANDARD
TZOFFSETFROM:-0600
TZOFFSETTO:-0700
TZNAME:MST
DTSTART:20191103T080000
END:STANDARD
BEGIN:DAYLIGHT
TZOFFSETFROM:-0700
TZOFFSETTO:-0600
TZNAME:MDT
DTSTART:20200308T090000
END:DAYLIGHT
BEGIN:STANDARD
TZOFFSETFROM:-0600
TZOFFSETTO:-0700
TZNAME:MST
DTSTART:20201101T080000
END:STANDARD
END:VTIMEZONE
BEGIN:VEVENT
DTSTART;TZID=America/Denver:20190807T180000
DTEND;TZID=America/Denver:20190807T180000
DTSTAMP:20260424T113731
CREATED:20210519T043711Z
LAST-MODIFIED:20210519T043711Z
UID:2426-1565200800-1565200800@buildinghopesummit.org
SUMMARY:Community Yoga at Point Dillon Park
DESCRIPTION:
URL:https://buildinghopesummit.org/es/calendar_default/community-yoga-at-point-dillon-park-2/
LOCATION:CO
END:VEVENT
BEGIN:VEVENT
DTSTART;TZID=America/Denver:20190807T180000
DTEND;TZID=America/Denver:20190807T180000
DTSTAMP:20260424T113731
CREATED:20210519T043712Z
LAST-MODIFIED:20210519T043712Z
UID:2427-1565200800-1565200800@buildinghopesummit.org
SUMMARY:2nd Mental Health Provider Mixer!
DESCRIPTION:
URL:https://buildinghopesummit.org/es/calendar_default/2nd-mental-health-provider-mixer/
LOCATION:CO
END:VEVENT
END:VCALENDAR