BEGIN:VCALENDAR
VERSION:2.0
PRODID:-//Building Hope Summit -&nbsp; - ECPv6.15.18//NONSGML v1.0//EN
CALSCALE:GREGORIAN
METHOD:PUBLISH
X-WR-CALNAME:Building Hope Summit -&nbsp;
X-ORIGINAL-URL:https://buildinghopesummit.org/es
X-WR-CALDESC:Eventos para Building Hope Summit -&nbsp;
REFRESH-INTERVAL;VALUE=DURATION:PT1H
X-Robots-Tag:noindex
X-PUBLISHED-TTL:PT1H
BEGIN:VTIMEZONE
TZID:America/Denver
BEGIN:DAYLIGHT
TZOFFSETFROM:-0700
TZOFFSETTO:-0600
TZNAME:MDT
DTSTART:20200308T090000
END:DAYLIGHT
BEGIN:STANDARD
TZOFFSETFROM:-0600
TZOFFSETTO:-0700
TZNAME:MST
DTSTART:20201101T080000
END:STANDARD
BEGIN:DAYLIGHT
TZOFFSETFROM:-0700
TZOFFSETTO:-0600
TZNAME:MDT
DTSTART:20210314T090000
END:DAYLIGHT
BEGIN:STANDARD
TZOFFSETFROM:-0600
TZOFFSETTO:-0700
TZNAME:MST
DTSTART:20211107T080000
END:STANDARD
BEGIN:DAYLIGHT
TZOFFSETFROM:-0700
TZOFFSETTO:-0600
TZNAME:MDT
DTSTART:20220313T090000
END:DAYLIGHT
BEGIN:STANDARD
TZOFFSETFROM:-0600
TZOFFSETTO:-0700
TZNAME:MST
DTSTART:20221106T080000
END:STANDARD
END:VTIMEZONE
BEGIN:VEVENT
DTSTART;TZID=America/Denver:20210427T120000
DTEND;TZID=America/Denver:20210427T120000
DTSTAMP:20260420T071811
CREATED:20210519T043933Z
LAST-MODIFIED:20210519T043933Z
UID:2609-1619524800-1619524800@buildinghopesummit.org
SUMMARY:Psychedelics and the Future of Mental Health
DESCRIPTION:
URL:https://buildinghopesummit.org/es/calendar_default/psychedelics-and-the-future-of-mental-health/
LOCATION:Colorado
END:VEVENT
BEGIN:VEVENT
DTSTART;TZID=America/Denver:20210427T180000
DTEND;TZID=America/Denver:20210427T180000
DTSTAMP:20260420T071811
CREATED:20210519T043934Z
LAST-MODIFIED:20210519T043934Z
UID:2610-1619546400-1619546400@buildinghopesummit.org
SUMMARY:Connection and Compassion: Gentle Community Yoga
DESCRIPTION:
URL:https://buildinghopesummit.org/es/calendar_default/connection-and-compassion-gentle-community-yoga/
LOCATION:Colorado
END:VEVENT
BEGIN:VEVENT
DTSTART;TZID=America/Denver:20210427T190000
DTEND;TZID=America/Denver:20210427T190000
DTSTAMP:20260420T071811
CREATED:20210519T043409Z
LAST-MODIFIED:20210602T143517Z
UID:2340-1619550000-1619550000@buildinghopesummit.org
SUMMARY:the hype sample event
DESCRIPTION:
URL:https://buildinghopesummit.org/es/calendar_default/the-hype-sample-event/
LOCATION:Colorado
CATEGORIES:Hype
END:VEVENT
END:VCALENDAR