BEGIN:VCALENDAR
VERSION:2.0
PRODID:-//Building Hope Summit -&nbsp; - ECPv6.15.18//NONSGML v1.0//EN
CALSCALE:GREGORIAN
METHOD:PUBLISH
X-WR-CALNAME:Building Hope Summit -&nbsp;
X-ORIGINAL-URL:https://buildinghopesummit.org/es
X-WR-CALDESC:Eventos para Building Hope Summit -&nbsp;
REFRESH-INTERVAL;VALUE=DURATION:PT1H
X-Robots-Tag:noindex
X-PUBLISHED-TTL:PT1H
BEGIN:VTIMEZONE
TZID:America/Denver
BEGIN:DAYLIGHT
TZOFFSETFROM:-0700
TZOFFSETTO:-0600
TZNAME:MDT
DTSTART:20200308T090000
END:DAYLIGHT
BEGIN:STANDARD
TZOFFSETFROM:-0600
TZOFFSETTO:-0700
TZNAME:MST
DTSTART:20201101T080000
END:STANDARD
BEGIN:DAYLIGHT
TZOFFSETFROM:-0700
TZOFFSETTO:-0600
TZNAME:MDT
DTSTART:20210314T090000
END:DAYLIGHT
BEGIN:STANDARD
TZOFFSETFROM:-0600
TZOFFSETTO:-0700
TZNAME:MST
DTSTART:20211107T080000
END:STANDARD
BEGIN:DAYLIGHT
TZOFFSETFROM:-0700
TZOFFSETTO:-0600
TZNAME:MDT
DTSTART:20220313T090000
END:DAYLIGHT
BEGIN:STANDARD
TZOFFSETFROM:-0600
TZOFFSETTO:-0700
TZNAME:MST
DTSTART:20221106T080000
END:STANDARD
END:VTIMEZONE
BEGIN:VEVENT
DTSTART;TZID=America/Denver:20210608T130000
DTEND;TZID=America/Denver:20210608T160000
DTSTAMP:20260425T103101
CREATED:20210519T112516Z
LAST-MODIFIED:20210714T101510Z
UID:2720-1623157200-1623168000@buildinghopesummit.org
SUMMARY:The HYPE:  Rock Climbing at Swan Mountain
DESCRIPTION:The HYPE: BOEC Rock Climbing at Swan Mountain for Ages 12-20
URL:https://buildinghopesummit.org/es/calendar_default/the-hype-rock-climbing-at-swan-mountain-2/
LOCATION:Swan Mountain-Prospector Campground\, White River National Forest\, Dillon\, CO\, 80435\, United States
CATEGORIES:Hype
ATTACH;FMTTYPE=image/jpeg:https://buildinghopesummit.org/wp-content/uploads/2021/05/33d28e96d13816ff6101308dfef5e8bc.jpg
END:VEVENT
END:VCALENDAR