BEGIN:VCALENDAR
VERSION:2.0
PRODID:-//Building Hope Summit -&nbsp; - ECPv6.15.18//NONSGML v1.0//EN
CALSCALE:GREGORIAN
METHOD:PUBLISH
X-ORIGINAL-URL:https://buildinghopesummit.org/es
X-WR-CALDESC:Eventos para Building Hope Summit -&nbsp;
REFRESH-INTERVAL;VALUE=DURATION:PT1H
X-Robots-Tag:noindex
X-PUBLISHED-TTL:PT1H
BEGIN:VTIMEZONE
TZID:America/Denver
BEGIN:DAYLIGHT
TZOFFSETFROM:-0700
TZOFFSETTO:-0600
TZNAME:MDT
DTSTART:20200308T090000
END:DAYLIGHT
BEGIN:STANDARD
TZOFFSETFROM:-0600
TZOFFSETTO:-0700
TZNAME:MST
DTSTART:20201101T080000
END:STANDARD
BEGIN:DAYLIGHT
TZOFFSETFROM:-0700
TZOFFSETTO:-0600
TZNAME:MDT
DTSTART:20210314T090000
END:DAYLIGHT
BEGIN:STANDARD
TZOFFSETFROM:-0600
TZOFFSETTO:-0700
TZNAME:MST
DTSTART:20211107T080000
END:STANDARD
BEGIN:DAYLIGHT
TZOFFSETFROM:-0700
TZOFFSETTO:-0600
TZNAME:MDT
DTSTART:20220313T090000
END:DAYLIGHT
BEGIN:STANDARD
TZOFFSETFROM:-0600
TZOFFSETTO:-0700
TZNAME:MST
DTSTART:20221106T080000
END:STANDARD
END:VTIMEZONE
BEGIN:VEVENT
DTSTART;TZID=America/Denver:20210623T090000
DTEND;TZID=America/Denver:20210623T120000
DTSTAMP:20260424T194305
CREATED:20210519T113517Z
LAST-MODIFIED:20210714T101504Z
UID:2740-1624438800-1624449600@buildinghopesummit.org
SUMMARY:The HYPE:  Ropes Course 12-20
DESCRIPTION:The HYPE:  Ropes Course 12-20
URL:https://buildinghopesummit.org/es/calendar_default/the-hype-ropes-course-12-20-7/
LOCATION:BOEC Griffith Lodge\, 300 Snowy Ridge Road\, Breckenridge\, CO\, 80424\, United States
CATEGORIES:Hype
ATTACH;FMTTYPE=image/jpeg:https://buildinghopesummit.org/wp-content/uploads/2021/05/eb25d8d86e137b0d018626a94d74d8ab.jpg
END:VEVENT
END:VCALENDAR