BEGIN:VCALENDAR
VERSION:2.0
PRODID:-//Building Hope Summit -&nbsp; - ECPv6.15.18//NONSGML v1.0//EN
CALSCALE:GREGORIAN
METHOD:PUBLISH
X-ORIGINAL-URL:https://buildinghopesummit.org/es
X-WR-CALDESC:Eventos para Building Hope Summit -&nbsp;
REFRESH-INTERVAL;VALUE=DURATION:PT1H
X-Robots-Tag:noindex
X-PUBLISHED-TTL:PT1H
BEGIN:VTIMEZONE
TZID:America/Denver
BEGIN:DAYLIGHT
TZOFFSETFROM:-0700
TZOFFSETTO:-0600
TZNAME:MDT
DTSTART:20210314T090000
END:DAYLIGHT
BEGIN:STANDARD
TZOFFSETFROM:-0600
TZOFFSETTO:-0700
TZNAME:MST
DTSTART:20211107T080000
END:STANDARD
BEGIN:DAYLIGHT
TZOFFSETFROM:-0700
TZOFFSETTO:-0600
TZNAME:MDT
DTSTART:20220313T090000
END:DAYLIGHT
BEGIN:STANDARD
TZOFFSETFROM:-0600
TZOFFSETTO:-0700
TZNAME:MST
DTSTART:20221106T080000
END:STANDARD
BEGIN:DAYLIGHT
TZOFFSETFROM:-0700
TZOFFSETTO:-0600
TZNAME:MDT
DTSTART:20230312T090000
END:DAYLIGHT
BEGIN:STANDARD
TZOFFSETFROM:-0600
TZOFFSETTO:-0700
TZNAME:MST
DTSTART:20231105T080000
END:STANDARD
END:VTIMEZONE
BEGIN:VEVENT
DTSTART;TZID=America/Denver:20220922T150000
DTEND;TZID=America/Denver:20220922T170000
DTSTAMP:20260420T083827
CREATED:20220815T161909Z
LAST-MODIFIED:20220918T015319Z
UID:9024-1663858800-1663866000@buildinghopesummit.org
SUMMARY:HYPE: Art with Ms. Fischer!
DESCRIPTION:Join the HYPE to create your own art project! Ages 12-18\n\n\nJoin the HYPE with Ms. Fischer to learn how to  create your own ART projects! Participation limited to Summit County residents ages 12-18. \n—————————————————————————————– \n¡Únase al HYPE con Ms. Fischer para aprender a crear sus propios proyectos de ARTE! La participación está limitada a los residentes del condado de Summit de 12 a 18 años.
URL:https://buildinghopesummit.org/es/calendar_default/hype-art-with-ms-fischer-11/
LOCATION:Room 1504 – Summit High School\, 16201 CO-9\, Breckenridge\, CO\, 80424\, United States
CATEGORIES:Hype
ATTACH;FMTTYPE=image/jpeg:https://buildinghopesummit.org/wp-content/uploads/2022/08/3b3e706fc5494ae1f53525c9b8b6367e.jpg
END:VEVENT
END:VCALENDAR