BEGIN:VCALENDAR
VERSION:2.0
PRODID:-//Building Hope Summit -&nbsp; - ECPv6.15.18//NONSGML v1.0//EN
CALSCALE:GREGORIAN
METHOD:PUBLISH
X-WR-CALNAME:Building Hope Summit -&nbsp;
X-ORIGINAL-URL:https://buildinghopesummit.org/es
X-WR-CALDESC:Eventos para Building Hope Summit -&nbsp;
REFRESH-INTERVAL;VALUE=DURATION:PT1H
X-Robots-Tag:noindex
X-PUBLISHED-TTL:PT1H
BEGIN:VTIMEZONE
TZID:America/Denver
BEGIN:DAYLIGHT
TZOFFSETFROM:-0700
TZOFFSETTO:-0600
TZNAME:MDT
DTSTART:20230312T090000
END:DAYLIGHT
BEGIN:STANDARD
TZOFFSETFROM:-0600
TZOFFSETTO:-0700
TZNAME:MST
DTSTART:20231105T080000
END:STANDARD
BEGIN:DAYLIGHT
TZOFFSETFROM:-0700
TZOFFSETTO:-0600
TZNAME:MDT
DTSTART:20240310T090000
END:DAYLIGHT
BEGIN:STANDARD
TZOFFSETFROM:-0600
TZOFFSETTO:-0700
TZNAME:MST
DTSTART:20241103T080000
END:STANDARD
BEGIN:DAYLIGHT
TZOFFSETFROM:-0700
TZOFFSETTO:-0600
TZNAME:MDT
DTSTART:20250309T090000
END:DAYLIGHT
BEGIN:STANDARD
TZOFFSETFROM:-0600
TZOFFSETTO:-0700
TZNAME:MST
DTSTART:20251102T080000
END:STANDARD
END:VTIMEZONE
BEGIN:VEVENT
DTSTART;TZID=America/Denver:20240123T173000
DTEND;TZID=America/Denver:20240123T200000
DTSTAMP:20260425T222817
CREATED:20240116T184048Z
LAST-MODIFIED:20240116T184048Z
UID:13381-1706031000-1706040000@buildinghopesummit.org
SUMMARY:Community Conversation: Summit County Behavioral Health Mobile Crisis Response System
DESCRIPTION:Join Building Hope for an evening of discussion and learning with our Summit County partners involved in providing Behavioral Health Mobile Crisis Response and Intervention to the community.
URL:https://buildinghopesummit.org/es/calendar_default/community-conversation-summit-county-behavioral-health-mobile-crisis-response-system-2/
LOCATION:CO
ATTACH;FMTTYPE=image/png:https://buildinghopesummit.org/wp-content/uploads/2024/01/head-and-hands-pic.png
END:VEVENT
BEGIN:VEVENT
DTSTART;TZID=America/Denver:20240123T180000
DTEND;TZID=America/Denver:20240123T193000
DTSTAMP:20260425T222817
CREATED:20231219T181646Z
LAST-MODIFIED:20231219T181646Z
UID:13185-1706032800-1706038200@buildinghopesummit.org
SUMMARY:Expressive Art-Healing Hearts Canvas Bags
DESCRIPTION:Join expressive artist Kathye Conti to explore the role art plays in promoting personal well-being and connectedness
URL:https://buildinghopesummit.org/es/calendar_default/expressive-art-healing-hearts-canvas-bags-4/
LOCATION:CO
CATEGORIES:Connecting Events
ATTACH;FMTTYPE=image/jpeg:https://buildinghopesummit.org/wp-content/uploads/2023/12/debby-hudson-jcc8sxK2Adw-unsplash-1000px.jpeg
END:VEVENT
END:VCALENDAR