BEGIN:VCALENDAR
VERSION:2.0
PRODID:-//Building Hope Summit -&nbsp; - ECPv6.15.18//NONSGML v1.0//EN
CALSCALE:GREGORIAN
METHOD:PUBLISH
X-WR-CALNAME:Building Hope Summit -&nbsp;
X-ORIGINAL-URL:https://buildinghopesummit.org/es
X-WR-CALDESC:Eventos para Building Hope Summit -&nbsp;
REFRESH-INTERVAL;VALUE=DURATION:PT1H
X-Robots-Tag:noindex
X-PUBLISHED-TTL:PT1H
BEGIN:VTIMEZONE
TZID:America/Denver
BEGIN:DAYLIGHT
TZOFFSETFROM:-0700
TZOFFSETTO:-0600
TZNAME:MDT
DTSTART:20230312T090000
END:DAYLIGHT
BEGIN:STANDARD
TZOFFSETFROM:-0600
TZOFFSETTO:-0700
TZNAME:MST
DTSTART:20231105T080000
END:STANDARD
BEGIN:DAYLIGHT
TZOFFSETFROM:-0700
TZOFFSETTO:-0600
TZNAME:MDT
DTSTART:20240310T090000
END:DAYLIGHT
BEGIN:STANDARD
TZOFFSETFROM:-0600
TZOFFSETTO:-0700
TZNAME:MST
DTSTART:20241103T080000
END:STANDARD
BEGIN:DAYLIGHT
TZOFFSETFROM:-0700
TZOFFSETTO:-0600
TZNAME:MDT
DTSTART:20250309T090000
END:DAYLIGHT
BEGIN:STANDARD
TZOFFSETFROM:-0600
TZOFFSETTO:-0700
TZNAME:MST
DTSTART:20251102T080000
END:STANDARD
END:VTIMEZONE
BEGIN:VEVENT
DTSTART;TZID=America/Denver:20241114T180000
DTEND;TZID=America/Denver:20241114T200000
DTSTAMP:20260425T085928
CREATED:20241017T161016Z
LAST-MODIFIED:20241017T161016Z
UID:15903-1731607200-1731614400@buildinghopesummit.org
SUMMARY:Women’s Sharing Circle-Yoga-Meditation with Thrive/Connectedness
DESCRIPTION:Whatever you are seeking peace\, connection\, or self-discovery\, this event offers a nurturing space for all. Come us you are and leave feeling centered and inspired!\nOpen to all female-identifying adult Summit County residents.\nEvent Facilitated in English and Spanish.\n————————————\nYa sea que busques paz\, conexion o autodescubrimiento \, este evento ofrece un espacio nutritivo para todos. Ven tal como eres y sal sintiendote centrada e inspirada!.\nEl evento se ofrecera en Ingles y Espanol.\n————————————
URL:https://buildinghopesummit.org/es/calendar_default/womens-sharing-circle-yoga-meditation-with-thrive-connectedness/
LOCATION:The Pad\, 491 Rainbow Rd\, Silverthorne\, CO\, 80498\, United States
CATEGORIES:Connecting Events
END:VEVENT
END:VCALENDAR