BEGIN:VCALENDAR
VERSION:2.0
PRODID:-//Building Hope Summit -&nbsp; - ECPv6.15.18//NONSGML v1.0//EN
CALSCALE:GREGORIAN
METHOD:PUBLISH
X-WR-CALNAME:Building Hope Summit -&nbsp;
X-ORIGINAL-URL:https://buildinghopesummit.org/es
X-WR-CALDESC:Eventos para Building Hope Summit -&nbsp;
REFRESH-INTERVAL;VALUE=DURATION:PT1H
X-Robots-Tag:noindex
X-PUBLISHED-TTL:PT1H
BEGIN:VTIMEZONE
TZID:America/Denver
BEGIN:DAYLIGHT
TZOFFSETFROM:-0700
TZOFFSETTO:-0600
TZNAME:MDT
DTSTART:20240310T090000
END:DAYLIGHT
BEGIN:STANDARD
TZOFFSETFROM:-0600
TZOFFSETTO:-0700
TZNAME:MST
DTSTART:20241103T080000
END:STANDARD
BEGIN:DAYLIGHT
TZOFFSETFROM:-0700
TZOFFSETTO:-0600
TZNAME:MDT
DTSTART:20250309T090000
END:DAYLIGHT
BEGIN:STANDARD
TZOFFSETFROM:-0600
TZOFFSETTO:-0700
TZNAME:MST
DTSTART:20251102T080000
END:STANDARD
BEGIN:DAYLIGHT
TZOFFSETFROM:-0700
TZOFFSETTO:-0600
TZNAME:MDT
DTSTART:20260308T090000
END:DAYLIGHT
BEGIN:STANDARD
TZOFFSETFROM:-0600
TZOFFSETTO:-0700
TZNAME:MST
DTSTART:20261101T080000
END:STANDARD
END:VTIMEZONE
BEGIN:VEVENT
DTSTART;TZID=America/Denver:20250106T090000
DTEND;TZID=America/Denver:20250106T120000
DTSTAMP:20260422T124909
CREATED:20241104T224849Z
LAST-MODIFIED:20241104T224849Z
UID:16071-1736154000-1736164800@buildinghopesummit.org
SUMMARY:FIRC Open Enrollment Walk-ins
DESCRIPTION:
URL:https://buildinghopesummit.org/es/calendar_default/firc-open-enrollment-walk-ins-23/
LOCATION:CO
ATTACH;FMTTYPE=image/png:https://buildinghopesummit.org/wp-content/uploads/2024/10/OE-November-2.png
END:VEVENT
BEGIN:VEVENT
DTSTART;TZID=America/Denver:20250106T180000
DTEND;TZID=America/Denver:20250106T200000
DTSTAMP:20260422T124909
CREATED:20241217T140840Z
LAST-MODIFIED:20241217T140840Z
UID:17091-1736186400-1736193600@buildinghopesummit.org
SUMMARY:Connectedness  Expressive Art
DESCRIPTION:Join Expressive Artist Kathye Conti to explore the role art plays in promoting personal well-being and connectedness. We will do a painting class called Light Within the Darkness. \n“ I will Love the Light for it shows me the way\, Yet\, I will endure the darkness for it shows me the stars.” \nIn this space\, we will paint and surrender to our intuition through color\, shape and form. We will let go of expectations\, trusting the process while we explore and journey into the unknown of creating light within the darkness. \nThis event is all-ages\, however childcare will not be provided. \nAll children 12 and under must be accompanied by and adult.
URL:https://buildinghopesummit.org/es/calendar_default/connectedness-expressive-art/
LOCATION:Silverthorne Library\, SILVERTHORNE\, Silverthorne\, CO\, 80498\, United States
CATEGORIES:Connecting Events
END:VEVENT
END:VCALENDAR