BEGIN:VCALENDAR
VERSION:2.0
PRODID:-//Building Hope Summit -&nbsp; - ECPv6.15.18//NONSGML v1.0//EN
CALSCALE:GREGORIAN
METHOD:PUBLISH
X-WR-CALNAME:Building Hope Summit -&nbsp;
X-ORIGINAL-URL:https://buildinghopesummit.org/es
X-WR-CALDESC:Eventos para Building Hope Summit -&nbsp;
REFRESH-INTERVAL;VALUE=DURATION:PT1H
X-Robots-Tag:noindex
X-PUBLISHED-TTL:PT1H
BEGIN:VTIMEZONE
TZID:America/Denver
BEGIN:DAYLIGHT
TZOFFSETFROM:-0700
TZOFFSETTO:-0600
TZNAME:MDT
DTSTART:20240310T090000
END:DAYLIGHT
BEGIN:STANDARD
TZOFFSETFROM:-0600
TZOFFSETTO:-0700
TZNAME:MST
DTSTART:20241103T080000
END:STANDARD
BEGIN:DAYLIGHT
TZOFFSETFROM:-0700
TZOFFSETTO:-0600
TZNAME:MDT
DTSTART:20250309T090000
END:DAYLIGHT
BEGIN:STANDARD
TZOFFSETFROM:-0600
TZOFFSETTO:-0700
TZNAME:MST
DTSTART:20251102T080000
END:STANDARD
BEGIN:DAYLIGHT
TZOFFSETFROM:-0700
TZOFFSETTO:-0600
TZNAME:MDT
DTSTART:20260308T090000
END:DAYLIGHT
BEGIN:STANDARD
TZOFFSETFROM:-0600
TZOFFSETTO:-0700
TZNAME:MST
DTSTART:20261101T080000
END:STANDARD
END:VTIMEZONE
BEGIN:VEVENT
DTSTART;TZID=America/Denver:20250110T120000
DTEND;TZID=America/Denver:20250110T134500
DTSTAMP:20260420T045152
CREATED:20241217T141447Z
LAST-MODIFIED:20241218T013315Z
UID:17094-1736510400-1736516700@buildinghopesummit.org
SUMMARY:Mindfulness Snowshoe with Leslie Glenn
DESCRIPTION:Enjoy the beauty of Summit County and immerse yourself in the healing powers of nature on this winter adventure. We will pause along the way to reflect\, connect and create meaningful conversations centered in mental health and well being. \nPlease wear waterproof boots\, warm layers\, and be prepared to be outside for 2 hours. \nParticipation by those under 18 must be accompanied by an adult. No childcare is provided.
URL:https://buildinghopesummit.org/es/calendar_default/mindfulness-snowshoe-with-leslie-glenn/
LOCATION:Breckenridge Nordic Center\, 9 Grandview Drive\, Breckenridge\, CO\, 80424\, United States
CATEGORIES:Connecting Events
END:VEVENT
END:VCALENDAR