BEGIN:VCALENDAR
VERSION:2.0
PRODID:-//Building Hope Summit -&nbsp; - ECPv6.15.18//NONSGML v1.0//EN
CALSCALE:GREGORIAN
METHOD:PUBLISH
X-ORIGINAL-URL:https://buildinghopesummit.org/es
X-WR-CALDESC:Eventos para Building Hope Summit -&nbsp;
REFRESH-INTERVAL;VALUE=DURATION:PT1H
X-Robots-Tag:noindex
X-PUBLISHED-TTL:PT1H
BEGIN:VTIMEZONE
TZID:America/Denver
BEGIN:DAYLIGHT
TZOFFSETFROM:-0700
TZOFFSETTO:-0600
TZNAME:MDT
DTSTART:20240310T090000
END:DAYLIGHT
BEGIN:STANDARD
TZOFFSETFROM:-0600
TZOFFSETTO:-0700
TZNAME:MST
DTSTART:20241103T080000
END:STANDARD
BEGIN:DAYLIGHT
TZOFFSETFROM:-0700
TZOFFSETTO:-0600
TZNAME:MDT
DTSTART:20250309T090000
END:DAYLIGHT
BEGIN:STANDARD
TZOFFSETFROM:-0600
TZOFFSETTO:-0700
TZNAME:MST
DTSTART:20251102T080000
END:STANDARD
BEGIN:DAYLIGHT
TZOFFSETFROM:-0700
TZOFFSETTO:-0600
TZNAME:MDT
DTSTART:20260308T090000
END:DAYLIGHT
BEGIN:STANDARD
TZOFFSETFROM:-0600
TZOFFSETTO:-0700
TZNAME:MST
DTSTART:20261101T080000
END:STANDARD
END:VTIMEZONE
BEGIN:VEVENT
DTSTART;TZID=America/Denver:20250124T170000
DTEND;TZID=America/Denver:20250124T180000
DTSTAMP:20260420T044503
CREATED:20241217T143332Z
LAST-MODIFIED:20241217T143332Z
UID:17105-1737738000-1737741600@buildinghopesummit.org
SUMMARY:HYPE: Teen Snow Tubing
DESCRIPTION:Come on down to the Frisco Adventure Park for a fun evening of tubing! \nWhat do you need? \nWinter clothes-dress for the weather \nSnow pants and jacket \nSnow gloves \nSnacks \nWater \nIMPORTANT: Please help us by filling out the respective waiver. Thank you. \nhttps://waiver.smartwaiver.com/w/rmkba8xhw3vvhfahs9rnai/web/ \n*This event is limited to Summit County Residents Ages 12-18.
URL:https://buildinghopesummit.org/es/calendar_default/hype-teen-snow-tubing/
LOCATION:Frisco Adventure Park\, 621 Recreation Way\, Frisco\, CO\, 80443\, United States
CATEGORIES:Hype
END:VEVENT
END:VCALENDAR