BEGIN:VCALENDAR
VERSION:2.0
PRODID:-//Building Hope Summit -&nbsp; - ECPv6.15.18//NONSGML v1.0//EN
CALSCALE:GREGORIAN
METHOD:PUBLISH
X-ORIGINAL-URL:https://buildinghopesummit.org/es
X-WR-CALDESC:Eventos para Building Hope Summit -&nbsp;
REFRESH-INTERVAL;VALUE=DURATION:PT1H
X-Robots-Tag:noindex
X-PUBLISHED-TTL:PT1H
BEGIN:VTIMEZONE
TZID:America/Denver
BEGIN:DAYLIGHT
TZOFFSETFROM:-0700
TZOFFSETTO:-0600
TZNAME:MDT
DTSTART:20240310T090000
END:DAYLIGHT
BEGIN:STANDARD
TZOFFSETFROM:-0600
TZOFFSETTO:-0700
TZNAME:MST
DTSTART:20241103T080000
END:STANDARD
BEGIN:DAYLIGHT
TZOFFSETFROM:-0700
TZOFFSETTO:-0600
TZNAME:MDT
DTSTART:20250309T090000
END:DAYLIGHT
BEGIN:STANDARD
TZOFFSETFROM:-0600
TZOFFSETTO:-0700
TZNAME:MST
DTSTART:20251102T080000
END:STANDARD
BEGIN:DAYLIGHT
TZOFFSETFROM:-0700
TZOFFSETTO:-0600
TZNAME:MDT
DTSTART:20260308T090000
END:DAYLIGHT
BEGIN:STANDARD
TZOFFSETFROM:-0600
TZOFFSETTO:-0700
TZNAME:MST
DTSTART:20261101T080000
END:STANDARD
END:VTIMEZONE
BEGIN:VEVENT
DTSTART;TZID=America/Denver:20250920T100000
DTEND;TZID=America/Denver:20250920T120000
DTSTAMP:20260425T124036
CREATED:20250817T231853Z
LAST-MODIFIED:20250817T231853Z
UID:20212-1758362400-1758369600@buildinghopesummit.org
SUMMARY:Expression Wall by Simple Studio (Bilingual)
DESCRIPTION:Bring your family and let creativity and community come together in this imaginative mural workshop at The Art Spot! \nParticipants of this event will help create an idea for a mural that represents community members’ values and can bring awareness to the importance of wellness and mental health. All this while creating an environment of trust\, love\, respect and connection with other members of the community and their families. \nNo childcare or supervision of children is being provided. \nThis event is intended for Summit County residents only. \nEvent Facilitated in English and Spanish.
URL:https://buildinghopesummit.org/es/calendar_default/expression-wall-by-simple-studio-bilingual/
LOCATION:Art Spot Silverthorne Makerspace\, 401 Blue River Parkway\, Silverthorne\, CO\, 80498\, United States
CATEGORIES:Family Connectedness
END:VEVENT
END:VCALENDAR